Workbook
Name DPH: Sheet4!$A$1:$A$17
Name DY: Sheet5!$A$1:$A$5
Name Source: Sheet48!$A$1:$A$5
Name YesNo: Sheet1!$A$1:$A$2

Sheet Instructions
A1: CA 1115 Waiver - Delivery System Reform Incentive Payments (DSRIP)
A2: Reporting Form Instructions
A4: Dates Reports are Due
A6: DPH systems submit this report to the State twice a year:
C8: DY 6 (6-month) | D8: 40604
C9: DY 6 (year-end) | D9: 40678
C10: DY 7 (6-month) | D10: 40999
C11: DY 7 (year-end) | D11: 41182
C12: DY 8 (6-month) | D12: 41364
C13: DY 8 (year-end) | D13: 41547
C14: DY 9 (6-month) | D14: 41729
C15: DY 9 (year-end) | D15: 41912
C16: DY 10 (6-month) | D16: 42094
C17: DY 10 (year-end) | D17: 42277
A20: Use of This Reporting Form
A22: All DPH systems must use this reporting form template for reports starting May 15, 2011.
A23: For the year-end report, DPH systems will include the year-end narrative, the year-end report, and reattach the
B24: previously submitted 6-month report.
A25: DPH systems should follow the instructions at the top of each tab for completing the form. DPH systems should
B26: complete information for items marked "*" for each project tab and milestone being reported.

Sheet Total Payment Amount
A1: CA 1115 Waiver - Delivery System Reform Incentive Payments (DSRIP)
A2: * | B2: DPH SYSTEM: | D2: Ventura County Medical Center
A3: * | B3: REPORTING YEAR: | D3: DY 6
A4: * | B4: DATE OF SUBMISSION: | D4: 40678
A5: Total Payment Amount
A7: This table sums the eligible incentive funding amounts. Please see the following pages for the specifics.
A8: * | B8: Instructions for DPH systems: Please input the DPH System Name, Reporting DY & Date. Everything else on this
A9: tab will automatically populate.
A11: Category 1 Projects - Incentive Funding Amounts
A12: Expand Primary Care Capacity | F12: ='Category 1 Summary'!F67
A14: Increase Training of Primary Care Workforce | F14: ='Category 1 Summary'!F122 -> 0
A16: Implement and Utilize Disease Management Registry Functionality | F16: ='Category 1 Summary'!F177
A18: Enhance Interpretation Services and Culturally Competent Care | F18: ='Category 1 Summary'!F232 -> 0
A20: Collect Accurate Race, Ethnicity, and Language (REAL) Data to Reduce Disparities | F20: ='Category 1 Summary'!F287
A22: Enhance Urgent Medical Advice | F22: ='Category 1 Summary'!F342
A24: Introduce Telemedicine | F24: ='Category 1 Summary'!F397
A26: Enhance Coding and Documentation for Quality Data | F26: ='Category 1 Summary'!F452
A28: Develop Risk Stratification Capabilities/Functionalities | F28: ='Category 1 Summary'!F507
A30: Expand Capacity to Provide Specialty Care Access in the Primary Care Setting | F30: ='Category 1 Summary'!F562
A32: Expand Specialty Care Capacity | F32: ='Category 1 Summary'!F617
A34: Enhance Performance Improvement and Reporting Capacity | F34: ='Category 1 Summary'!F672 -> 0
A36: TOTAL CATEGORY 1 INCENTIVE PAYMENT: | F36: =SUM(F12,F14,F16,F18,F20,F22,F24,F26,F28,F30,F32,F34) -> 0
A38: Category 2 Projects
A39: Expand Medical Homes | F39: ='Category 2 Summary'!F67
A41: Expand Chronic Care Management Models | F41: ='Category 2 Summary'!F122 -> 0
A43: Redesign Primary Care | F43: ='Category 2 Summary'!F177
A45: Redesign to Improve Patient Experience | F45: ='Category 2 Summary'!F232
A47: Redesign for Cost Containment | F47: ='Category 2 Summary'!F287
A49: Integrate Physical and Behavioral Health Care | F49: ='Category 2 Summary'!F342 -> 0
A51: Increase Specialty Care Access/Redesign Referral Process | F51: ='Category 2 Summary'!F397
A53: Establish/Expand a Patient Care Navigation Program | F53: ='Category 2 Summary'!F452
A55: Apply Process Improvement Methodology to Improve Quality/Efficiency | F55: ='Category 2 Summary'!F507
A57: Improve Patient Flow in the Emergency Department/Rapid Medical Evaluation | F57: ='Category 2 Summary'!F562
A59: Use Palliative Care Programs | F59: ='Category 2 Summary'!F617 -> 0
A61: Conduct Medication Management | F61: ='Category 2 Summary'!F672
A63: Implement/Expand Care Transitions Programs | F63: ='Category 2 Summary'!F727
A65: Implement Real-Time Hospital-Acquired Infections (HAIs) System | F65: ='Category 2 Summary'!F782
A67: TOTAL CATEGORY 2 INCENTIVE PAYMENT: | F67: =SUM(F39,F41,F43,F45,F47,F49,F51,F53,F55,F57,F59,F61,F63,F65) -> 0
A69: Category 3 Domains
A70: Patient/Care Giver Experience (required) | F70: ='Category 3 Summary'!F58
A72: Care Coordination (required) | F72: ='Category 3 Summary'!F91
A74: Preventive Health (required) | F74: ='Category 3 Summary'!F128
A76: At-Risk Populations (required) | F76: ='Category 3 Summary'!F175
A78: TOTAL CATEGORY 3 INCENTIVE PAYMENT: | F78: =SUM(F70,F72,F74,F76) -> 0
A80: Category 4 Interventions
A81: Severe Sepsis Detection and Management (required) | F81: ='Category 4 Summary'!F60 -> 0
A83: Central Line Associated Blood Stream Infection Prevention (required) | F83: ='Category 4 Summary'!F107 -> 0
A85: Surgical Site Infection Prevention | F85: ='Category 4 Summary'!F150 -> 0
A87: Hospital-Acquired Pressure Ulcer Prevention | F87: ='Category 4 Summary'!F193 -> 0
A89: Stroke Management | F89: ='Category 4 Summary'!F264
A91: Venous Thromboembolism (VTE) Prevention and Treatment | F91: ='Category 4 Summary'!F327
A93: Falls with Injury Prevention | F93: ='Category 4 Summary'!F370
A95: TOTAL CATEGORY 4 INCENTIVE PAYMENT: | F95: =SUM(F81,F83,F85,F87,F89,F91,F93) -> 0
A97: TOTAL INCENTIVE PAYMENT | F97: =SUM(F36,F67,F78,F95) -> 0

Sheet Year-End Narrative
A1: CA 1115 Waiver - Delivery System Reform Incentive Payments (DSRIP)
A2: ='Total Payment Amount'!B2 -> DPH SYSTEM: | D2: =IF('Total Payment Amount'!D2=0,"",'Total Payment Amount'!D2) -> Ventura County Medical Center
A3: ='Total Payment Amount'!B3 -> REPORTING YEAR: | D3: =IF('Total Payment Amount'!D3=0,"",'Total Payment Amount'!D3) -> DY 6
A4: ='Total Payment Amount'!B4 -> DATE OF SUBMISSION: | D4: =IF('Total Payment Amount'!D4=0,"",'Total Payment Amount'!D4) -> 40678
A5: Year-End Narrative
A7: This narrative summarizes the DSRIP activities performed in the reporting demonstration year.
A8: * | B8: Instructions for DPH systems: Please complete the narrative for year-end reports. The narrative must include
A9: a description of progress made, lessons learned, challenges faced, other pertinent findings and participation in
A10: shared learning.
A12: Summary of Demonstration Year Activities
B13: Category 1
A62: Summary of DPH System's Participation in Shared Learning
B63: Category 2
A118: Summary of DPH System's Participation in Shared Learning
B119: Category 4

Sheet Category 1 Summary
A1: ='Total Payment Amount'!A1 -> CA 1115 Waiver - Delivery System Reform Incentive Payments (DSRIP)
A2: ='Total Payment Amount'!B2 -> DPH SYSTEM: | D2: =IF('Total Payment Amount'!D2=0,"",'Total Payment Amount'!D2) -> Ventura County Medical Center
A3: ='Total Payment Amount'!B3 -> REPORTING YEAR: | D3: =IF('Total Payment Amount'!D3=0,"",'Total Payment Amount'!D3) -> DY 6
A4: ='Total Payment Amount'!B4 -> DATE OF SUBMISSION: | D4: =IF('Total Payment Amount'!D4=0,"",'Total Payment Amount'!D4) -> 40678
A5: Category 1 Summary Page
A7: This table is the summary of data reported for the DPH system. Please see the following pages for the specifics.
A8: * | B8: Instructions for DPH systems: Do not complete, this tab will automatically populate.
C9: The black boxes indicate Milestone achievements, either "yes/no", or the actual achievement # or %.
C10: The blue boxes show progress made toward the Milestone ("Achievement Value") of 1.0, 0.75. 0.5, 0.25 or 0.
C11: The red boxes indicate Total Sums.
A13: Category 1 Projects
A14: Expand Primary Care Capacity
B15: =#REF! -> #REF! | F15: =#REF! -> #REF!
C17: Achievement Value | F17: =#REF! -> #REF!
B19: =#REF! -> #REF! | F19: =#REF! -> #REF!
C21: Achievement Value | F21: =#REF! -> #REF!
B23: =#REF! -> #REF! | F23: =#REF! -> #REF!
C25: Achievement Value | F25: =#REF! -> #REF!
B27: =#REF! -> #REF! | F27: =#REF! -> #REF!
C29: Achievement Value | F29: =#REF! -> #REF!
B31: =#REF! -> #REF! | F31: =#REF! -> #REF!
C33: Achievement Value | F33: =#REF! -> #REF!
B35: =#REF! -> #REF! | F35: =#REF! -> #REF!
C37: Achievement Value | F37: =#REF! -> #REF!
B39: =#REF! -> #REF! | F39: =#REF! -> #REF!
C41: Achievement Value | F41: =#REF! -> #REF!
B43: =#REF! -> #REF! | F43: =#REF! -> #REF!
C45: Achievement Value | F45: =#REF! -> #REF!
B47: =#REF! -> #REF! | F47: =#REF! -> #REF!
C49: Achievement Value | F49: =#REF! -> #REF!
B51: =#REF! -> #REF! | F51: =#REF! -> #REF!
C53: Achievement Value | F53: =#REF! -> #REF!
B55: DY Total Computable Incentive Amount: | F55: =#REF! -> #REF!
B57: Total Sum of Achievement Values: | F57: =SUM(F53,F49,F45,F41,F37,F33,F29,F25,F21,F17) -> #REF!
B59: Total Number of Milestones: | F59: =COUNT(F53,F49,F45,F41,F37,F33,F29,F25,F21,F17) -> 0
B61: Achievement Value Percentage: | F61: =IF(F59=0," ",F57/F59)
B63: Eligible Incentive Funding Amount: | F63: =IF(F59=0," ",F61*F55)
B65: Incentive Funding Already Received in DY: | F65: =#REF! -> #REF!
B67: Incentive Payment Amount: | F67: =IF(F59=0," ",F63-F65)
A69: Increase Training of Primary Care Workforce
B70: ='Training Primary Care Workforce'!B22 -> Process Milestone: ________________________________ | D70: Develop a plan for expansion of the Family Medicine Residency program | F70: ='Training Primary Care Workforce'!F29 -> Yes
C72: Achievement Value | F72: ='Training Primary Care Workforce'!F44 -> 1
B74: ='Training Primary Care Workforce'!B47 -> Process Milestone: ________________________________ | F74: ='Training Primary Care Workforce'!F54 -> N/A
C76: Achievement Value | F76: ='Training Primary Care Workforce'!F69
B78: ='Training Primary Care Workforce'!B72 -> Process Milestone: ________________________________ | F78: ='Training Primary Care Workforce'!F79 -> N/A
C80: Achievement Value | F80: ='Training Primary Care Workforce'!F94
B82: ='Training Primary Care Workforce'!B97 -> Process Milestone: ________________________________ | F82: ='Training Primary Care Workforce'!F104 -> N/A
C84: Achievement Value | F84: ='Training Primary Care Workforce'!F144
B86: ='Training Primary Care Workforce'!B122 -> Process Milestone: ________________________________ | F86: ='Training Primary Care Workforce'!F129 -> N/A
C88: Achievement Value | F88: ='Training Primary Care Workforce'!F144
B90: ='Training Primary Care Workforce'!B147 -> Improvement Milestone: ________________________________ | F90: ='Training Primary Care Workforce'!F154 -> N/A
C92: Achievement Value | F92: ='Training Primary Care Workforce'!F169
B94: ='Training Primary Care Workforce'!B172 -> Improvement Milestone: ________________________________ | F94: ='Training Primary Care Workforce'!F179 -> N/A
C96: Achievement Value | F96: ='Training Primary Care Workforce'!F194
B98: ='Training Primary Care Workforce'!B197 -> Improvement Milestone: ________________________________ | F98: ='Training Primary Care Workforce'!F204 -> N/A
C100: Achievement Value | F100: ='Training Primary Care Workforce'!F219
B102: ='Training Primary Care Workforce'!B222 -> Improvement Milestone: ________________________________ | F102: ='Training Primary Care Workforce'!F229 -> N/A
C104: Achievement Value | F104: ='Training Primary Care Workforce'!F244
B106: ='Training Primary Care Workforce'!B247 -> Improvement Milestone: ________________________________ | F106: ='Training Primary Care Workforce'!F254 -> N/A
C108: Achievement Value | F108: ='Training Primary Care Workforce'!F269
B110: DY Total Computable Incentive Amount: | F110: ='Training Primary Care Workforce'!F18 -> 3964625
B112: Total Sum of Achievement Values: | F112: =SUM(F108,F104,F100,F96,F92,F88,F84,F80,F76,F72) -> 1
B114: Total Number of Milestones: | F114: =COUNT(F108,F104,F100,F96,F92,F88,F84,F80,F76,F72) -> 1
B116: Achievement Value Percentage: | F116: =IF(F114=0," ",F112/F114) -> 1
B118: Eligible Incentive Funding Amount: | F118: =IF(F114=0," ",F116*F110) -> 3964625
B120: Incentive Funding Already Received in DY: | F120: ='Training Primary Care Workforce'!F20 -> 3964625
B122: Incentive Payment Amount: | F122: =IF(F114=0," ",F118-F120) -> 0
A124: Implement and Utilize Disease Management Registry Functionality
B125: =#REF! -> #REF! | F125: =#REF! -> #REF!
C127: Achievement Value | F127: =#REF! -> #REF!
B129: =#REF! -> #REF! | F129: =#REF! -> #REF!
C131: Achievement Value | F131: =#REF! -> #REF!
B133: =#REF! -> #REF! | F133: =#REF! -> #REF!
C135: Achievement Value | F135: =#REF! -> #REF!
B137: =#REF! -> #REF! | F137: =#REF! -> #REF!
C139: Achievement Value | F139: =#REF! -> #REF!
B141: =#REF! -> #REF! | F141: =#REF! -> #REF!
C143: Achievement Value | F143: =#REF! -> #REF!
B145: =#REF! -> #REF! | F145: =#REF! -> #REF!
C147: Achievement Value | F147: =#REF! -> #REF!
B149: =#REF! -> #REF! | F149: =#REF! -> #REF!
C151: Achievement Value | F151: =#REF! -> #REF!
B153: =#REF! -> #REF! | F153: =#REF! -> #REF!
C155: Achievement Value | F155: =#REF! -> #REF!
B157: =#REF! -> #REF! | F157: =#REF! -> #REF!
C159: Achievement Value | F159: =#REF! -> #REF!
B161: =#REF! -> #REF! | F161: =#REF! -> #REF!
C163: Achievement Value | F163: =#REF! -> #REF!
B165: DY Total Computable Incentive Amount: | F165: =#REF! -> #REF!
B167: Total Sum of Achievement Values: | F167: =SUM(F163,F159,F155,F151,F147,F143,F139,F135,F131,F127) -> #REF!
B169: Total Number of Milestones: | F169: =COUNT(F163,F159,F155,F151,F147,F143,F139,F135,F131,F127) -> 0
B171: Achievement Value Percentage: | F171: =IF(F169=0," ",F167/F169)
B173: Eligible Incentive Funding Amount: | F173: =IF(F169=0," ",F171*F165)
B175: Incentive Funding Already Received in DY: | F175: =#REF! -> #REF!
B177: Incentive Payment Amount: | F177: =IF(F169=0," ",F173-F175)
A179: Enhance Interpretation Services and Culturally Competent Care
B180: ='Interpretation Services'!B22 -> Process Milestone: ________________________________ | D180: Collaborate with HCIN to install technology (dual phones and video conferencing) for interpretation at VCMC | F180: ='Interpretation Services'!F29 -> Yes
C182: Achievement Value | F182: ='Interpretation Services'!F44 -> 1
B184: ='Interpretation Services'!B47 -> Process Milestone: ________________________________ | D184: Designate one trilingual (English, Spanish, Mixteco) translator and train/certify as a health care interpreter, to provide direct interpretation services to OB patients in VCMC. | F184: ='Interpretation Services'!F54 -> Yes
C186: Achievement Value | F186: ='Interpretation Services'!F69 -> 1
...

Sheet Category 2 Summary
A1: ='Total Payment Amount'!A1 -> CA 1115 Waiver - Delivery System Reform Incentive Payments (DSRIP)
A2: ='Total Payment Amount'!B2 -> DPH SYSTEM: | D2: =IF('Total Payment Amount'!D2=0,"",'Total Payment Amount'!D2) -> Ventura County Medical Center
A3: ='Total Payment Amount'!B3 -> REPORTING YEAR: | D3: =IF('Total Payment Amount'!D3=0,"",'Total Payment Amount'!D3) -> DY 6
A4: ='Total Payment Amount'!B4 -> DATE OF SUBMISSION: | D4: =IF('Total Payment Amount'!D4=0,"",'Total Payment Amount'!D4) -> 40678
A5: Category 2 Summary Page
A7: This table is the summary of data reported for the DPH system. Please see the following pages for the specifics.
A8: * | B8: Instructions for DPH systems: Do not complete, this tab will automatically populate.
C9: The black boxes indicate Milestone achievements, either "yes/no", or the actual achievement # or %.
C10: The blue boxes show progress made toward the Milestone ("Achievement Value") of 1.0, 0.75. 0.5, 0.25 or 0.
C11: The red boxes indicate Total Sums.
A13: Category 2 Projects
A14: Expand Medical Homes
B15: =#REF! -> #REF! | F15: =#REF! -> #REF!
C17: Achievement Value | F17: =#REF! -> #REF!
B19: =#REF! -> #REF! | F19: =#REF! -> #REF!
C21: Achievement Value | F21: =#REF! -> #REF!
B23: =#REF! -> #REF! | F23: =#REF! -> #REF!
C25: Achievement Value | F25: =#REF! -> #REF!
B27: =#REF! -> #REF! | F27: =#REF! -> #REF!
C29: Achievement Value | F29: =#REF! -> #REF!
B31: =#REF! -> #REF! | F31: =#REF! -> #REF!
C33: Achievement Value | F33: =#REF! -> #REF!
B35: =#REF! -> #REF! | F35: =#REF! -> #REF!
C37: Achievement Value | F37: =#REF! -> #REF!
B39: =#REF! -> #REF! | F39: =#REF! -> #REF!
C41: Achievement Value | F41: =#REF! -> #REF!
B43: =#REF! -> #REF! | F43: =#REF! -> #REF!
C45: Achievement Value | F45: =#REF! -> #REF!
B47: =#REF! -> #REF! | F47: =#REF! -> #REF!
C49: Achievement Value | F49: =#REF! -> #REF!
B51: =#REF! -> #REF! | F51: =#REF! -> #REF!
C53: Achievement Value | F53: =#REF! -> #REF!
B55: DY Total Computable Incentive Amount: | F55: =#REF! -> #REF!
B57: Total Sum of Achievement Values: | F57: =SUM(F53,F49,F45,F41,F37,F33,F29,F25,F21,F17) -> #REF!
B59: Total Number of Milestones: | F59: =COUNT(F53,F49,F45,F41,F37,F33,F29,F25,F21,F17) -> 0
B61: Achievement Value Percentage: | F61: =IF(F59=0," ",F57/F59)
B63: Eligible Incentive Funding Amount: | F63: =IF(F59=0," ",F61*F55)
B65: Incentive Funding Already Received in DY: | F65: =#REF! -> #REF!
B67: Incentive Payment Amount: | F67: =IF(F59=0," ",F63-F65)
A69: Expand Chronic Care Management Models
B70: ='Chronic Care Management'!B22 -> Process Milestone: ________________________________ | D70: Develop a plan for a comprehensive care management program related to diabetes care | F70: ='Chronic Care Management'!F29 -> Yes
C72: Achievement Value | F72: ='Chronic Care Management'!F44 -> 1
B74: ='Chronic Care Management'!B47 -> Process Milestone: ________________________________ | F74: ='Chronic Care Management'!F54 -> N/A
C76: Achievement Value | F76: ='Chronic Care Management'!F69
B78: ='Chronic Care Management'!B72 -> Process Milestone: ________________________________ | F78: ='Chronic Care Management'!F79 -> N/A
C80: Achievement Value | F80: ='Chronic Care Management'!F94
B82: ='Chronic Care Management'!B97 -> Process Milestone: ________________________________ | F82: ='Chronic Care Management'!F104 -> N/A
C84: Achievement Value | F84: ='Chronic Care Management'!F119
B86: ='Chronic Care Management'!B122 -> Process Milestone: ________________________________ | F86: ='Chronic Care Management'!F129 -> N/A
C88: Achievement Value | F88: ='Chronic Care Management'!F144
B90: ='Chronic Care Management'!B147 -> Improvement Milestone: ________________________________ | F90: ='Chronic Care Management'!F154 -> N/A
C92: Achievement Value | F92: ='Chronic Care Management'!F169
B94: ='Chronic Care Management'!B172 -> Improvement Milestone: ________________________________ | F94: ='Chronic Care Management'!F179 -> N/A
C96: Achievement Value | F96: ='Chronic Care Management'!F194
B98: ='Chronic Care Management'!B197 -> Improvement Milestone: ________________________________ | F98: ='Chronic Care Management'!F204 -> N/A
C100: Achievement Value | F100: ='Chronic Care Management'!F219
B102: ='Chronic Care Management'!B222 -> Improvement Milestone: ________________________________ | F102: ='Chronic Care Management'!F229 -> N/A
C104: Achievement Value | F104: ='Chronic Care Management'!F244
B106: ='Chronic Care Management'!B247 -> Improvement Milestone: ________________________________ | F106: ='Chronic Care Management'!F254 -> N/A
C108: Achievement Value | F108: ='Chronic Care Management'!F269
B110: DY Total Computable Incentive Amount: | F110: ='Chronic Care Management'!F18 -> 3171700
B112: Total Sum of Achievement Values: | F112: =SUM(F108,F104,F100,F96,F92,F88,F84,F80,F76,F72) -> 1
B114: Total Number of Milestones: | F114: =COUNT(F108,F104,F100,F96,F92,F88,F84,F80,F76,F72) -> 1
B116: Achievement Value Percentage: | F116: =IF(F114=0," ",F112/F114) -> 1
B118: Eligible Incentive Funding Amount: | F118: =IF(F114=0," ",F116*F110) -> 3171700
B120: Incentive Funding Already Received in DY: | F120: ='Chronic Care Management'!F20 -> 3171700
B122: Incentive Payment Amount: | F122: =IF(F114=0," ",F118-F120) -> 0
A124: Redesign Primary Care
B125: =#REF! -> #REF! | F125: =#REF! -> #REF!
C127: Achievement Value | F127: =#REF! -> #REF!
B129: =#REF! -> #REF! | F129: =#REF! -> #REF!
C131: Achievement Value | F131: =#REF! -> #REF!
B133: =#REF! -> #REF! | F133: =#REF! -> #REF!
C135: Achievement Value | F135: =#REF! -> #REF!
B137: =#REF! -> #REF! | F137: =#REF! -> #REF!
C139: Achievement Value | F139: =#REF! -> #REF!
B141: =#REF! -> #REF! | F141: =#REF! -> #REF!
C143: Achievement Value | F143: =#REF! -> #REF!
B145: =#REF! -> #REF! | F145: =#REF! -> #REF!
C147: Achievement Value | F147: =#REF! -> #REF!
B149: =#REF! -> #REF! | F149: =#REF! -> #REF!
C151: Achievement Value | F151: =#REF! -> #REF!
B153: =#REF! -> #REF! | F153: =#REF! -> #REF!
C155: Achievement Value | F155: =#REF! -> #REF!
B157: =#REF! -> #REF! | F157: =#REF! -> #REF!
C159: Achievement Value | F159: =#REF! -> #REF!
B161: =#REF! -> #REF! | F161: =#REF! -> #REF!
C163: Achievement Value | F163: =#REF! -> #REF!
B165: DY Total Computable Incentive Amount: | F165: =#REF! -> #REF!
B167: Total Sum of Achievement Values: | F167: =SUM(F163,F159,F155,F151,F147,F143,F139,F135,F131,F127) -> #REF!
B169: Total Number of Milestones: | F169: =COUNT(F163,F159,F155,F151,F147,F143,F139,F135,F131,F127) -> 0
B171: Achievement Value Percentage: | F171: =IF(F169=0," ",F167/F169)
B173: Eligible Incentive Funding Amount: | F173: =IF(F169=0," ",F171*F165)
B175: Incentive Funding Already Received in DY: | F175: =#REF! -> #REF!
B177: Incentive Payment Amount: | F177: =IF(F169=0," ",F173-F175)
A179: Redesign to Improve Patient Experience
B180: =#REF! -> #REF! | F180: =#REF! -> #REF!
C182: Achievement Value | F182: =#REF! -> #REF!
B184: =#REF! -> #REF! | F184: =#REF! -> #REF!
C186: Achievement Value | F186: =#REF! -> #REF!
...

Sheet Category 3 Summary
A1: ='Total Payment Amount'!A1 -> CA 1115 Waiver - Delivery System Reform Incentive Payments (DSRIP)
A2: ='Total Payment Amount'!B2 -> DPH SYSTEM: | D2: =IF('Total Payment Amount'!D2=0,"",'Total Payment Amount'!D2) -> Ventura County Medical Center
A3: ='Total Payment Amount'!B3 -> REPORTING YEAR: | D3: =IF('Total Payment Amount'!D3=0,"",'Total Payment Amount'!D3) -> DY 6
A4: ='Total Payment Amount'!B4 -> DATE OF SUBMISSION: | D4: =IF('Total Payment Amount'!D4=0,"",'Total Payment Amount'!D4) -> 40678
A5: Category 3 Summary Page
A7: This table is the summary of data reported for the DPH system. Please see the following pages for the specifics.
A8: * | B8: Instructions for DPH systems: Do not complete, this tab will automatically populate.
C9: The black boxes indicate Milestone achievements, either "yes/no", or the actual achievement # or %.
C10: The blue boxes show progress made toward the Milestone ("Achievement Value") of 1.0, 0.75. 0.5, 0.25 or 0.
C11: The red boxes indicate Total Sums.
A13: Category 3 Domains
A14: =#REF! -> #REF!
B15: =#REF! -> #REF!
B16: =#REF! -> #REF! | F16: =#REF! -> #REF!
C18: Achievement Value | F18: =#REF! -> #REF!
B20: =#REF! -> #REF!
B21: =#REF! -> #REF! | F21: =#REF! -> #REF!
C22: Numerator: Number of patients in population expiring during current month hospitalization with sepsis, severe sepsis or septic shock and/or an infection and organ dysfunction. Denominator: Number of patients identified in the population that month with sepsis, severe sepsis or septic shock and/or an infection and organ dysfunction.
C24: Achievement Value | F24: =#REF! -> #REF!
B26: =#REF! -> #REF!
B27: =#REF! -> #REF! | F27: =#REF! -> #REF!
C29: Achievement Value | F29: =#REF! -> #REF!
B31: =#REF! -> #REF!
B32: =#REF! -> #REF! | F32: =#REF! -> #REF!
C34: Achievement Value | F34: =#REF! -> #REF!
B36: =#REF! -> #REF!
B37: =#REF! -> #REF! | F37: =#REF! -> #REF!
C39: Achievement Value | F39: =#REF! -> #REF!
B41: =#REF! -> #REF!
B42: =#REF! -> #REF! | F42: =#REF! -> #REF!
C44: Achievement Value | F44: =#REF! -> #REF!
B46: DY Total Computable Incentive Amount: | F46: =#REF! -> #REF!
B48: Total Sum of Achievement Values: | F48: =SUM(F18,F24,F29,F34,F39,F44) -> #REF!
B50: Total Number of Milestones: | F50: =COUNT(F18,F24,F29,F34,F39,F44) -> 0
B52: Achievement Value Percentage: | F52: =IF(F50=0," ",F48/F50)
B54: Eligible Incentive Funding Amount: | F54: =IF(F50=0," ",F52*F46)
B56: Incentive Funding Already Received in DY: | F56: =#REF! -> #REF!
B58: Incentive Payment Amount: | F58: =IF(F50=0," ",F54-F56)
A60: =#REF! -> #REF!
B61: =#REF! -> #REF!
B62: =#REF! -> #REF! | F62: =#REF! -> #REF!
C64: Achievement Value | F64: =#REF! -> #REF!
B66: =#REF! -> #REF! | F66: =#REF! -> #REF!
C68: Achievement Value | F68: =#REF! -> #REF!
B70: =#REF! -> #REF! | F70: =#REF! -> #REF!
C72: Achievement Value | F72: =#REF! -> #REF!
B74: =#REF! -> #REF!
B75: =#REF! -> #REF! | F75: =#REF! -> #REF!
C77: Achievement Value | F77: =#REF! -> #REF!
B79: DY Total Computable Incentive Amount: | F79: =#REF! -> #REF!
B81: Total Sum of Achievement Values: | F81: =SUM(F64,F68,F72,F77) -> #REF!
B83: Total Number of Milestones: | F83: =COUNT(F64,F68,F72,F77) -> 0
B85: Achievement Value Percentage: | F85: =IF(F83=0," ",F81/F83)
B87: Eligible Incentive Funding Amount: | F87: =IF(F83=0," ",F85*F79)
B89: Incentive Funding Already Received in DY: | F89: =#REF! -> #REF!
B91: Incentive Payment Amount: | F91: =IF(F83=0," ",F87-F89)
A93: =#REF! -> #REF!
B94: =#REF! -> #REF!
B95: =#REF! -> #REF! | F95: =#REF! -> #REF!
C97: Achievement Value | F97: =#REF! -> #REF!
B99: =#REF! -> #REF! | F99: =#REF! -> #REF!
C101: Achievement Value | F101: =#REF! -> #REF!
B103: =#REF! -> #REF! | F103: =#REF! -> #REF!
C105: Achievement Value | F105: =#REF! -> #REF!
B107: =#REF! -> #REF!
B108: =#REF! -> #REF! | F108: =#REF! -> #REF!
C110: Achievement Value | F110: =#REF! -> #REF!
B112: =#REF! -> #REF! | F112: =#REF! -> #REF!
C114: Achievement Value | F114: =#REF! -> #REF!
B116: DY Total Computable Incentive Amount: | F116: =#REF! -> #REF!
B118: Total Sum of Achievement Values: | F118: =SUM(F97,F101,F105,F110,F114) -> #REF!
B120: Total Number of Milestones: | F120: =COUNT(F97,F101,F105,F110,F114) -> 0
B122: Achievement Value Percentage: | F122: =IF(F120=0," ",F118/F120)
B124: Eligible Incentive Funding Amount: | F124: =IF(F120=0," ",F122*F116)
B126: Incentive Funding Already Received in DY: | F126: =#REF! -> #REF!
B128: Incentive Payment Amount: | F128: =IF(F120=0," ",F124-F126)
A130: =#REF! -> #REF!
B131: =#REF! -> #REF!
B132: =#REF! -> #REF! | F132: =#REF! -> #REF!
C134: Achievement Value | F134: =#REF! -> #REF!
B136: =#REF! -> #REF!
B137: =#REF! -> #REF! | F137: =#REF! -> #REF!
C139: Achievement Value | F139: =#REF! -> #REF!
B141: =#REF! -> #REF!
B142: =#REF! -> #REF! | F142: =#REF! -> #REF!
C144: Achievement Value | F144: =#REF! -> #REF!
B146: =#REF! -> #REF!
B147: =#REF! -> #REF! | F147: =#REF! -> #REF!
C149: Achievement Value | F149: =#REF! -> #REF!
B151: =#REF! -> #REF! | F151: =#REF! -> #REF!
C153: Achievement Value | F153: =#REF! -> #REF!
B155: =#REF! -> #REF! | F155: =#REF! -> #REF!
C157: Achievement Value | F157: =#REF! -> #REF!
B159: =#REF! -> #REF! | F159: =#REF! -> #REF!
C161: Achievement Value | F161: =#REF! -> #REF!
B163: DY Total Computable Incentive Amount: | F163: =#REF! -> #REF!
B165: Total Sum of Achievement Values: | F165: =SUM(F134,F139,F144,F149,F153,F157,F161) -> #REF!
B167: Total Number of Milestones: | F167: =COUNT(F134,F139,F144,F149,F153,F157,F161) -> 0
B169: Achievement Value Percentage: | F169: =IF(F167=0," ",F165/F167)
B171: Eligible Incentive Funding Amount: | F171: =IF(F167=0," ",F169*F163)
...

Sheet Category 4 Summary
A1: ='Total Payment Amount'!A1 -> CA 1115 Waiver - Delivery System Reform Incentive Payments (DSRIP)
A2: ='Total Payment Amount'!B2 -> DPH SYSTEM: | D2: =IF('Total Payment Amount'!D2=0,"",'Total Payment Amount'!D2) -> Ventura County Medical Center
A3: ='Total Payment Amount'!B3 -> REPORTING YEAR: | D3: =IF('Total Payment Amount'!D3=0,"",'Total Payment Amount'!D3) -> DY 6
A4: ='Total Payment Amount'!B4 -> DATE OF SUBMISSION: | D4: =IF('Total Payment Amount'!D4=0,"",'Total Payment Amount'!D4) -> 40678
A5: Category 4 Summary Page
A7: This table is the summary of data reported for the DPH system. Please see the following pages for the specifics.
A8: * | B8: Instructions for DPH systems: Do not complete, this tab will automatically populate.
C9: The black boxes indicate Milestone achievements, either "yes/no", or the actual achievement # or %.
C10: The blue boxes show progress made toward the Milestone ("Achievement Value") of 1.0, 0.75. 0.5, 0.25 or 0.
C11: The red boxes indicate Total Sums.
A13: Category 4 Interventions
A14: Severe Sepsis Detection and Management (required)
B15: =Sepsis!B21 -> Compliance with Sepsis Resuscitation bundle (%) | F15: =Sepsis!F27 -> N/A
C17: Achievement Value | F17: =Sepsis!F31
B19: =Sepsis!B34 -> Sepis Mortality (%) | F19: =Sepsis!F40 -> N/A
C20: Numerator: Number of patients in population expiring during current month hospitalization with sepsis, severe sepsis or septic shock and/or an infection and organ dysfunction. Denominator: Number of patients identified in the population that month with sepsis, severe sepsis or septic shock and/or an infection and organ dysfunction.
C22: Achievement Value | F22: =Sepsis!F44
B24: =Sepsis!B47 -> Optional Milestone: ________________________________ | D24: Designate multidisciplinary team to improve Sever Sepsis Detection and Management | F24: =Sepsis!F54 -> Yes
C26: Achievement Value | F26: =Sepsis!F69 -> 1
B28: =Sepsis!B72 -> Optional Milestone: ________________________________ | F28: =Sepsis!F79 -> N/A
C30: Achievement Value | F30: =Sepsis!F94
B32: =Sepsis!B97 -> Optional Milestone: ________________________________ | F32: =Sepsis!F129 -> N/A
C34: Achievement Value | F34: =Sepsis!F144
B36: =Sepsis!B122 -> Optional Milestone: ________________________________ | F36: =Sepsis!F129 -> N/A
C38: Achievement Value | F38: =Sepsis!F144
B40: =Sepsis!B147 -> Optional Milestone: ________________________________ | F40: =Sepsis!F154 -> N/A
C42: Achievement Value | F42: =Sepsis!F169
B44: =Sepsis!B172 -> Optional Milestone: ________________________________ | F44: =Sepsis!F179 -> N/A
C46: Achievement Value | F46: =Sepsis!F194
B48: DY Total Computable Incentive Amount: | F48: =Sepsis!F17 -> 695750
B50: Total Sum of Achievement Values: | F50: =SUM(F17,F22,F26,F30,F34,F38,F42,F46) -> 1
B52: Total Number of Milestones: | F52: =COUNT(F17,F22,F26,F30,F34,F38,F42,F46) -> 1
B54: Achievement Value Percentage: | F54: =IF(F52=0," ",F50/F52) -> 1
B56: Eligible Incentive Funding Amount: | F56: =IF(F52=0," ",F54*F48) -> 695750
B58: Incentive Funding Already Received in DY: | F58: =Sepsis!F19 -> 695750
B60: Incentive Payment Amount: | F60: =IF(F52=0," ",F56-F58) -> 0
A62: Central Line Associated Blood Stream Infection Prevention (required)
B63: =CLABSI!B21 -> Compliance with Central Line Insertion Practices (CLIP) (%) | F63: =CLABSI!F27 -> N/A
C65: Achievement Value | F65: =CLABSI!F31
B67: =CLABSI!B34 -> Central Line Bloodstream Infection (Rate per 1,000 patient days) | F67: =CLABSI!F40 -> N/A
C69: Achievement Value | F69: =CLABSI!F44
B71: =CLABSI!B47 -> Optional Milestone: ________________________________ | D71: Designate a multidisciplinary Central Line Associated Bloodstream Infection (CLABSI) Team | F71: =CLABSI!F54 -> Yes
C73: Achievement Value | F73: =CLABSI!F69 -> 1
B75: =CLABSI!B72 -> Optional Milestone: ________________________________ | F75: =CLABSI!F79 -> N/A
C77: Achievement Value | F77: =CLABSI!F94
B79: =CLABSI!B97 -> Optional Milestone: ________________________________ | F79: =CLABSI!F104 -> N/A
C81: Achievement Value | F81: =CLABSI!F119
B83: =CLABSI!B122 -> Optional Milestone: ________________________________ | F83: =CLABSI!F129 -> N/A
C85: Achievement Value | F85: =CLABSI!F144
B87: =CLABSI!B147 -> Optional Milestone: ________________________________ | F87: =CLABSI!F154 -> N/A
C89: Achievement Value | F89: =CLABSI!F169
B91: =CLABSI!B172 -> Optional Milestone: ________________________________ | F91: =CLABSI!F179 -> N/A
C93: Achievement Value | F93: =CLABSI!F194
B95: DY Total Computable Incentive Amount: | F95: =CLABSI!F17 -> 695750
B97: Total Sum of Achievement Values: | F97: =SUM(F65,F69,F73,F77,F81,F85,F89,F93) -> 1
B99: Total Number of Milestones: | F99: =COUNT(F65,F69,F73,F77,F81,F85,F89,F93) -> 1
B101: Achievement Value Percentage: | F101: =IF(F99=0," ",F97/F99) -> 1
B103: Eligible Incentive Funding Amount: | F103: =IF(F99=0," ",F101*F95) -> 695750
B105: Incentive Funding Already Received in DY: | F105: =CLABSI!F19 -> 695750
B107: Incentive Payment Amount: | F107: =IF(F99=0," ",F103-F105) -> 0
A109: Surgical Site Infection Prevention
B110: =SSI!B22 -> Rate of surgical site infection for Class 1 and 2 wounds (%) | F110: =SSI!F28 -> N/A
C112: Achievement Value | F112: =SSI!F32
B114: =SSI!B35 -> Optional Milestone: ________________________________ | D114: Develop a process to track and report SSI related to procedures reportable to the State of California | F114: =SSI!F42 -> Yes
C116: Achievement Value | F116: =SSI!F57 -> 1
B118: =SSI!B60 -> Optional Milestone: ________________________________ | F118: =SSI!F67 -> N/A
C120: Achievement Value | F120: =SSI!F82
B122: =SSI!B85 -> Optional Milestone: ________________________________ | F122: =SSI!F92 -> N/A
C124: Achievement Value | F124: =SSI!F107
B126: =SSI!B110 -> Optional Milestone: ________________________________ | F126: =SSI!F117 -> N/A
C128: Achievement Value | F128: =SSI!F132
B130: =SSI!B135 -> Optional Milestone: ________________________________ | F130: =SSI!F142 -> N/A
C132: Achievement Value | F132: =SSI!F157
B134: =SSI!B160 -> Optional Milestone: ________________________________ | F134: =SSI!F167 -> N/A
C136: Achievement Value | F136: =SSI!F182
B138: DY Total Computable Incentive Amount: | F138: =SSI!F18 -> 695750
B140: Total Sum of Achievement Values: | F140: =SUM(F112,F116,F120,F124,F128,F132,F136) -> 1
B142: Total Number of Milestones: | F142: =COUNT(F112,F116,F120,F124,F128,F132,F136) -> 1
B144: Achievement Value Percentage: | F144: =IF(F142=0," ",F140/F142) -> 1
B146: Eligible Incentive Funding Amount: | F146: =IF(F142=0," ",F144*F138) -> 695750
B148: Incentive Funding Already Received in DY: | F148: =SSI!F20 -> 695750
B150: Incentive Payment Amount: | F150: =IF(F142=0," ",F146-F148) -> 0
A152: Hospital-Acquired Pressure Ulcer Prevention
B153: =HAPU!B22 -> Prevalence of Stage II, III, IV or unstagable pressure ulcers (%) | F153: =HAPU!F28 -> N/A
C155: Achievement Value | F155: =HAPU!F32
B157: =HAPU!B35 -> Optional Milestone: ________________________________ | D157: Join a collaborative related to decreasing the occurrence of hospital acquired pressure ulcers (HAPU) | F157: =HAPU!F42 -> Yes
C159: Achievement Value | F159: =HAPU!F57 -> 1
B161: =HAPU!B60 -> Optional Milestone: ________________________________ | F161: =HAPU!F67 -> N/A
C163: Achievement Value | F163: =HAPU!F82
B165: =HAPU!B85 -> Optional Milestone: ________________________________ | F165: =HAPU!F92 -> N/A
C167: Achievement Value | F167: =HAPU!F107
B169: =HAPU!B110 -> Optional Milestone: ________________________________ | F169: =HAPU!F117 -> N/A
C171: Achievement Value | F171: =HAPU!F132
B173: =HAPU!B135 -> Optional Milestone: ________________________________ | F173: =HAPU!F142 -> N/A
C175: Achievement Value | F175: =HAPU!F157
B177: =HAPU!B160 -> Optional Milestone: ________________________________ | F177: =HAPU!F167 -> N/A
C179: Achievement Value | F179: =HAPU!F182
B181: DY Total Computable Incentive Amount: | F181: =HAPU!F18 -> 695750
B183: Total Sum of Achievement Values: | F183: =SUM(F155,F159,F163,F167,F171,F175,F179) -> 1
B185: Total Number of Milestones: | F185: =COUNT(F155,F159,F163,F167,F171,F175,F179) -> 1
...

Sheet Training Primary Care Workforce
A1: ='Total Payment Amount'!A1 -> CA 1115 Waiver - Delivery System Reform Incentive Payments (DSRIP)
A2: ='Total Payment Amount'!B2 -> DPH SYSTEM: | D2: =IF('Total Payment Amount'!D2=0,"",'Total Payment Amount'!D2) -> Ventura County Medical Center
A3: ='Total Payment Amount'!B3 -> REPORTING YEAR: | D3: =IF('Total Payment Amount'!D3=0,"",'Total Payment Amount'!D3) -> DY 6
A4: ='Total Payment Amount'!B4 -> DATE OF SUBMISSION: | D4: =IF('Total Payment Amount'!D4=0,"",'Total Payment Amount'!D4) -> 40678
D5: REPORTING ON THIS PROJECT: | E5: * | F5: Yes
A6: Category 1: Increase Training of Primary Care Workforce
A8: Below is the data reported for the DPH system.
A9: * | B9: Instructions for DPH systems: Please select above whether you are reporting on this project. If 'yes',
A10: please type in all of your DY milestones for the project below and report data in the indicated boxes (*).
A11: * | C11: The yellow boxes indicate where the DPH system should input data
C12: The black boxes indicate Milestones and will automatically populate and flow to summary sheets
C13: The blue boxes show progress made toward the Milestone ("Achievement Value") and will automatically
C14: populate and flow to summary sheets
A16: Increase Training of Primary Care Workforce
B18: DY Total Computable Incentive Amount: | E18: * | F18: 3964625
B20: Incentive Funding Already Received in DY: | E20: * | F20: 3964625
B22: Process Milestone: ________________________________ | D22: Develop a plan for expansion of the Family Medicine Residency Program
D23: (insert milestone)
B25: Numerator (if N/A, use "yes/no" form below; if absolute number, enter here) | E25: * | F25: Yes
B27: Denominator (if absolute number, enter "1") | E27: *
C29: Achievement | F29: =IF(F27>0,F25/F27,IF(F32>0,F32,"N/A")) -> Yes
B31: If "yes/no" as to whether the milestone has been achieved, select "yes" or "no" from the dropdown
B32: menu, and (if "yes") provide an in-depth description of how the milestone was achieved: | E32: * | F32: Yes
B34: Plan developed for expansion of Residency program was completed. Submitted Residency complement expansion request to the National Resident Matching Program to increase the number of Residents from 14 to 16. Submission was completed in January 2011. In March 2011, match process completed with a full complement of 16 Residents to begin in June 2011.
B42: DY Target (from the DPH system plan) or enter "yes" if "yes/no" type of milestone | E42: * | F42: yes
C44: Achievement Value | F44: =IF(F42=0," ",IF(F32="Yes",1,IF(F32="No",0,IF(F29/F42>=1,1,IF(F29/F42>=0.75,0.75,IF(F29/F42>=0.5,0.5,IF(F29/F42>=0.25,0.25,0))))))) -> 1
B47: Process Milestone: ________________________________
D48: (insert milestone)
B50: Numerator (if N/A, use "yes/no" form below; if absolute number, enter here) | E50: *
B52: Denominator (if absolute number, enter "1") | E52: *
C54: Achievement | F54: =IF(F52>0,F50/F52,IF(F57>0,F57,"N/A")) -> N/A
B56: If "yes/no" as to whether the milestone has been achieved, select "yes" or "no" from the dropdown
B57: menu, and (if "yes") provide an in-depth description of how the milestone was achieved: | E57: *
B67: DY Target (from the DPH system plan) or enter "yes" if "yes/no" type of milestone | E67: *
C69: Achievement Value | F69: =IF(F67=0," ",IF(F57="Yes",1,IF(F57="No",0,IF(F54/F67>=1,1,IF(F54/F67>=0.75,0.75,IF(F54/F67>=0.5,0.5,IF(F54/F67>=0.25,0.25,0)))))))
B72: Process Milestone: ________________________________
D73: (insert milestone)
B75: Numerator (if N/A, use "yes/no" form below; if absolute number, enter here) | E75: *
B77: Denominator (if absolute number, enter "1") | E77: *
C79: Achievement | F79: =IF(F77>0,F75/F77,IF(F82>0,F82,"N/A")) -> N/A
B81: If "yes/no" as to whether the milestone has been achieved, select "yes" or "no" from the dropdown
B82: menu, and (if "yes") provide an in-depth description of how the milestone was achieved: | E82: *
B92: DY Target (from the DPH system plan) or enter "yes" if "yes/no" type of milestone | E92: *
C94: Achievement Value | F94: =IF(F92=0," ",IF(F82="Yes",1,IF(F82="No",0,IF(F79/F92>=1,1,IF(F79/F92>=0.75,0.75,IF(F79/F92>=0.5,0.5,IF(F79/F92>=0.25,0.25,0)))))))
B97: Process Milestone: ________________________________
D98: (insert milestone)
B100: Numerator (if N/A, use "yes/no" form below; if absolute number, enter here) | E100: *
B102: Denominator (if absolute number, enter "1") | E102: *
C104: Achievement | F104: =IF(F102>0,F100/F102,IF(F107>0,F107,"N/A")) -> N/A
B106: If "yes/no" as to whether the milestone has been achieved, select "yes" or "no" from the dropdown
B107: menu, and (if "yes") provide an in-depth description of how the milestone was achieved: | E107: *
B117: DY Target (from the DPH system plan) or enter "yes" if "yes/no" type of milestone | E117: *
C119: Achievement Value | F119: =IF(F117=0," ",IF(F107="Yes",1,IF(F107="No",0,IF(F104/F117>=1,1,IF(F104/F117>=0.75,0.75,IF(F104/F117>=0.5,0.5,IF(F104/F117>=0.25,0.25,0)))))))
B122: Process Milestone: ________________________________
D123: (insert milestone)
B125: Numerator (if N/A, use "yes/no" form below; if absolute number, enter here) | E125: *
B127: Denominator (if absolute number, enter "1") | E127: *
C129: Achievement | F129: =IF(F127>0,F125/F127,IF(F132>0,F132,"N/A")) -> N/A
B131: If "yes/no" as to whether the milestone has been achieved, select "yes" or "no" from the dropdown
B132: menu, and (if "yes") provide an in-depth description of how the milestone was achieved: | E132: *
B142: DY Target (from the DPH system plan) or enter "yes" if "yes/no" type of milestone | E142: *
C144: Achievement Value | F144: =IF(F142=0," ",IF(F132="Yes",1,IF(F132="No",0,IF(F129/F142>=1,1,IF(F129/F142>=0.75,0.75,IF(F129/F142>=0.5,0.5,IF(F129/F142>=0.25,0.25,0)))))))
B147: Improvement Milestone: ________________________________
D148: (insert milestone)
B150: Numerator (if N/A, use "yes/no" form below; if absolute number, enter here) | E150: *
B152: Denominator (if absolute number, enter "1") | E152: *
C154: Achievement | F154: =IF(F152>0,F150/F152,IF(F157>0,F157,"N/A")) -> N/A
B156: If "yes/no" as to whether the milestone has been achieved, select "yes" or "no" from the dropdown
B157: menu, and (if "yes") provide an in-depth description of how the milestone was achieved: | E157: *
B167: DY Target (from the DPH system plan) or enter "yes" if "yes/no" type of milestone | E167: *
C169: Achievement Value | F169: =IF(F167=0," ",IF(F157="Yes",1,IF(F157="No",0,IF(F154/F167>=1,1,IF(F154/F167>=0.75,0.75,IF(F154/F167>=0.5,0.5,IF(F154/F167>=0.25,0.25,0)))))))
B172: Improvement Milestone: ________________________________
D173: (insert milestone)
B175: Numerator (if N/A, use "yes/no" form below; if absolute number, enter here) | E175: *
B177: Denominator (if absolute number, enter "1") | E177: *
C179: Achievement | F179: =IF(F177>0,F175/F177,IF(F182>0,F182,"N/A")) -> N/A
B181: If "yes/no" as to whether the milestone has been achieved, select "yes" or "no" from the dropdown
B182: menu, and (if "yes") provide an in-depth description of how the milestone was achieved: | E182: *
B192: DY Target (from the DPH system plan) or enter "yes" if "yes/no" type of milestone | E192: *
C194: Achievement Value | F194: =IF(F192=0," ",IF(F182="Yes",1,IF(F182="No",0,IF(F179/F192>=1,1,IF(F179/F192>=0.75,0.75,IF(F179/F192>=0.5,0.5,IF(F179/F192>=0.25,0.25,0)))))))
B197: Improvement Milestone: ________________________________
D198: (insert milestone)
B200: Numerator (if N/A, use "yes/no" form below; if absolute number, enter here) | E200: *
B202: Denominator (if absolute number, enter "1") | E202: *
C204: Achievement | F204: =IF(F202>0,F200/F202,IF(F207>0,F207,"N/A")) -> N/A
B206: If "yes/no" as to whether the milestone has been achieved, select "yes" or "no" from the dropdown
B207: menu, and (if "yes") provide an in-depth description of how the milestone was achieved: | E207: *
B217: DY Target (from the DPH system plan) or enter "yes" if "yes/no" type of milestone | E217: *
C219: Achievement Value | F219: =IF(F217=0," ",IF(F207="Yes",1,IF(F207="No",0,IF(F204/F217>=1,1,IF(F204/F217>=0.75,0.75,IF(F204/F217>=0.5,0.5,IF(F204/F217>=0.25,0.25,0)))))))
B222: Improvement Milestone: ________________________________
D223: (insert milestone)
B225: Numerator (if N/A, use "yes/no" form below; if absolute number, enter here) | E225: *
B227: Denominator (if absolute number, enter "1") | E227: *
C229: Achievement | F229: =IF(F227>0,F225/F227,IF(F232>0,F232,"N/A")) -> N/A
B231: If "yes/no" as to whether the milestone has been achieved, select "yes" or "no" from the dropdown
B232: menu, and (if "yes") provide an in-depth description of how the milestone was achieved: | E232: *
B242: DY Target (from the DPH system plan) or enter "yes" if "yes/no" type of milestone | E242: *
C244: Achievement Value | F244: =IF(F242=0," ",IF(F232="Yes",1,IF(F232="No",0,IF(F229/F242>=1,1,IF(F229/F242>=0.75,0.75,IF(F229/F242>=0.5,0.5,IF(F229/F242>=0.25,0.25,0)))))))
B247: Improvement Milestone: ________________________________
D248: (insert milestone)
...

Sheet Interpretation Services
A1: ='Total Payment Amount'!A1 -> CA 1115 Waiver - Delivery System Reform Incentive Payments (DSRIP)
A2: ='Total Payment Amount'!B2 -> DPH SYSTEM: | D2: =IF('Total Payment Amount'!D2=0,"",'Total Payment Amount'!D2) -> Ventura County Medical Center
A3: ='Total Payment Amount'!B3 -> REPORTING YEAR: | D3: =IF('Total Payment Amount'!D3=0,"",'Total Payment Amount'!D3) -> DY 6
A4: ='Total Payment Amount'!B4 -> DATE OF SUBMISSION: | D4: =IF('Total Payment Amount'!D4=0,"",'Total Payment Amount'!D4) -> 40678
D5: REPORTING ON THIS PROJECT: | E5: * | F5: Yes
A6: Category 1: Enhance Interpretation Services and Culturally Competent Care
A8: Below is the data reported for the DPH system.
A9: * | B9: Instructions for DPH systems: Please select above whether you are reporting on this project. If 'yes',
A10: please type in all of your DY milestones for the project below and report data in the indicated boxes (*).
A11: * | C11: The yellow boxes indicate where the DPH system should input data
C12: The black boxes indicate Milestones and will automatically populate and flow to summary sheets
C13: The blue boxes show progress made toward the Milestone ("Achievement Value") and will automatically
C14: populate and flow to summary sheets
A16: Enhance Interpretation Services and Culturally Competent Care
B18: DY Total Computable Incentive Amount: | E18: * | F18: 7929250
B20: Incentive Funding Already Received in DY: | E20: * | F20: 7929250
D21: Collaborate with HCIN to install technology (dual phones and video conferencing) for interpretation at VCMC
B22: Process Milestone: ________________________________
D23: (insert milestone)
B25: Numerator (if N/A, use "yes/no" form below; if absolute number, enter here) | E25: * | F25: Yes
B27: Denominator (if absolute number, enter "1") | E27: *
C29: Achievement | F29: =IF(F27>0,F25/F27,IF(F32>0,F32,"N/A")) -> Yes
B31: If "yes/no" as to whether the milestone has been achieved, select "yes" or "no" from the dropdown
B32: menu, and (if "yes") provide an in-depth description of how the milestone was achieved: | E32: * | F32: Yes
B34: Acquired and opertationalized 5 HCIN terminals in the hospital in varying locations. Installation and activation was completed in February 2011. Hospitalwide training was completed in April 2011.
B42: DY Target (from the DPH system plan) or enter "yes" if "yes/no" type of milestone | E42: * | F42: Yes
C44: Achievement Value | F44: =IF(F42=0," ",IF(F32="Yes",1,IF(F32="No",0,IF(F29/F42>=1,1,IF(F29/F42>=0.75,0.75,IF(F29/F42>=0.5,0.5,IF(F29/F42>=0.25,0.25,0))))))) -> 1
D46: Designate one trilingual (English, Spanish, Mixteco) translator and train/certify as a health care interpreter, to provide direct interpretation services to OB patients in VCMC
B47: Process Milestone: ________________________________
D48: (insert milestone)
B50: Numerator (if N/A, use "yes/no" form below; if absolute number, enter here) | E50: * | F50: Yes
B52: Denominator (if absolute number, enter "1") | E52: *
C54: Achievement | F54: =IF(F52>0,F50/F52,IF(F57>0,F57,"N/A")) -> Yes
B56: If "yes/no" as to whether the milestone has been achieved, select "yes" or "no" from the dropdown
B57: menu, and (if "yes") provide an in-depth description of how the milestone was achieved: | E57: * | F57: Yes
B59: One trilingual translator was hired and trained to provide translation services within the hospital in January 2011. Translator began providing translation services in OB for 40 hours/week in February 2011 and is doing outreach in other areas of the hospital as well providing translation.
B67: DY Target (from the DPH system plan) or enter "yes" if "yes/no" type of milestone | E67: * | F67: Yes
C69: Achievement Value | F69: =IF(F67=0," ",IF(F57="Yes",1,IF(F57="No",0,IF(F54/F67>=1,1,IF(F54/F67>=0.75,0.75,IF(F54/F67>=0.5,0.5,IF(F54/F67>=0.25,0.25,0))))))) -> 1
B72: Process Milestone: ________________________________
D73: (insert milestone)
B75: Numerator (if N/A, use "yes/no" form below; if absolute number, enter here) | E75: *
B77: Denominator (if absolute number, enter "1") | E77: *
C79: Achievement | F79: =IF(F77>0,F75/F77,IF(F82>0,F82,"N/A")) -> N/A
B81: If "yes/no" as to whether the milestone has been achieved, select "yes" or "no" from the dropdown
B82: menu, and (if "yes") provide an in-depth description of how the milestone was achieved: | E82: *
B92: DY Target (from the DPH system plan) or enter "yes" if "yes/no" type of milestone | E92: *
C94: Achievement Value | F94: =IF(F92=0," ",IF(F82="Yes",1,IF(F82="No",0,IF(F79/F92>=1,1,IF(F79/F92>=0.75,0.75,IF(F79/F92>=0.5,0.5,IF(F79/F92>=0.25,0.25,0)))))))
B97: Process Milestone: ________________________________
D98: (insert milestone)
B100: Numerator (if N/A, use "yes/no" form below; if absolute number, enter here) | E100: *
B102: Denominator (if absolute number, enter "1") | E102: *
C104: Achievement | F104: =IF(F102>0,F100/F102,IF(F107>0,F107,"N/A")) -> N/A
B106: If "yes/no" as to whether the milestone has been achieved, select "yes" or "no" from the dropdown
B107: menu, and (if "yes") provide an in-depth description of how the milestone was achieved: | E107: *
B117: DY Target (from the DPH system plan) or enter "yes" if "yes/no" type of milestone | E117: *
C119: Achievement Value | F119: =IF(F117=0," ",IF(F107="Yes",1,IF(F107="No",0,IF(F104/F117>=1,1,IF(F104/F117>=0.75,0.75,IF(F104/F117>=0.5,0.5,IF(F104/F117>=0.25,0.25,0)))))))
B122: Process Milestone: ________________________________
D123: (insert milestone)
B125: Numerator (if N/A, use "yes/no" form below; if absolute number, enter here) | E125: *
B127: Denominator (if absolute number, enter "1") | E127: *
C129: Achievement | F129: =IF(F127>0,F125/F127,IF(F132>0,F132,"N/A")) -> N/A
B131: If "yes/no" as to whether the milestone has been achieved, select "yes" or "no" from the dropdown
B132: menu, and (if "yes") provide an in-depth description of how the milestone was achieved: | E132: *
B142: DY Target (from the DPH system plan) or enter "yes" if "yes/no" type of milestone | E142: *
C144: Achievement Value | F144: =IF(F142=0," ",IF(F132="Yes",1,IF(F132="No",0,IF(F129/F142>=1,1,IF(F129/F142>=0.75,0.75,IF(F129/F142>=0.5,0.5,IF(F129/F142>=0.25,0.25,0)))))))
B147: Improvement Milestone: ________________________________
D148: (insert milestone)
B150: Numerator (if N/A, use "yes/no" form below; if absolute number, enter here) | E150: *
B152: Denominator (if absolute number, enter "1") | E152: *
C154: Achievement | F154: =IF(F152>0,F150/F152,IF(F157>0,F157,"N/A")) -> N/A
B156: If "yes/no" as to whether the milestone has been achieved, select "yes" or "no" from the dropdown
B157: menu, and (if "yes") provide an in-depth description of how the milestone was achieved: | E157: *
B167: DY Target (from the DPH system plan) or enter "yes" if "yes/no" type of milestone | E167: *
C169: Achievement Value | F169: =IF(F167=0," ",IF(F157="Yes",1,IF(F157="No",0,IF(F154/F167>=1,1,IF(F154/F167>=0.75,0.75,IF(F154/F167>=0.5,0.5,IF(F154/F167>=0.25,0.25,0)))))))
B172: Improvement Milestone: ________________________________
D173: (insert milestone)
B175: Numerator (if N/A, use "yes/no" form below; if absolute number, enter here) | E175: *
B177: Denominator (if absolute number, enter "1") | E177: *
C179: Achievement | F179: =IF(F177>0,F175/F177,IF(F182>0,F182,"N/A")) -> N/A
B181: If "yes/no" as to whether the milestone has been achieved, select "yes" or "no" from the dropdown
B182: menu, and (if "yes") provide an in-depth description of how the milestone was achieved: | E182: *
B192: DY Target (from the DPH system plan) or enter "yes" if "yes/no" type of milestone | E192: *
C194: Achievement Value | F194: =IF(F192=0," ",IF(F182="Yes",1,IF(F182="No",0,IF(F179/F192>=1,1,IF(F179/F192>=0.75,0.75,IF(F179/F192>=0.5,0.5,IF(F179/F192>=0.25,0.25,0)))))))
B197: Improvement Milestone: ________________________________
D198: (insert milestone)
B200: Numerator (if N/A, use "yes/no" form below; if absolute number, enter here) | E200: *
B202: Denominator (if absolute number, enter "1") | E202: *
C204: Achievement | F204: =IF(F202>0,F200/F202,IF(F207>0,F207,"N/A")) -> N/A
B206: If "yes/no" as to whether the milestone has been achieved, select "yes" or "no" from the dropdown
B207: menu, and (if "yes") provide an in-depth description of how the milestone was achieved: | E207: *
B217: DY Target (from the DPH system plan) or enter "yes" if "yes/no" type of milestone | E217: *
C219: Achievement Value | F219: =IF(F217=0," ",IF(F207="Yes",1,IF(F207="No",0,IF(F204/F217>=1,1,IF(F204/F217>=0.75,0.75,IF(F204/F217>=0.5,0.5,IF(F204/F217>=0.25,0.25,0)))))))
B222: Improvement Milestone: ________________________________
D223: (insert milestone)
B225: Numerator (if N/A, use "yes/no" form below; if absolute number, enter here) | E225: *
B227: Denominator (if absolute number, enter "1") | E227: *
C229: Achievement | F229: =IF(F227>0,F225/F227,IF(F232>0,F232,"N/A")) -> N/A
B231: If "yes/no" as to whether the milestone has been achieved, select "yes" or "no" from the dropdown
B232: menu, and (if "yes") provide an in-depth description of how the milestone was achieved: | E232: *
B242: DY Target (from the DPH system plan) or enter "yes" if "yes/no" type of milestone | E242: *
...

Sheet Perf Improvement & Reporting
A1: ='Total Payment Amount'!A1 -> CA 1115 Waiver - Delivery System Reform Incentive Payments (DSRIP)
A2: ='Total Payment Amount'!B2 -> DPH SYSTEM: | D2: =IF('Total Payment Amount'!D2=0,"",'Total Payment Amount'!D2) -> Ventura County Medical Center
A3: ='Total Payment Amount'!B3 -> REPORTING YEAR: | D3: =IF('Total Payment Amount'!D3=0,"",'Total Payment Amount'!D3) -> DY 6
A4: ='Total Payment Amount'!B4 -> DATE OF SUBMISSION: | D4: =IF('Total Payment Amount'!D4=0,"",'Total Payment Amount'!D4) -> 40678
D5: REPORTING ON THIS PROJECT: | E5: * | F5: Yes
A6: Category 1: Enhance Performance Improvement and Reporting Capacity
A8: Below is the data reported for the DPH system.
A9: * | B9: Instructions for DPH systems: Please select above whether you are reporting on this project. If 'yes',
A10: please type in all of your DY milestones for the project below and report data in the indicated boxes (*).
A11: * | C11: The yellow boxes indicate where the DPH system should input data
C12: The black boxes indicate Milestones and will automatically populate and flow to summary sheets
C13: The blue boxes show progress made toward the Milestone ("Achievement Value") and will automatically
C14: populate and flow to summary sheets
A16: Enhance Performance Improvement and Reporting Capacity
B18: DY Total Computable Incentive Amount: | E18: * | F18: 3964625
B20: Incentive Funding Already Received in DY: | E20: * | F20: 3964625
D21: Restructure the Performance Improvement (PI) Department to manage data, improve trajectory and improvement activities (Lean) across the Helath Care Agency.
B22: Process Milestone: ________________________________
D23: (insert milestone)
B25: Numerator (if N/A, use "yes/no" form below; if absolute number, enter here) | E25: * | F25: Yes
B27: Denominator (if absolute number, enter "1") | E27: *
C29: Achievement | F29: =IF(F27>0,F25/F27,IF(F32>0,F32,"N/A")) -> Yes
B31: If "yes/no" as to whether the milestone has been achieved, select "yes" or "no" from the dropdown
B32: menu, and (if "yes") provide an in-depth description of how the milestone was achieved: | E32: * | F32: Yes
B34: Organizational restructure of Performance Improvement (PI) Department was implemented by having this department report directly to the Nurse Executive with a formal linkage to the Medical Staff Committees. By implementing this change, medical staff is involved in the PI process allowing for better endorsement of the PI projects. Policy and Procedure was updated to reflect the full integration of PI throughout the Health Care Agency. PI Manager was hired in November 2010 and completed Lean Training in March 2011. In March 2011, the first Kaizen using Lean principles which was to decrease patients that leave without being seen in the Emergency Department was completed.
B42: DY Target (from the DPH system plan) or enter "yes" if "yes/no" type of milestone | E42: * | F42: Yes
C44: Achievement Value | F44: =IF(F42=0," ",IF(F32="Yes",1,IF(F32="No",0,IF(F29/F42>=1,1,IF(F29/F42>=0.75,0.75,IF(F29/F42>=0.5,0.5,IF(F29/F42>=0.25,0.25,0))))))) -> 1
B47: Process Milestone: ________________________________
D48: (insert milestone)
B50: Numerator (if N/A, use "yes/no" form below; if absolute number, enter here) | E50: *
B52: Denominator (if absolute number, enter "1") | E52: *
C54: Achievement | F54: =IF(F52>0,F50/F52,IF(F57>0,F57,"N/A")) -> N/A
B56: If "yes/no" as to whether the milestone has been achieved, select "yes" or "no" from the dropdown
B57: menu, and (if "yes") provide an in-depth description of how the milestone was achieved: | E57: *
B67: DY Target (from the DPH system plan) or enter "yes" if "yes/no" type of milestone | E67: *
C69: Achievement Value | F69: =IF(F67=0," ",IF(F57="Yes",1,IF(F57="No",0,IF(F54/F67>=1,1,IF(F54/F67>=0.75,0.75,IF(F54/F67>=0.5,0.5,IF(F54/F67>=0.25,0.25,0)))))))
B72: Process Milestone: ________________________________
D73: (insert milestone)
B75: Numerator (if N/A, use "yes/no" form below; if absolute number, enter here) | E75: *
B77: Denominator (if absolute number, enter "1") | E77: *
C79: Achievement | F79: =IF(F77>0,F75/F77,IF(F82>0,F82,"N/A")) -> N/A
B81: If "yes/no" as to whether the milestone has been achieved, select "yes" or "no" from the dropdown
B82: menu, and (if "yes") provide an in-depth description of how the milestone was achieved: | E82: *
B92: DY Target (from the DPH system plan) or enter "yes" if "yes/no" type of milestone | E92: *
C94: Achievement Value | F94: =IF(F92=0," ",IF(F82="Yes",1,IF(F82="No",0,IF(F79/F92>=1,1,IF(F79/F92>=0.75,0.75,IF(F79/F92>=0.5,0.5,IF(F79/F92>=0.25,0.25,0)))))))
B97: Process Milestone: ________________________________
D98: (insert milestone)
B100: Numerator (if N/A, use "yes/no" form below; if absolute number, enter here) | E100: *
B102: Denominator (if absolute number, enter "1") | E102: *
C104: Achievement | F104: =IF(F102>0,F100/F102,IF(F107>0,F107,"N/A")) -> N/A
B106: If "yes/no" as to whether the milestone has been achieved, select "yes" or "no" from the dropdown
B107: menu, and (if "yes") provide an in-depth description of how the milestone was achieved: | E107: *
B117: DY Target (from the DPH system plan) or enter "yes" if "yes/no" type of milestone | E117: *
C119: Achievement Value | F119: =IF(F117=0," ",IF(F107="Yes",1,IF(F107="No",0,IF(F104/F117>=1,1,IF(F104/F117>=0.75,0.75,IF(F104/F117>=0.5,0.5,IF(F104/F117>=0.25,0.25,0)))))))
B122: Process Milestone: ________________________________
D123: (insert milestone)
B125: Numerator (if N/A, use "yes/no" form below; if absolute number, enter here) | E125: *
B127: Denominator (if absolute number, enter "1") | E127: *
C129: Achievement | F129: =IF(F127>0,F125/F127,IF(F132>0,F132,"N/A")) -> N/A
B131: If "yes/no" as to whether the milestone has been achieved, select "yes" or "no" from the dropdown
B132: menu, and (if "yes") provide an in-depth description of how the milestone was achieved: | E132: *
B142: DY Target (from the DPH system plan) or enter "yes" if "yes/no" type of milestone | E142: *
C144: Achievement Value | F144: =IF(F142=0," ",IF(F132="Yes",1,IF(F132="No",0,IF(F129/F142>=1,1,IF(F129/F142>=0.75,0.75,IF(F129/F142>=0.5,0.5,IF(F129/F142>=0.25,0.25,0)))))))
B147: Improvement Milestone: ________________________________
D148: (insert milestone)
B150: Numerator (if N/A, use "yes/no" form below; if absolute number, enter here) | E150: *
B152: Denominator (if absolute number, enter "1") | E152: *
C154: Achievement | F154: =IF(F152>0,F150/F152,IF(F157>0,F157,"N/A")) -> N/A
B156: If "yes/no" as to whether the milestone has been achieved, select "yes" or "no" from the dropdown
B157: menu, and (if "yes") provide an in-depth description of how the milestone was achieved: | E157: *
B167: DY Target (from the DPH system plan) or enter "yes" if "yes/no" type of milestone | E167: *
C169: Achievement Value | F169: =IF(F167=0," ",IF(F157="Yes",1,IF(F157="No",0,IF(F154/F167>=1,1,IF(F154/F167>=0.75,0.75,IF(F154/F167>=0.5,0.5,IF(F154/F167>=0.25,0.25,0)))))))
B172: Improvement Milestone: ________________________________
D173: (insert milestone)
B175: Numerator (if N/A, use "yes/no" form below; if absolute number, enter here) | E175: *
B177: Denominator (if absolute number, enter "1") | E177: *
C179: Achievement | F179: =IF(F177>0,F175/F177,IF(F182>0,F182,"N/A")) -> N/A
B181: If "yes/no" as to whether the milestone has been achieved, select "yes" or "no" from the dropdown
B182: menu, and (if "yes") provide an in-depth description of how the milestone was achieved: | E182: *
B192: DY Target (from the DPH system plan) or enter "yes" if "yes/no" type of milestone | E192: *
C194: Achievement Value | F194: =IF(F192=0," ",IF(F182="Yes",1,IF(F182="No",0,IF(F179/F192>=1,1,IF(F179/F192>=0.75,0.75,IF(F179/F192>=0.5,0.5,IF(F179/F192>=0.25,0.25,0)))))))
B197: Improvement Milestone: ________________________________
D198: (insert milestone)
B200: Numerator (if N/A, use "yes/no" form below; if absolute number, enter here) | E200: *
B202: Denominator (if absolute number, enter "1") | E202: *
C204: Achievement | F204: =IF(F202>0,F200/F202,IF(F207>0,F207,"N/A")) -> N/A
B206: If "yes/no" as to whether the milestone has been achieved, select "yes" or "no" from the dropdown
B207: menu, and (if "yes") provide an in-depth description of how the milestone was achieved: | E207: *
B217: DY Target (from the DPH system plan) or enter "yes" if "yes/no" type of milestone | E217: *
C219: Achievement Value | F219: =IF(F217=0," ",IF(F207="Yes",1,IF(F207="No",0,IF(F204/F217>=1,1,IF(F204/F217>=0.75,0.75,IF(F204/F217>=0.5,0.5,IF(F204/F217>=0.25,0.25,0)))))))
B222: Improvement Milestone: ________________________________
D223: (insert milestone)
B225: Numerator (if N/A, use "yes/no" form below; if absolute number, enter here) | E225: *
B227: Denominator (if absolute number, enter "1") | E227: *
C229: Achievement | F229: =IF(F227>0,F225/F227,IF(F232>0,F232,"N/A")) -> N/A
B231: If "yes/no" as to whether the milestone has been achieved, select "yes" or "no" from the dropdown
B232: menu, and (if "yes") provide an in-depth description of how the milestone was achieved: | E232: *
B242: DY Target (from the DPH system plan) or enter "yes" if "yes/no" type of milestone | E242: *
C244: Achievement Value | F244: =IF(F242=0," ",IF(F232="Yes",1,IF(F232="No",0,IF(F229/F242>=1,1,IF(F229/F242>=0.75,0.75,IF(F229/F242>=0.5,0.5,IF(F229/F242>=0.25,0.25,0)))))))
B247: Improvement Milestone: ________________________________
...

Sheet Chronic Care Management
A1: ='Total Payment Amount'!A1 -> CA 1115 Waiver - Delivery System Reform Incentive Payments (DSRIP)
A2: ='Total Payment Amount'!B2 -> DPH SYSTEM: | D2: =IF('Total Payment Amount'!D2=0,"",'Total Payment Amount'!D2) -> Ventura County Medical Center
A3: ='Total Payment Amount'!B3 -> REPORTING YEAR: | D3: =IF('Total Payment Amount'!D3=0,"",'Total Payment Amount'!D3) -> DY 6
A4: ='Total Payment Amount'!B4 -> DATE OF SUBMISSION: | D4: =IF('Total Payment Amount'!D4=0,"",'Total Payment Amount'!D4) -> 40678
D5: REPORTING ON THIS PROJECT: | E5: * | F5: Yes
A6: Category 2: Expand Chronic Care Management Models
A8: Below is the data reported for the DPH system.
A9: * | B9: Instructions for DPH systems: Please select above whether you are reporting on this project. If 'yes',
A10: please type in all of your DY milestones for the project below and report data in the indicated boxes (*).
A11: * | C11: The yellow boxes indicate where the DPH system should input data
C12: The black boxes indicate Milestones and will automatically populate and flow to summary sheets
C13: The blue boxes show progress made toward the Milestone ("Achievement Value") and will automatically
C14: populate and flow to summary sheets
A16: Expand Chronic Care Management Models
B18: DY Total Computable Incentive Amount: | E18: * | F18: 3171700
B20: Incentive Funding Already Received in DY: | E20: * | F20: 3171700
D21: Develop a plan for a comprehensive care management program related to diabetes care
B22: Process Milestone: ________________________________
D23: (insert milestone)
B25: Numerator (if N/A, use "yes/no" form below; if absolute number, enter here) | E25: * | F25: Yes
B27: Denominator (if absolute number, enter "1") | E27: *
C29: Achievement | F29: =IF(F27>0,F25/F27,IF(F32>0,F32,"N/A")) -> Yes
B31: If "yes/no" as to whether the milestone has been achieved, select "yes" or "no" from the dropdown
B32: menu, and (if "yes") provide an in-depth description of how the milestone was achieved: | E32: * | F32: Yes
B34: Plan was developed by the Medical Director of Ambulatory Care Specialty Services and Diabetes Care Team to provide comprehensive care management related to diabetic care. Location obtained for care provision was in a space at South Las Islas Clinic. Staff were recruited and hired. This process was completed in January 2011. Physician Assistant in this clinic has completed Diabetic Educator certification in March of 2011. Wound Care training specific to diabetic patient was completed in April 2011 and currently being provided at the center by the facility's physician assistant.
B42: DY Target (from the DPH system plan) or enter "yes" if "yes/no" type of milestone | E42: * | F42: Yes
C44: Achievement Value | F44: =IF(F42=0," ",IF(F32="Yes",1,IF(F32="No",0,IF(F29/F42>=1,1,IF(F29/F42>=0.75,0.75,IF(F29/F42>=0.5,0.5,IF(F29/F42>=0.25,0.25,0))))))) -> 1
B47: Process Milestone: ________________________________
D48: (insert milestone)
B50: Numerator (if N/A, use "yes/no" form below; if absolute number, enter here) | E50: *
B52: Denominator (if absolute number, enter "1") | E52: *
C54: Achievement | F54: =IF(F52>0,F50/F52,IF(F57>0,F57,"N/A")) -> N/A
B56: If "yes/no" as to whether the milestone has been achieved, select "yes" or "no" from the dropdown
B57: menu, and (if "yes") provide an in-depth description of how the milestone was achieved: | E57: *
B67: DY Target (from the DPH system plan) or enter "yes" if "yes/no" type of milestone | E67: *
C69: Achievement Value | F69: =IF(F67=0," ",IF(F57="Yes",1,IF(F57="No",0,IF(F54/F67>=1,1,IF(F54/F67>=0.75,0.75,IF(F54/F67>=0.5,0.5,IF(F54/F67>=0.25,0.25,0)))))))
B72: Process Milestone: ________________________________
D73: (insert milestone)
B75: Numerator (if N/A, use "yes/no" form below; if absolute number, enter here) | E75: *
B77: Denominator (if absolute number, enter "1") | E77: *
C79: Achievement | F79: =IF(F77>0,F75/F77,IF(F82>0,F82,"N/A")) -> N/A
B81: If "yes/no" as to whether the milestone has been achieved, select "yes" or "no" from the dropdown
B82: menu, and (if "yes") provide an in-depth description of how the milestone was achieved: | E82: *
B92: DY Target (from the DPH system plan) or enter "yes" if "yes/no" type of milestone | E92: *
C94: Achievement Value | F94: =IF(F92=0," ",IF(F82="Yes",1,IF(F82="No",0,IF(F79/F92>=1,1,IF(F79/F92>=0.75,0.75,IF(F79/F92>=0.5,0.5,IF(F79/F92>=0.25,0.25,0)))))))
B97: Process Milestone: ________________________________
D98: (insert milestone)
B100: Numerator (if N/A, use "yes/no" form below; if absolute number, enter here) | E100: *
B102: Denominator (if absolute number, enter "1") | E102: *
C104: Achievement | F104: =IF(F102>0,F100/F102,IF(F107>0,F107,"N/A")) -> N/A
B106: If "yes/no" as to whether the milestone has been achieved, select "yes" or "no" from the dropdown
B107: menu, and (if "yes") provide an in-depth description of how the milestone was achieved: | E107: *
B117: DY Target (from the DPH system plan) or enter "yes" if "yes/no" type of milestone | E117: *
C119: Achievement Value | F119: =IF(F117=0," ",IF(F107="Yes",1,IF(F107="No",0,IF(F104/F117>=1,1,IF(F104/F117>=0.75,0.75,IF(F104/F117>=0.5,0.5,IF(F104/F117>=0.25,0.25,0)))))))
B122: Process Milestone: ________________________________
D123: (insert milestone)
B125: Numerator (if N/A, use "yes/no" form below; if absolute number, enter here) | E125: *
B127: Denominator (if absolute number, enter "1") | E127: *
C129: Achievement | F129: =IF(F127>0,F125/F127,IF(F132>0,F132,"N/A")) -> N/A
B131: If "yes/no" as to whether the milestone has been achieved, select "yes" or "no" from the dropdown
B132: menu, and (if "yes") provide an in-depth description of how the milestone was achieved: | E132: *
B142: DY Target (from the DPH system plan) or enter "yes" if "yes/no" type of milestone | E142: *
C144: Achievement Value | F144: =IF(F142=0," ",IF(F132="Yes",1,IF(F132="No",0,IF(F129/F142>=1,1,IF(F129/F142>=0.75,0.75,IF(F129/F142>=0.5,0.5,IF(F129/F142>=0.25,0.25,0)))))))
B147: Improvement Milestone: ________________________________
D148: (insert milestone)
B150: Numerator (if N/A, use "yes/no" form below; if absolute number, enter here) | E150: *
B152: Denominator (if absolute number, enter "1") | E152: *
C154: Achievement | F154: =IF(F152>0,F150/F152,IF(F157>0,F157,"N/A")) -> N/A
B156: If "yes/no" as to whether the milestone has been achieved, select "yes" or "no" from the dropdown
B157: menu, and (if "yes") provide an in-depth description of how the milestone was achieved: | E157: *
B167: DY Target (from the DPH system plan) or enter "yes" if "yes/no" type of milestone | E167: *
C169: Achievement Value | F169: =IF(F167=0," ",IF(F157="Yes",1,IF(F157="No",0,IF(F154/F167>=1,1,IF(F154/F167>=0.75,0.75,IF(F154/F167>=0.5,0.5,IF(F154/F167>=0.25,0.25,0)))))))
B172: Improvement Milestone: ________________________________
D173: (insert milestone)
B175: Numerator (if N/A, use "yes/no" form below; if absolute number, enter here) | E175: *
B177: Denominator (if absolute number, enter "1") | E177: *
C179: Achievement | F179: =IF(F177>0,F175/F177,IF(F182>0,F182,"N/A")) -> N/A
B181: If "yes/no" as to whether the milestone has been achieved, select "yes" or "no" from the dropdown
B182: menu, and (if "yes") provide an in-depth description of how the milestone was achieved: | E182: *
B192: DY Target (from the DPH system plan) or enter "yes" if "yes/no" type of milestone | E192: *
C194: Achievement Value | F194: =IF(F192=0," ",IF(F182="Yes",1,IF(F182="No",0,IF(F179/F192>=1,1,IF(F179/F192>=0.75,0.75,IF(F179/F192>=0.5,0.5,IF(F179/F192>=0.25,0.25,0)))))))
B197: Improvement Milestone: ________________________________
D198: (insert milestone)
B200: Numerator (if N/A, use "yes/no" form below; if absolute number, enter here) | E200: *
B202: Denominator (if absolute number, enter "1") | E202: *
C204: Achievement | F204: =IF(F202>0,F200/F202,IF(F207>0,F207,"N/A")) -> N/A
B206: If "yes/no" as to whether the milestone has been achieved, select "yes" or "no" from the dropdown
B207: menu, and (if "yes") provide an in-depth description of how the milestone was achieved: | E207: *
B217: DY Target (from the DPH system plan) or enter "yes" if "yes/no" type of milestone | E217: *
C219: Achievement Value | F219: =IF(F217=0," ",IF(F207="Yes",1,IF(F207="No",0,IF(F204/F217>=1,1,IF(F204/F217>=0.75,0.75,IF(F204/F217>=0.5,0.5,IF(F204/F217>=0.25,0.25,0)))))))
B222: Improvement Milestone: ________________________________
D223: (insert milestone)
B225: Numerator (if N/A, use "yes/no" form below; if absolute number, enter here) | E225: *
B227: Denominator (if absolute number, enter "1") | E227: *
C229: Achievement | F229: =IF(F227>0,F225/F227,IF(F232>0,F232,"N/A")) -> N/A
B231: If "yes/no" as to whether the milestone has been achieved, select "yes" or "no" from the dropdown
B232: menu, and (if "yes") provide an in-depth description of how the milestone was achieved: | E232: *
B242: DY Target (from the DPH system plan) or enter "yes" if "yes/no" type of milestone | E242: *
C244: Achievement Value | F244: =IF(F242=0," ",IF(F232="Yes",1,IF(F232="No",0,IF(F229/F242>=1,1,IF(F229/F242>=0.75,0.75,IF(F229/F242>=0.5,0.5,IF(F229/F242>=0.25,0.25,0)))))))
B247: Improvement Milestone: ________________________________
...

Sheet Integrate Physical Behavioral
A1: ='Total Payment Amount'!A1 -> CA 1115 Waiver - Delivery System Reform Incentive Payments (DSRIP)
A2: ='Total Payment Amount'!B2 -> DPH SYSTEM: | D2: =IF('Total Payment Amount'!D2=0,"",'Total Payment Amount'!D2) -> Ventura County Medical Center
A3: ='Total Payment Amount'!B3 -> REPORTING YEAR: | D3: =IF('Total Payment Amount'!D3=0,"",'Total Payment Amount'!D3) -> DY 6
A4: ='Total Payment Amount'!B4 -> DATE OF SUBMISSION: | D4: =IF('Total Payment Amount'!D4=0,"",'Total Payment Amount'!D4) -> 40678
D5: REPORTING ON THIS PROJECT: | E5: * | F5: Yes
A6: Category 2: Integrate Physical and Behavioral Health Care
A8: Below is the data reported for the DPH system.
A9: * | B9: Instructions for DPH systems: Please select above whether you are reporting on this project. If 'yes',
A10: please type in all of your DY milestones for the project below and report data in the indicated boxes (*).
A11: * | C11: The yellow boxes indicate where the DPH system should input data
C12: The black boxes indicate Milestones and will automatically populate and flow to summary sheets
C13: The blue boxes show progress made toward the Milestone ("Achievement Value") and will automatically
C14: populate and flow to summary sheets
A16: Integrate Physical and Behavioral Health Care
B18: DY Total Computable Incentive Amount: | E18: * | F18: 6343400
B20: Incentive Funding Already Received in DY: | E20: * | F20: 6343400
D21: Co-locate a primary care clinic to include adult and pediatric behavioral health services
B22: Process Milestone: ________________________________
D23: (insert milestone)
B25: Numerator (if N/A, use "yes/no" form below; if absolute number, enter here) | E25: * | F25: Yes
B27: Denominator (if absolute number, enter "1") | E27: *
C29: Achievement | F29: =IF(F27>0,F25/F27,IF(F32>0,F32,"N/A")) -> Yes
B31: If "yes/no" as to whether the milestone has been achieved, select "yes" or "no" from the dropdown
B32: menu, and (if "yes") provide an in-depth description of how the milestone was achieved: | E32: * | F32: Yes
B34: Formal integration of two primary care clinics with co-locatedBehavioral Health services in two locations: Simi Valley and Fillmore occurred in November of 2010. Simi Valley is in east Ventura County and Fillmore is in the Santa Clara Valley which is a rural location in north eastern Ventura County. Two additional locations are in the planning phase. Architectural drawings were completed in April 2011 for the build out of a co-located clinic in Thousand Oaks. The integration of care allows for referral between primary care and behavioral health in either direction to approach the patient's holistic needs in a collaborative fashion.
B42: DY Target (from the DPH system plan) or enter "yes" if "yes/no" type of milestone | E42: * | F42: Yes
C44: Achievement Value | F44: =IF(F42=0," ",IF(F32="Yes",1,IF(F32="No",0,IF(F29/F42>=1,1,IF(F29/F42>=0.75,0.75,IF(F29/F42>=0.5,0.5,IF(F29/F42>=0.25,0.25,0))))))) -> 1
D46: Provide training for and adopt an evidence-based treatment practice utilizing the IMPACT Collaboartive Trratment Model (Prevention and Early Intervention [PEI] for depression, anxiety, or traumatic stress disorders.
B47: Process Milestone: ________________________________
D48: (insert milestone)
B50: Numerator (if N/A, use "yes/no" form below; if absolute number, enter here) | E50: * | F50: Yes
B52: Denominator (if absolute number, enter "1") | E52: *
C54: Achievement | F54: =IF(F52>0,F50/F52,IF(F57>0,F57,"N/A")) -> Yes
B56: If "yes/no" as to whether the milestone has been achieved, select "yes" or "no" from the dropdown
B57: menu, and (if "yes") provide an in-depth description of how the milestone was achieved: | E57: * | F57: Yes
B59: Training occurred for Medical Directors, primary care clinic champion along with the assigned PE&I Licensed Clinical Social Workers in the IMPACT Model. This training addressed how the providers interact and provide care to patients in need of focused support in the areas of depression, anxiety, or traumatic stress disorders. Licensed Clinical Social Workers were placed in eight (8) Ambulatory Care Clinics with integrated care initiated; practices continue to expand through May 2011.
B67: DY Target (from the DPH system plan) or enter "yes" if "yes/no" type of milestone | E67: * | F67: Yes
C69: Achievement Value | F69: =IF(F67=0," ",IF(F57="Yes",1,IF(F57="No",0,IF(F54/F67>=1,1,IF(F54/F67>=0.75,0.75,IF(F54/F67>=0.5,0.5,IF(F54/F67>=0.25,0.25,0))))))) -> 1
B72: Process Milestone: ________________________________
D73: (insert milestone)
B75: Numerator (if N/A, use "yes/no" form below; if absolute number, enter here) | E75: *
B77: Denominator (if absolute number, enter "1") | E77: *
C79: Achievement | F79: =IF(F77>0,F75/F77,IF(F82>0,F82,"N/A")) -> N/A
B81: If "yes/no" as to whether the milestone has been achieved, select "yes" or "no" from the dropdown
B82: menu, and (if "yes") provide an in-depth description of how the milestone was achieved: | E82: *
B92: DY Target (from the DPH system plan) or enter "yes" if "yes/no" type of milestone | E92: *
C94: Achievement Value | F94: =IF(F92=0," ",IF(F82="Yes",1,IF(F82="No",0,IF(F79/F92>=1,1,IF(F79/F92>=0.75,0.75,IF(F79/F92>=0.5,0.5,IF(F79/F92>=0.25,0.25,0)))))))
B97: Process Milestone: ________________________________
D98: (insert milestone)
B100: Numerator (if N/A, use "yes/no" form below; if absolute number, enter here) | E100: *
B102: Denominator (if absolute number, enter "1") | E102: *
C104: Achievement | F104: =IF(F102>0,F100/F102,IF(F107>0,F107,"N/A")) -> N/A
B106: If "yes/no" as to whether the milestone has been achieved, select "yes" or "no" from the dropdown
B107: menu, and (if "yes") provide an in-depth description of how the milestone was achieved: | E107: *
B117: DY Target (from the DPH system plan) or enter "yes" if "yes/no" type of milestone | E117: *
C119: Achievement Value | F119: =IF(F117=0," ",IF(F107="Yes",1,IF(F107="No",0,IF(F104/F117>=1,1,IF(F104/F117>=0.75,0.75,IF(F104/F117>=0.5,0.5,IF(F104/F117>=0.25,0.25,0)))))))
B122: Process Milestone: ________________________________
D123: (insert milestone)
B125: Numerator (if N/A, use "yes/no" form below; if absolute number, enter here) | E125: *
B127: Denominator (if absolute number, enter "1") | E127: *
C129: Achievement | F129: =IF(F127>0,F125/F127,IF(F132>0,F132,"N/A")) -> N/A
B131: If "yes/no" as to whether the milestone has been achieved, select "yes" or "no" from the dropdown
B132: menu, and (if "yes") provide an in-depth description of how the milestone was achieved: | E132: *
B142: DY Target (from the DPH system plan) or enter "yes" if "yes/no" type of milestone | E142: *
C144: Achievement Value | F144: =IF(F142=0," ",IF(F132="Yes",1,IF(F132="No",0,IF(F129/F142>=1,1,IF(F129/F142>=0.75,0.75,IF(F129/F142>=0.5,0.5,IF(F129/F142>=0.25,0.25,0)))))))
B147: Improvement Milestone: ________________________________
D148: (insert milestone)
B150: Numerator (if N/A, use "yes/no" form below; if absolute number, enter here) | E150: *
B152: Denominator (if absolute number, enter "1") | E152: *
C154: Achievement | F154: =IF(F152>0,F150/F152,IF(F157>0,F157,"N/A")) -> N/A
B156: If "yes/no" as to whether the milestone has been achieved, select "yes" or "no" from the dropdown
B157: menu, and (if "yes") provide an in-depth description of how the milestone was achieved: | E157: *
B167: DY Target (from the DPH system plan) or enter "yes" if "yes/no" type of milestone | E167: *
C169: Achievement Value | F169: =IF(F167=0," ",IF(F157="Yes",1,IF(F157="No",0,IF(F154/F167>=1,1,IF(F154/F167>=0.75,0.75,IF(F154/F167>=0.5,0.5,IF(F154/F167>=0.25,0.25,0)))))))
B172: Improvement Milestone: ________________________________
D173: (insert milestone)
B175: Numerator (if N/A, use "yes/no" form below; if absolute number, enter here) | E175: *
B177: Denominator (if absolute number, enter "1") | E177: *
C179: Achievement | F179: =IF(F177>0,F175/F177,IF(F182>0,F182,"N/A")) -> N/A
B181: If "yes/no" as to whether the milestone has been achieved, select "yes" or "no" from the dropdown
B182: menu, and (if "yes") provide an in-depth description of how the milestone was achieved: | E182: *
B192: DY Target (from the DPH system plan) or enter "yes" if "yes/no" type of milestone | E192: *
C194: Achievement Value | F194: =IF(F192=0," ",IF(F182="Yes",1,IF(F182="No",0,IF(F179/F192>=1,1,IF(F179/F192>=0.75,0.75,IF(F179/F192>=0.5,0.5,IF(F179/F192>=0.25,0.25,0)))))))
B197: Improvement Milestone: ________________________________
D198: (insert milestone)
B200: Numerator (if N/A, use "yes/no" form below; if absolute number, enter here) | E200: *
B202: Denominator (if absolute number, enter "1") | E202: *
C204: Achievement | F204: =IF(F202>0,F200/F202,IF(F207>0,F207,"N/A")) -> N/A
B206: If "yes/no" as to whether the milestone has been achieved, select "yes" or "no" from the dropdown
B207: menu, and (if "yes") provide an in-depth description of how the milestone was achieved: | E207: *
B217: DY Target (from the DPH system plan) or enter "yes" if "yes/no" type of milestone | E217: *
C219: Achievement Value | F219: =IF(F217=0," ",IF(F207="Yes",1,IF(F207="No",0,IF(F204/F217>=1,1,IF(F204/F217>=0.75,0.75,IF(F204/F217>=0.5,0.5,IF(F204/F217>=0.25,0.25,0)))))))
B222: Improvement Milestone: ________________________________
D223: (insert milestone)
B225: Numerator (if N/A, use "yes/no" form below; if absolute number, enter here) | E225: *
B227: Denominator (if absolute number, enter "1") | E227: *
C229: Achievement | F229: =IF(F227>0,F225/F227,IF(F232>0,F232,"N/A")) -> N/A
B231: If "yes/no" as to whether the milestone has been achieved, select "yes" or "no" from the dropdown
B232: menu, and (if "yes") provide an in-depth description of how the milestone was achieved: | E232: *
B242: DY Target (from the DPH system plan) or enter "yes" if "yes/no" type of milestone | E242: *
...

Sheet Use Palliative Care Programs
A1: ='Total Payment Amount'!A1 -> CA 1115 Waiver - Delivery System Reform Incentive Payments (DSRIP)
A2: ='Total Payment Amount'!B2 -> DPH SYSTEM: | D2: =IF('Total Payment Amount'!D2=0,"",'Total Payment Amount'!D2) -> Ventura County Medical Center
A3: ='Total Payment Amount'!B3 -> REPORTING YEAR: | D3: =IF('Total Payment Amount'!D3=0,"",'Total Payment Amount'!D3) -> DY 6
A4: ='Total Payment Amount'!B4 -> DATE OF SUBMISSION: | D4: =IF('Total Payment Amount'!D4=0,"",'Total Payment Amount'!D4) -> 40678
D5: REPORTING ON THIS PROJECT: | E5: * | F5: Yes
A6: Category 2: Use Palliative Care Programs
A8: Below is the data reported for the DPH system.
A9: * | B9: Instructions for DPH systems: Please select above whether you are reporting on this project. If 'yes',
A10: please type in all of your DY milestones for the project below and report data in the indicated boxes (*).
A11: * | C11: The yellow boxes indicate where the DPH system should input data
C12: The black boxes indicate Milestones and will automatically populate and flow to summary sheets
C13: The blue boxes show progress made toward the Milestone ("Achievement Value") and will automatically
C14: populate and flow to summary sheets
A16: Use Palliative Care Programs
B18: DY Total Computable Incentive Amount: | E18: * | F18: 6343400
B20: Incentive Funding Already Received in DY: | E20: * | F20: 6343400
D21: Develop plan for Palliative Care Team
B22: Process Milestone: ________________________________
D23: (insert milestone)
B25: Numerator (if N/A, use "yes/no" form below; if absolute number, enter here) | E25: * | F25: Yes
B27: Denominator (if absolute number, enter "1") | E27: *
C29: Achievement | F29: =IF(F27>0,F25/F27,IF(F32>0,F32,"N/A")) -> Yes
B31: If "yes/no" as to whether the milestone has been achieved, select "yes" or "no" from the dropdown
B32: menu, and (if "yes") provide an in-depth description of how the milestone was achieved: | E32: * | F32: Yes
B34: The Palliative Care Team plan was developed to consist of the identified and certified Physicians (2), along with a Registered Nurse, Licensed Clinical Social Worker and a Psychologist. The team was established in January 2011. The two physicians received their letters from the Board that they passed in January 2011 and certified to have "Added Qualifications in Hospice and Palliative Medicine from 2010-2020.
B42: DY Target (from the DPH system plan) or enter "yes" if "yes/no" type of milestone | E42: * | F42: Yes
C44: Achievement Value | F44: =IF(F42=0," ",IF(F32="Yes",1,IF(F32="No",0,IF(F29/F42>=1,1,IF(F29/F42>=0.75,0.75,IF(F29/F42>=0.5,0.5,IF(F29/F42>=0.25,0.25,0))))))) -> 1
B47: Process Milestone: ________________________________
D48: (insert milestone)
B50: Numerator (if N/A, use "yes/no" form below; if absolute number, enter here) | E50: *
B52: Denominator (if absolute number, enter "1") | E52: *
C54: Achievement | F54: =IF(F52>0,F50/F52,IF(F57>0,F57,"N/A")) -> N/A
B56: If "yes/no" as to whether the milestone has been achieved, select "yes" or "no" from the dropdown
B57: menu, and (if "yes") provide an in-depth description of how the milestone was achieved: | E57: *
B67: DY Target (from the DPH system plan) or enter "yes" if "yes/no" type of milestone | E67: *
C69: Achievement Value | F69: =IF(F67=0," ",IF(F57="Yes",1,IF(F57="No",0,IF(F54/F67>=1,1,IF(F54/F67>=0.75,0.75,IF(F54/F67>=0.5,0.5,IF(F54/F67>=0.25,0.25,0)))))))
B72: Process Milestone: ________________________________
D73: (insert milestone)
B75: Numerator (if N/A, use "yes/no" form below; if absolute number, enter here) | E75: *
B77: Denominator (if absolute number, enter "1") | E77: *
C79: Achievement | F79: =IF(F77>0,F75/F77,IF(F82>0,F82,"N/A")) -> N/A
B81: If "yes/no" as to whether the milestone has been achieved, select "yes" or "no" from the dropdown
B82: menu, and (if "yes") provide an in-depth description of how the milestone was achieved: | E82: *
B92: DY Target (from the DPH system plan) or enter "yes" if "yes/no" type of milestone | E92: *
C94: Achievement Value | F94: =IF(F92=0," ",IF(F82="Yes",1,IF(F82="No",0,IF(F79/F92>=1,1,IF(F79/F92>=0.75,0.75,IF(F79/F92>=0.5,0.5,IF(F79/F92>=0.25,0.25,0)))))))
B97: Process Milestone: ________________________________
D98: (insert milestone)
B100: Numerator (if N/A, use "yes/no" form below; if absolute number, enter here) | E100: *
B102: Denominator (if absolute number, enter "1") | E102: *
C104: Achievement | F104: =IF(F102>0,F100/F102,IF(F107>0,F107,"N/A")) -> N/A
B106: If "yes/no" as to whether the milestone has been achieved, select "yes" or "no" from the dropdown
B107: menu, and (if "yes") provide an in-depth description of how the milestone was achieved: | E107: *
B117: DY Target (from the DPH system plan) or enter "yes" if "yes/no" type of milestone | E117: *
C119: Achievement Value | F119: =IF(F117=0," ",IF(F107="Yes",1,IF(F107="No",0,IF(F104/F117>=1,1,IF(F104/F117>=0.75,0.75,IF(F104/F117>=0.5,0.5,IF(F104/F117>=0.25,0.25,0)))))))
B122: Process Milestone: ________________________________
D123: (insert milestone)
B125: Numerator (if N/A, use "yes/no" form below; if absolute number, enter here) | E125: *
B127: Denominator (if absolute number, enter "1") | E127: *
C129: Achievement | F129: =IF(F127>0,F125/F127,IF(F132>0,F132,"N/A")) -> N/A
B131: If "yes/no" as to whether the milestone has been achieved, select "yes" or "no" from the dropdown
B132: menu, and (if "yes") provide an in-depth description of how the milestone was achieved: | E132: *
B142: DY Target (from the DPH system plan) or enter "yes" if "yes/no" type of milestone | E142: *
C144: Achievement Value | F144: =IF(F142=0," ",IF(F132="Yes",1,IF(F132="No",0,IF(F129/F142>=1,1,IF(F129/F142>=0.75,0.75,IF(F129/F142>=0.5,0.5,IF(F129/F142>=0.25,0.25,0)))))))
B147: Improvement Milestone: ________________________________
D148: (insert milestone)
B150: Numerator (if N/A, use "yes/no" form below; if absolute number, enter here) | E150: *
B152: Denominator (if absolute number, enter "1") | E152: *
C154: Achievement | F154: =IF(F152>0,F150/F152,IF(F157>0,F157,"N/A")) -> N/A
B156: If "yes/no" as to whether the milestone has been achieved, select "yes" or "no" from the dropdown
B157: menu, and (if "yes") provide an in-depth description of how the milestone was achieved: | E157: *
B167: DY Target (from the DPH system plan) or enter "yes" if "yes/no" type of milestone | E167: *
C169: Achievement Value | F169: =IF(F167=0," ",IF(F157="Yes",1,IF(F157="No",0,IF(F154/F167>=1,1,IF(F154/F167>=0.75,0.75,IF(F154/F167>=0.5,0.5,IF(F154/F167>=0.25,0.25,0)))))))
B172: Improvement Milestone: ________________________________
D173: (insert milestone)
B175: Numerator (if N/A, use "yes/no" form below; if absolute number, enter here) | E175: *
B177: Denominator (if absolute number, enter "1") | E177: *
C179: Achievement | F179: =IF(F177>0,F175/F177,IF(F182>0,F182,"N/A")) -> N/A
B181: If "yes/no" as to whether the milestone has been achieved, select "yes" or "no" from the dropdown
B182: menu, and (if "yes") provide an in-depth description of how the milestone was achieved: | E182: *
B192: DY Target (from the DPH system plan) or enter "yes" if "yes/no" type of milestone | E192: *
C194: Achievement Value | F194: =IF(F192=0," ",IF(F182="Yes",1,IF(F182="No",0,IF(F179/F192>=1,1,IF(F179/F192>=0.75,0.75,IF(F179/F192>=0.5,0.5,IF(F179/F192>=0.25,0.25,0)))))))
B197: Improvement Milestone: ________________________________
D198: (insert milestone)
B200: Numerator (if N/A, use "yes/no" form below; if absolute number, enter here) | E200: *
B202: Denominator (if absolute number, enter "1") | E202: *
C204: Achievement | F204: =IF(F202>0,F200/F202,IF(F207>0,F207,"N/A")) -> N/A
B206: If "yes/no" as to whether the milestone has been achieved, select "yes" or "no" from the dropdown
B207: menu, and (if "yes") provide an in-depth description of how the milestone was achieved: | E207: *
B217: DY Target (from the DPH system plan) or enter "yes" if "yes/no" type of milestone | E217: *
C219: Achievement Value | F219: =IF(F217=0," ",IF(F207="Yes",1,IF(F207="No",0,IF(F204/F217>=1,1,IF(F204/F217>=0.75,0.75,IF(F204/F217>=0.5,0.5,IF(F204/F217>=0.25,0.25,0)))))))
B222: Improvement Milestone: ________________________________
D223: (insert milestone)
B225: Numerator (if N/A, use "yes/no" form below; if absolute number, enter here) | E225: *
B227: Denominator (if absolute number, enter "1") | E227: *
C229: Achievement | F229: =IF(F227>0,F225/F227,IF(F232>0,F232,"N/A")) -> N/A
B231: If "yes/no" as to whether the milestone has been achieved, select "yes" or "no" from the dropdown
B232: menu, and (if "yes") provide an in-depth description of how the milestone was achieved: | E232: *
B242: DY Target (from the DPH system plan) or enter "yes" if "yes/no" type of milestone | E242: *
C244: Achievement Value | F244: =IF(F242=0," ",IF(F232="Yes",1,IF(F232="No",0,IF(F229/F242>=1,1,IF(F229/F242>=0.75,0.75,IF(F229/F242>=0.5,0.5,IF(F229/F242>=0.25,0.25,0)))))))
B247: Improvement Milestone: ________________________________
...

Sheet Sepsis
A1: ='Total Payment Amount'!A1 -> CA 1115 Waiver - Delivery System Reform Incentive Payments (DSRIP)
A2: ='Total Payment Amount'!B2 -> DPH SYSTEM: | D2: =IF('Total Payment Amount'!D2=0,"",'Total Payment Amount'!D2) -> Ventura County Medical Center
A3: ='Total Payment Amount'!B3 -> REPORTING YEAR: | D3: =IF('Total Payment Amount'!D3=0,"",'Total Payment Amount'!D3) -> DY 6
A4: ='Total Payment Amount'!B4 -> DATE OF SUBMISSION: | D4: =IF('Total Payment Amount'!D4=0,"",'Total Payment Amount'!D4) -> 40678
A5: Category 4: Severe Sepsis Detection and Management (required)
A7: Below is the data reported for the DPH system.
A8: * | B8: Instructions for DPH systems: Please type in all of your DY milestones for the project below and report data
A9: in the indicated boxes (*).
A10: * | C10: The yellow boxes indicate where the DPH system should input data
C11: The black boxes indicate Milestones and will automatically populate and flow to summary sheets
C12: The blue boxes show progress made toward the Milestone ("Achievement Value") and will automatically
C13: populate and flow to summary sheets
A15: Severe Sepsis Detection and Management
B17: DY Total Computable Incentive Amount: | E17: * | F17: 695750
B19: Incentive Funding Already Received in DY: | E19: * | F19: 695750
B21: Compliance with Sepsis Resuscitation bundle (%)
B23: Numerator | E23: *
B25: Denominator | E25: *
C27: % Compliance | F27: =IF(F25>0,F23/F25,IF(F30>0,F30,"N/A")) -> N/A
B29: DY Target (from the DPH system plan) | E29: *
C31: Achievement Value | F31: =IF(F29=0, "", (F27/F29))
B34: Sepis Mortality (%)
B36: Numerator | E36: *
B38: Denominator | E38: *
C40: % Mortality | F40: =IF(F38>0,F36/F38,IF(F43>0,F43,"N/A")) -> N/A
B42: DY Target (from the DPH system plan) | E42: *
C44: Achievement Value | F44: =IF(F42=0,"",(F40/F42))
D46: Designate multidisciplinary team to improve Severe Sepsis Detection and Management
B47: Optional Milestone: ________________________________
D48: (insert milestone)
B50: Numerator (if N/A, use "yes/no" form below; if absolute number, enter here) | E50: * | F50: Yes
B52: Denominator (if absolute number, enter "1") | E52: *
C54: Achievement | F54: =IF(F52>0,F50/F52,IF(F57>0,F57,"N/A")) -> Yes
B56: If "yes/no" as to whether the milestone has been achieved, select "yes" or "no" from the dropdown
B57: menu, and (if "yes") provide an in-depth description of how the milestone was achieved: | E57: * | F57: Yes
B59: A Physician Champion was named to head the Sepsis Taskforce. He has developed a team that consists of Registered Nurses, Respiratory Care Therapists, Clinical Lab Manager, Dietary Manager and other physicians from ICU, Emergency Department and Med/Surg units. This team has reviewed patients data from the past 6 months with diagnosis of Sepsis or Septic Shock. The team continues to develop our Sepsis detection and management process, meeting monthly or more often as needed. Education to the ED staff related to timing of care occurred in April 201. Development of the team and plan for improvement related to Sepsis care is ongoing.
B67: DY Target (from the DPH system plan) or enter "yes" if "yes/no" type of milestone | E67: * | F67: Yes
C69: Achievement Value | F69: =IF(F67=0," ",IF(F57="Yes",1,IF(F57="No",0,IF(F54/F67>=1,1,IF(F54/F67>=0.75,0.75,IF(F54/F67>=0.5,0.5,IF(F54/F67>=0.25,0.25,0))))))) -> 1
B72: Optional Milestone: ________________________________
D73: (insert milestone)
B75: Numerator (if N/A, use "yes/no" form below; if absolute number, enter here) | E75: *
B77: Denominator (if absolute number, enter "1") | E77: *
C79: Achievement | F79: =IF(F77>0,F75/F77,IF(F82>0,F82,"N/A")) -> N/A
B81: If "yes/no" as to whether the milestone has been achieved, select "yes" or "no" from the dropdown
B82: menu, and (if "yes") provide an in-depth description of how the milestone was achieved: | E82: *
B92: DY Target (from the DPH system plan) or enter "yes" if "yes/no" type of milestone | E92: *
C94: Achievement Value | F94: =IF(F92=0," ",IF(F82="Yes",1,IF(F82="No",0,IF(F79/F92>=1,1,IF(F79/F92>=0.75,0.75,IF(F79/F92>=0.5,0.5,IF(F79/F92>=0.25,0.25,0)))))))
B97: Optional Milestone: ________________________________
D98: (insert milestone)
B100: Numerator (if N/A, use "yes/no" form below; if absolute number, enter here) | E100: *
B102: Denominator (if absolute number, enter "1") | E102: *
C104: Achievement | F104: =IF(F102>0,F100/F102,IF(F107>0,F107,"N/A")) -> N/A
B106: If "yes/no" as to whether the milestone has been achieved, select "yes" or "no" from the dropdown
B107: menu, and (if "yes") provide an in-depth description of how the milestone was achieved: | E107: *
B117: DY Target (from the DPH system plan) or enter "yes" if "yes/no" type of milestone | E117: *
C119: Achievement Value | F119: =IF(F117=0," ",IF(F107="Yes",1,IF(F107="No",0,IF(F104/F117>=1,1,IF(F104/F117>=0.75,0.75,IF(F104/F117>=0.5,0.5,IF(F104/F117>=0.25,0.25,0)))))))
B122: Optional Milestone: ________________________________
D123: (insert milestone)
B125: Numerator (if N/A, use "yes/no" form below; if absolute number, enter here) | E125: *
B127: Denominator (if absolute number, enter "1") | E127: *
C129: Achievement | F129: =IF(F127>0,F125/F127,IF(F132>0,F132,"N/A")) -> N/A
B131: If "yes/no" as to whether the milestone has been achieved, select "yes" or "no" from the dropdown
B132: menu, and (if "yes") provide an in-depth description of how the milestone was achieved: | E132: *
B142: DY Target (from the DPH system plan) or enter "yes" if "yes/no" type of milestone | E142: *
C144: Achievement Value | F144: =IF(F142=0," ",IF(F132="Yes",1,IF(F132="No",0,IF(F129/F142>=1,1,IF(F129/F142>=0.75,0.75,IF(F129/F142>=0.5,0.5,IF(F129/F142>=0.25,0.25,0)))))))
B147: Optional Milestone: ________________________________
D148: (insert milestone)
B150: Numerator (if N/A, use "yes/no" form below; if absolute number, enter here) | E150: *
B152: Denominator (if absolute number, enter "1") | E152: *
C154: Achievement | F154: =IF(F152>0,F150/F152,IF(F157>0,F157,"N/A")) -> N/A
B156: If "yes/no" as to whether the milestone has been achieved, select "yes" or "no" from the dropdown
B157: menu, and (if "yes") provide an in-depth description of how the milestone was achieved: | E157: *
B167: DY Target (from the DPH system plan) or enter "yes" if "yes/no" type of milestone | E167: *
C169: Achievement Value | F169: =IF(F167=0," ",IF(F157="Yes",1,IF(F157="No",0,IF(F154/F167>=1,1,IF(F154/F167>=0.75,0.75,IF(F154/F167>=0.5,0.5,IF(F154/F167>=0.25,0.25,0)))))))
B172: Optional Milestone: ________________________________
D173: (insert milestone)
B175: Numerator (if N/A, use "yes/no" form below; if absolute number, enter here) | E175: *
B177: Denominator (if absolute number, enter "1") | E177: *
C179: Achievement | F179: =IF(F177>0,F175/F177,IF(F182>0,F182,"N/A")) -> N/A
B181: If "yes/no" as to whether the milestone has been achieved, select "yes" or "no" from the dropdown
B182: menu, and (if "yes") provide an in-depth description of how the milestone was achieved: | E182: *
B192: DY Target (from the DPH system plan) or enter "yes" if "yes/no" type of milestone | E192: *
C194: Achievement Value | F194: =IF(F192=0," ",IF(F182="Yes",1,IF(F182="No",0,IF(F179/F192>=1,1,IF(F179/F192>=0.75,0.75,IF(F179/F192>=0.5,0.5,IF(F179/F192>=0.25,0.25,0)))))))

Sheet CLABSI
A1: ='Total Payment Amount'!A1 -> CA 1115 Waiver - Delivery System Reform Incentive Payments (DSRIP)
A2: ='Total Payment Amount'!B2 -> DPH SYSTEM: | D2: =IF('Total Payment Amount'!D2=0,"",'Total Payment Amount'!D2) -> Ventura County Medical Center
A3: ='Total Payment Amount'!B3 -> REPORTING YEAR: | D3: =IF('Total Payment Amount'!D3=0,"",'Total Payment Amount'!D3) -> DY 6
A4: ='Total Payment Amount'!B4 -> DATE OF SUBMISSION: | D4: =IF('Total Payment Amount'!D4=0,"",'Total Payment Amount'!D4) -> 40678
A5: Category 4: Central Line Associated Blood Stream Infection (CLABSI) (required)
A7: Below is the data reported for the DPH system.
A8: * | B8: Instructions for DPH systems: Please type in all of your DY milestones for the project below and report data
A9: in the indicated boxes (*).
A10: * | C10: The yellow boxes indicate where the DPH system should input data
C11: The black boxes indicate Milestones and will automatically populate and flow to summary sheets
C12: The blue boxes show progress made toward the Milestone ("Achievement Value") and will automatically
C13: populate and flow to summary sheets
A15: Central Line Associated Blood Stream Infection
B17: DY Total Computable Incentive Amount: | E17: * | F17: 695750
B19: Incentive Funding Already Received in DY: | E19: * | F19: 695750
B21: Compliance with Central Line Insertion Practices (CLIP) (%)
B23: Numerator | E23: *
B25: Denominator | E25: *
C27: % Compliance | F27: =IF(F25>0,F23/F25,IF(F30>0,F30,"N/A")) -> N/A
B29: DY Target (from the DPH system plan) | E29: *
C31: Achievement Value | F31: =IF(F29=0," ",(F27/F29))
B34: Central Line Bloodstream Infection (Rate per 1,000 patient days)
B36: Numerator | E36: *
B38: Denominator | E38: *
C40: Infection Rate | F40: =IF(F38>0,F36/F38,IF(F43>0,F43,"N/A")) -> N/A
B42: DY Target (from the DPH system plan) | E42: *
C44: Achievement Value | F44: =IF(F42=0,"",(F40/F42))
D46: Designate a nultidisciplnary Central Line Associated Bloodstream Infection (CLABSI) Team.
B47: Optional Milestone: ________________________________
D48: (insert milestone)
B50: Numerator (if N/A, use "yes/no" form below; if absolute number, enter here) | E50: * | F50: Yes
B52: Denominator (if absolute number, enter "1") | E52: *
C54: Achievement | F54: =IF(F52>0,F50/F52,IF(F57>0,F57,"N/A")) -> Yes
B56: If "yes/no" as to whether the milestone has been achieved, select "yes" or "no" from the dropdown
B57: menu, and (if "yes") provide an in-depth description of how the milestone was achieved: | E57: * | F57: Yes
B59: A multi-disciplinary team was formed in November 2010 that consists of a Physician Champion, Registered Nurses, Infection Control Officer, Laboratory Manager, and other Physicians. The team developed a plan for data collection process and will provide educational training for staff and physicians during DY7.
B67: DY Target (from the DPH system plan) or enter "yes" if "yes/no" type of milestone | E67: * | F67: Yes
C69: Achievement Value | F69: =IF(F67=0," ",IF(F57="Yes",1,IF(F57="No",0,IF(F54/F67>=1,1,IF(F54/F67>=0.75,0.75,IF(F54/F67>=0.5,0.5,IF(F54/F67>=0.25,0.25,0))))))) -> 1
B72: Optional Milestone: ________________________________
D73: (insert milestone)
B75: Numerator (if N/A, use "yes/no" form below; if absolute number, enter here) | E75: *
B77: Denominator (if absolute number, enter "1") | E77: *
C79: Achievement | F79: =IF(F77>0,F75/F77,IF(F82>0,F82,"N/A")) -> N/A
B81: If "yes/no" as to whether the milestone has been achieved, select "yes" or "no" from the dropdown
B82: menu, and (if "yes") provide an in-depth description of how the milestone was achieved: | E82: *
B92: DY Target (from the DPH system plan) or enter "yes" if "yes/no" type of milestone | E92: *
C94: Achievement Value | F94: =IF(F92=0," ",IF(F82="Yes",1,IF(F82="No",0,IF(F79/F92>=1,1,IF(F79/F92>=0.75,0.75,IF(F79/F92>=0.5,0.5,IF(F79/F92>=0.25,0.25,0)))))))
B97: Optional Milestone: ________________________________
D98: (insert milestone)
B100: Numerator (if N/A, use "yes/no" form below; if absolute number, enter here) | E100: *
B102: Denominator (if absolute number, enter "1") | E102: *
C104: Achievement | F104: =IF(F102>0,F100/F102,IF(F107>0,F107,"N/A")) -> N/A
B106: If "yes/no" as to whether the milestone has been achieved, select "yes" or "no" from the dropdown
B107: menu, and (if "yes") provide an in-depth description of how the milestone was achieved: | E107: *
B117: DY Target (from the DPH system plan) or enter "yes" if "yes/no" type of milestone | E117: *
C119: Achievement Value | F119: =IF(F117=0," ",IF(F107="Yes",1,IF(F107="No",0,IF(F104/F117>=1,1,IF(F104/F117>=0.75,0.75,IF(F104/F117>=0.5,0.5,IF(F104/F117>=0.25,0.25,0)))))))
B122: Optional Milestone: ________________________________
D123: (insert milestone)
B125: Numerator (if N/A, use "yes/no" form below; if absolute number, enter here) | E125: *
B127: Denominator (if absolute number, enter "1") | E127: *
C129: Achievement | F129: =IF(F127>0,F125/F127,IF(F132>0,F132,"N/A")) -> N/A
B131: If "yes/no" as to whether the milestone has been achieved, select "yes" or "no" from the dropdown
B132: menu, and (if "yes") provide an in-depth description of how the milestone was achieved: | E132: *
B142: DY Target (from the DPH system plan) or enter "yes" if "yes/no" type of milestone | E142: *
C144: Achievement Value | F144: =IF(F142=0," ",IF(F132="Yes",1,IF(F132="No",0,IF(F129/F142>=1,1,IF(F129/F142>=0.75,0.75,IF(F129/F142>=0.5,0.5,IF(F129/F142>=0.25,0.25,0)))))))
B147: Optional Milestone: ________________________________
D148: (insert milestone)
B150: Numerator (if N/A, use "yes/no" form below; if absolute number, enter here) | E150: *
B152: Denominator (if absolute number, enter "1") | E152: *
C154: Achievement | F154: =IF(F152>0,F150/F152,IF(F157>0,F157,"N/A")) -> N/A
B156: If "yes/no" as to whether the milestone has been achieved, select "yes" or "no" from the dropdown
B157: menu, and (if "yes") provide an in-depth description of how the milestone was achieved: | E157: *
B167: DY Target (from the DPH system plan) or enter "yes" if "yes/no" type of milestone | E167: *
C169: Achievement Value | F169: =IF(F167=0," ",IF(F157="Yes",1,IF(F157="No",0,IF(F154/F167>=1,1,IF(F154/F167>=0.75,0.75,IF(F154/F167>=0.5,0.5,IF(F154/F167>=0.25,0.25,0)))))))
B172: Optional Milestone: ________________________________
D173: (insert milestone)
B175: Numerator (if N/A, use "yes/no" form below; if absolute number, enter here) | E175: *
B177: Denominator (if absolute number, enter "1") | E177: *
C179: Achievement | F179: =IF(F177>0,F175/F177,IF(F182>0,F182,"N/A")) -> N/A
B181: If "yes/no" as to whether the milestone has been achieved, select "yes" or "no" from the dropdown
B182: menu, and (if "yes") provide an in-depth description of how the milestone was achieved: | E182: *
B192: DY Target (from the DPH system plan) or enter "yes" if "yes/no" type of milestone | E192: *
C194: Achievement Value | F194: =IF(F192=0," ",IF(F182="Yes",1,IF(F182="No",0,IF(F179/F192>=1,1,IF(F179/F192>=0.75,0.75,IF(F179/F192>=0.5,0.5,IF(F179/F192>=0.25,0.25,0)))))))

Sheet SSI
A1: ='Total Payment Amount'!A1 -> CA 1115 Waiver - Delivery System Reform Incentive Payments (DSRIP)
A2: ='Total Payment Amount'!B2 -> DPH SYSTEM: | D2: =IF('Total Payment Amount'!D2=0,"",'Total Payment Amount'!D2) -> Ventura County Medical Center
A3: ='Total Payment Amount'!B3 -> REPORTING YEAR: | D3: =IF('Total Payment Amount'!D3=0,"",'Total Payment Amount'!D3) -> DY 6
A4: ='Total Payment Amount'!B4 -> DATE OF SUBMISSION: | D4: =IF('Total Payment Amount'!D4=0,"",'Total Payment Amount'!D4) -> 40678
D5: REPORTING ON THIS PROJECT: | E5: * | F5: Yes
A6: Category 4: Surgical Site Infection Prevention
A8: Below is the data reported for the DPH system.
A9: * | B9: Instructions for DPH systems: Please select above whether you are reporting on this project. If 'yes',
A10: please type in all of your DY milestones for the project below and report data in the indicated boxes (*).
A11: * | C11: The yellow boxes indicate where the DPH system should input data
C12: The black boxes indicate Milestones and will automatically populate and flow to summary sheets
C13: The blue boxes show progress made toward the Milestone ("Achievement Value") and will automatically
C14: populate and flow to summary sheets
A16: Surgical Site Infection Prevention
B18: DY Total Computable Incentive Amount: | E18: * | F18: 695750
B20: Incentive Funding Already Received in DY: | E20: * | F20: 695750
B22: Rate of surgical site infection for Class 1 and 2 wounds (%)
B24: Numerator | E24: * | F24: Yes
B26: Denominator | E26: *
C28: % Infection Rate | F28: =IF(F26>0,F24/F26,IF(F31>0,F31,"N/A")) -> N/A
B30: DY Target (from the DPH system plan) | E30: *
C32: Achievement Value | F32: =IF(F30=0,"",(F28/F30))
D34: Develop a process to track and report SSI related to procedures reportable to the State of California
B35: Optional Milestone: ________________________________
D36: (insert milestone)
B38: Numerator (if N/A, use "yes/no" form below; if absolute number, enter here) | E38: * | F38: Yes
B40: Denominator (if absolute number, enter "1") | E40: *
C42: Achievement | F42: =IF(F40>0,F38/F40,IF(F45>0,F45,"N/A")) -> Yes
B44: If "yes/no" as to whether the milestone has been achieved, select "yes" or "no" from the dropdown
B45: menu, and (if "yes") provide an in-depth description of how the milestone was achieved: | E45: * | F45: Yes
B47: Infection Control Officer or designee has developed a process which allows for reportable information that are transmitted to the State of California periodically. This process includes data submission from medical records, data input from surgical services and education of staff and physicians to reduce the number of SSI. This process was refined and staff educated on process in January 2011.
B55: DY Target (from the DPH system plan) or enter "yes" if "yes/no" type of milestone | E55: * | F55: Yes
C57: Achievement Value | F57: =IF(F55=0," ",IF(F45="Yes",1,IF(F45="No",0,IF(F42/F55>=1,1,IF(F42/F55>=0.75,0.75,IF(F42/F55>=0.5,0.5,IF(F42/F55>=0.25,0.25,0))))))) -> 1
B60: Optional Milestone: ________________________________
D61: (insert milestone)
B63: Numerator (if N/A, use "yes/no" form below; if absolute number, enter here) | E63: *
B65: Denominator (if absolute number, enter "1") | E65: *
C67: Achievement | F67: =IF(F65>0,F63/F65,IF(F70>0,F70,"N/A")) -> N/A
B69: If "yes/no" as to whether the milestone has been achieved, select "yes" or "no" from the dropdown
B70: menu, and (if "yes") provide an in-depth description of how the milestone was achieved: | E70: *
B80: DY Target (from the DPH system plan) or enter "yes" if "yes/no" type of milestone | E80: *
C82: Achievement Value | F82: =IF(F80=0," ",IF(F70="Yes",1,IF(F70="No",0,IF(F67/F80>=1,1,IF(F67/F80>=0.75,0.75,IF(F67/F80>=0.5,0.5,IF(F67/F80>=0.25,0.25,0)))))))
B85: Optional Milestone: ________________________________
D86: (insert milestone)
B88: Numerator (if N/A, use "yes/no" form below; if absolute number, enter here) | E88: *
B90: Denominator (if absolute number, enter "1") | E90: *
C92: Achievement | F92: =IF(F90>0,F88/F90,IF(F95>0,F95,"N/A")) -> N/A
B94: If "yes/no" as to whether the milestone has been achieved, select "yes" or "no" from the dropdown
B95: menu, and (if "yes") provide an in-depth description of how the milestone was achieved: | E95: *
B105: DY Target (from the DPH system plan) or enter "yes" if "yes/no" type of milestone | E105: *
C107: Achievement Value | F107: =IF(F105=0," ",IF(F95="Yes",1,IF(F95="No",0,IF(F92/F105>=1,1,IF(F92/F105>=0.75,0.75,IF(F92/F105>=0.5,0.5,IF(F92/F105>=0.25,0.25,0)))))))
B110: Optional Milestone: ________________________________
D111: (insert milestone)
B113: Numerator (if N/A, use "yes/no" form below; if absolute number, enter here) | E113: *
B115: Denominator (if absolute number, enter "1") | E115: *
C117: Achievement | F117: =IF(F115>0,F113/F115,IF(F120>0,F120,"N/A")) -> N/A
B119: If "yes/no" as to whether the milestone has been achieved, select "yes" or "no" from the dropdown
B120: menu, and (if "yes") provide an in-depth description of how the milestone was achieved: | E120: *
B130: DY Target (from the DPH system plan) or enter "yes" if "yes/no" type of milestone | E130: *
C132: Achievement Value | F132: =IF(F130=0," ",IF(F120="Yes",1,IF(F120="No",0,IF(F117/F130>=1,1,IF(F117/F130>=0.75,0.75,IF(F117/F130>=0.5,0.5,IF(F117/F130>=0.25,0.25,0)))))))
B135: Optional Milestone: ________________________________
D136: (insert milestone)
B138: Numerator (if N/A, use "yes/no" form below; if absolute number, enter here) | E138: *
B140: Denominator (if absolute number, enter "1") | E140: *
C142: Achievement | F142: =IF(F140>0,F138/F140,IF(F145>0,F145,"N/A")) -> N/A
B144: If "yes/no" as to whether the milestone has been achieved, select "yes" or "no" from the dropdown
B145: menu, and (if "yes") provide an in-depth description of how the milestone was achieved: | E145: *
B155: DY Target (from the DPH system plan) or enter "yes" if "yes/no" type of milestone | E155: *
C157: Achievement Value | F157: =IF(F155=0," ",IF(F145="Yes",1,IF(F145="No",0,IF(F142/F155>=1,1,IF(F142/F155>=0.75,0.75,IF(F142/F155>=0.5,0.5,IF(F142/F155>=0.25,0.25,0)))))))
B160: Optional Milestone: ________________________________
D161: (insert milestone)
B163: Numerator (if N/A, use "yes/no" form below; if absolute number, enter here) | E163: *
B165: Denominator (if absolute number, enter "1") | E165: *
C167: Achievement | F167: =IF(F165>0,F163/F165,IF(F170>0,F170,"N/A")) -> N/A
B169: If "yes/no" as to whether the milestone has been achieved, select "yes" or "no" from the dropdown
B170: menu, and (if "yes") provide an in-depth description of how the milestone was achieved: | E170: *
B180: DY Target (from the DPH system plan) or enter "yes" if "yes/no" type of milestone | E180: *
C182: Achievement Value | F182: =IF(F180=0," ",IF(F170="Yes",1,IF(F170="No",0,IF(F167/F180>=1,1,IF(F167/F180>=0.75,0.75,IF(F167/F180>=0.5,0.5,IF(F167/F180>=0.25,0.25,0)))))))

Sheet HAPU
A1: ='Total Payment Amount'!A1 -> CA 1115 Waiver - Delivery System Reform Incentive Payments (DSRIP)
A2: ='Total Payment Amount'!B2 -> DPH SYSTEM: | D2: =IF('Total Payment Amount'!D2=0,"",'Total Payment Amount'!D2) -> Ventura County Medical Center
A3: ='Total Payment Amount'!B3 -> REPORTING YEAR: | D3: =IF('Total Payment Amount'!D3=0,"",'Total Payment Amount'!D3) -> DY 6
A4: ='Total Payment Amount'!B4 -> DATE OF SUBMISSION: | D4: =IF('Total Payment Amount'!D4=0,"",'Total Payment Amount'!D4) -> 40678
D5: REPORTING ON THIS PROJECT: | E5: * | F5: Yes
A6: Category 4: Hospital-Acquired Pressure Ulcer Prevention
A8: Below is the data reported for the DPH system.
A9: * | B9: Instructions for DPH systems: Please select above whether you are reporting on this project. If 'yes',
A10: please type in all of your DY milestones for the project below and report data in the indicated boxes (*).
A11: * | C11: The yellow boxes indicate where the DPH system should input data
C12: The black boxes indicate Milestones and will automatically populate and flow to summary sheets
C13: The blue boxes show progress made toward the Milestone ("Achievement Value") and will automatically
C14: populate and flow to summary sheets
A16: Hospital-Acquired Pressure Ulcer Prevention
B18: DY Total Computable Incentive Amount: | E18: * | F18: 695750
B20: Incentive Funding Already Received in DY: | E20: * | F20: 695750
B22: Prevalence of Stage II, III, IV or unstagable pressure ulcers (%)
B24: Numerator | E24: *
B26: Denominator | E26: *
C28: Prevalence (%) | F28: =IF(F26>0,F24/F26,IF(F31>0,F31,"N/A")) -> N/A
B30: DY Target (from the DPH system plan) | E30: *
C32: Achievement Value | F32: =IF(F30=0,"",(F28/F30))
D34: Join a collaborative related to decreasing the occurrence of hospital acquired pressure ulcers (HAPU)
B35: Optional Milestone: ________________________________
D36: (insert milestone)
B38: Numerator (if N/A, use "yes/no" form below; if absolute number, enter here) | E38: * | F38: Yes
B40: Denominator (if absolute number, enter "1") | E40: *
C42: Achievement | F42: =IF(F40>0,F38/F40,IF(F45>0,F45,"N/A")) -> Yes
B44: If "yes/no" as to whether the milestone has been achieved, select "yes" or "no" from the dropdown
B45: menu, and (if "yes") provide an in-depth description of how the milestone was achieved: | E45: * | F45: Yes
B47: VCMC was chosen by Kaiser Foundation to participate in a HAPU educational process. This allowed VCMC to establish a HAPU team, which occurred in December 2010. This team consists of Registered Nurses, Dieticians, Physical Therapists and Physicians. In April 2011, one VCMC RN completed a Wound Certification course and passed the test. She is now part of the HAPU team.
B55: DY Target (from the DPH system plan) or enter "yes" if "yes/no" type of milestone | E55: * | F55: Yes
C57: Achievement Value | F57: =IF(F55=0," ",IF(F45="Yes",1,IF(F45="No",0,IF(F42/F55>=1,1,IF(F42/F55>=0.75,0.75,IF(F42/F55>=0.5,0.5,IF(F42/F55>=0.25,0.25,0))))))) -> 1
B60: Optional Milestone: ________________________________
D61: (insert milestone)
B63: Numerator (if N/A, use "yes/no" form below; if absolute number, enter here) | E63: *
B65: Denominator (if absolute number, enter "1") | E65: *
C67: Achievement | F67: =IF(F65>0,F63/F65,IF(F70>0,F70,"N/A")) -> N/A
B69: If "yes/no" as to whether the milestone has been achieved, select "yes" or "no" from the dropdown
B70: menu, and (if "yes") provide an in-depth description of how the milestone was achieved: | E70: *
B80: DY Target (from the DPH system plan) or enter "yes" if "yes/no" type of milestone | E80: *
C82: Achievement Value | F82: =IF(F80=0," ",IF(F70="Yes",1,IF(F70="No",0,IF(F67/F80>=1,1,IF(F67/F80>=0.75,0.75,IF(F67/F80>=0.5,0.5,IF(F67/F80>=0.25,0.25,0)))))))
B85: Optional Milestone: ________________________________
D86: (insert milestone)
B88: Numerator (if N/A, use "yes/no" form below; if absolute number, enter here) | E88: *
B90: Denominator (if absolute number, enter "1") | E90: *
C92: Achievement | F92: =IF(F90>0,F88/F90,IF(F95>0,F95,"N/A")) -> N/A
B94: If "yes/no" as to whether the milestone has been achieved, select "yes" or "no" from the dropdown
B95: menu, and (if "yes") provide an in-depth description of how the milestone was achieved: | E95: *
B105: DY Target (from the DPH system plan) or enter "yes" if "yes/no" type of milestone | E105: *
C107: Achievement Value | F107: =IF(F105=0," ",IF(F95="Yes",1,IF(F95="No",0,IF(F92/F105>=1,1,IF(F92/F105>=0.75,0.75,IF(F92/F105>=0.5,0.5,IF(F92/F105>=0.25,0.25,0)))))))
B110: Optional Milestone: ________________________________
D111: (insert milestone)
B113: Numerator (if N/A, use "yes/no" form below; if absolute number, enter here) | E113: *
B115: Denominator (if absolute number, enter "1") | E115: *
C117: Achievement | F117: =IF(F115>0,F113/F115,IF(F120>0,F120,"N/A")) -> N/A
B119: If "yes/no" as to whether the milestone has been achieved, select "yes" or "no" from the dropdown
B120: menu, and (if "yes") provide an in-depth description of how the milestone was achieved: | E120: *
B130: DY Target (from the DPH system plan) or enter "yes" if "yes/no" type of milestone | E130: *
C132: Achievement Value | F132: =IF(F130=0," ",IF(F120="Yes",1,IF(F120="No",0,IF(F117/F130>=1,1,IF(F117/F130>=0.75,0.75,IF(F117/F130>=0.5,0.5,IF(F117/F130>=0.25,0.25,0)))))))
B135: Optional Milestone: ________________________________
D136: (insert milestone)
B138: Numerator (if N/A, use "yes/no" form below; if absolute number, enter here) | E138: *
B140: Denominator (if absolute number, enter "1") | E140: *
C142: Achievement | F142: =IF(F140>0,F138/F140,IF(F145>0,F145,"N/A")) -> N/A
B144: If "yes/no" as to whether the milestone has been achieved, select "yes" or "no" from the dropdown
B145: menu, and (if "yes") provide an in-depth description of how the milestone was achieved: | E145: *
B155: DY Target (from the DPH system plan) or enter "yes" if "yes/no" type of milestone | E155: *
C157: Achievement Value | F157: =IF(F155=0," ",IF(F145="Yes",1,IF(F145="No",0,IF(F142/F155>=1,1,IF(F142/F155>=0.75,0.75,IF(F142/F155>=0.5,0.5,IF(F142/F155>=0.25,0.25,0)))))))
B160: Optional Milestone: ________________________________
D161: (insert milestone)
B163: Numerator (if N/A, use "yes/no" form below; if absolute number, enter here) | E163: *
B165: Denominator (if absolute number, enter "1") | E165: *
C167: Achievement | F167: =IF(F165>0,F163/F165,IF(F170>0,F170,"N/A")) -> N/A
B169: If "yes/no" as to whether the milestone has been achieved, select "yes" or "no" from the dropdown
B170: menu, and (if "yes") provide an in-depth description of how the milestone was achieved: | E170: *
B180: DY Target (from the DPH system plan) or enter "yes" if "yes/no" type of milestone | E180: *
C182: Achievement Value | F182: =IF(F180=0," ",IF(F170="Yes",1,IF(F170="No",0,IF(F167/F180>=1,1,IF(F167/F180>=0.75,0.75,IF(F167/F180>=0.5,0.5,IF(F167/F180>=0.25,0.25,0)))))))

Sheet Sheet1
A1: Yes
A2: No

Sheet Sheet4
A1: Alameda County Medical Center
A2: Arrowhead Regional Medical Center
A3: Contra Costa Regional Medical Center and Health Centers
A4: Kern Medical Center
A5: Los Angeles County Department of Health Services
A6: Natividad Medical Center
A7: Riverside County Regional Medical Center
A8: Santa Clara Valley Medical Center
A9: San Francisco General Hospital & Trauma Center
A10: San Joaquin General Hospital
A11: San Mateo Medical Center
A12: The University of California, Davis Medical Center
... A17: Ventura County Medical Center

Sheet Sheet5
A1: DY 6
A2: DY 7
A3: DY 8
A4: DY 9
A5: DY 10

Sheet Sheet48
A1: Manually (sample)
A2: Registry
A3: Data warehouse
A4: Practice management system
A5: Electronic medical record (EMR)
