Workbook
Name DPH: Sheet4!$A$1:$A$17
Name DY: Sheet5!$A$1:$A$5
Name Source: Sheet48!$A$1:$A$5
Name YesNo: Sheet1!$A$1:$A$2

Sheet Instructions
A1: CA 1115 Waiver - Delivery System Reform Incentive Payments (DSRIP)
A2: Reporting Form Instructions
A4: Dates Reports are Due
A6: DPH systems submit this report to the State twice a year:
C8: DY 6 (6-month) | D8: 40604
C9: DY 6 (year-end) | D9: 40678
C10: DY 7 (6-month) | D10: 40999
C11: DY 7 (year-end) | D11: 41182
C12: DY 8 (6-month) | D12: 41364
C13: DY 8 (year-end) | D13: 41547
C14: DY 9 (6-month) | D14: 41729
C15: DY 9 (year-end) | D15: 41912
C16: DY 10 (6-month) | D16: 42094
C17: DY 10 (year-end) | D17: 42277
A20: Use of This Reporting Form
A22: All DPH systems must use this reporting form template for reports starting May 15, 2011.
A23: For the year-end report, DPH systems will include the year-end narrative, the year-end report, and reattach the
B24: previously submitted 6-month report.
A25: DPH systems should follow the instructions at the top of each tab for completing the form. DPH systems should
B26: complete information for items marked "*" for each project tab and milestone being reported.

Sheet Total Payment Amount
A1: CA 1115 Waiver - Delivery System Reform Incentive Payments (DSRIP)
A2: * | B2: DPH SYSTEM: | D2: Ventura County Medical Center
A3: * | B3: REPORTING YEAR: | D3: DY 6
A4: * | B4: DATE OF SUBMISSION: | D4: 40678
A5: Total Payment Amount
A7: This table sums the eligible incentive funding amounts. Please see the following pages for the specifics.
A8: * | B8: Instructions for DPH systems: Please input the DPH System Name, Reporting DY & Date. Everything else on this
A9: tab will automatically populate.
A11: Category 1 Projects - Incentive Funding Amounts
A12: Expand Primary Care Capacity | F12: ='Category 1 Summary'!F67
A14: Increase Training of Primary Care Workforce | F14: ='Category 1 Summary'!F122 -> 0
A16: Implement and Utilize Disease Management Registry Functionality | F16: ='Category 1 Summary'!F177
A18: Enhance Interpretation Services and Culturally Competent Care | F18: ='Category 1 Summary'!F232 -> 0
A20: Collect Accurate Race, Ethnicity, and Language (REAL) Data to Reduce Disparities | F20: ='Category 1 Summary'!F287
A22: Enhance Urgent Medical Advice | F22: ='Category 1 Summary'!F342
A24: Introduce Telemedicine | F24: ='Category 1 Summary'!F397
A26: Enhance Coding and Documentation for Quality Data | F26: ='Category 1 Summary'!F452
A28: Develop Risk Stratification Capabilities/Functionalities | F28: ='Category 1 Summary'!F507
A30: Expand Capacity to Provide Specialty Care Access in the Primary Care Setting | F30: ='Category 1 Summary'!F562
A32: Expand Specialty Care Capacity | F32: ='Category 1 Summary'!F617
A34: Enhance Performance Improvement and Reporting Capacity | F34: ='Category 1 Summary'!F672 -> 0
A36: TOTAL CATEGORY 1 INCENTIVE PAYMENT: | F36: =SUM(F12,F14,F16,F18,F20,F22,F24,F26,F28,F30,F32,F34) -> 0
A38: Category 2 Projects
A39: Expand Medical Homes | F39: ='Category 2 Summary'!F67
A41: Expand Chronic Care Management Models | F41: ='Category 2 Summary'!F122 -> 0
A43: Redesign Primary Care | F43: ='Category 2 Summary'!F177
A45: Redesign to Improve Patient Experience | F45: ='Category 2 Summary'!F232
A47: Redesign for Cost Containment | F47: ='Category 2 Summary'!F287
A49: Integrate Physical and Behavioral Health Care | F49: ='Category 2 Summary'!F342 -> 0
A51: Increase Specialty Care Access/Redesign Referral Process | F51: ='Category 2 Summary'!F397
A53: Establish/Expand a Patient Care Navigation Program | F53: ='Category 2 Summary'!F452
A55: Apply Process Improvement Methodology to Improve Quality/Efficiency | F55: ='Category 2 Summary'!F507
A57: Improve Patient Flow in the Emergency Department/Rapid Medical Evaluation | F57: ='Category 2 Summary'!F562
A59: Use Palliative Care Programs | F59: ='Category 2 Summary'!F617 -> 0
A61: Conduct Medication Management | F61: ='Category 2 Summary'!F672
A63: Implement/Expand Care Transitions Programs | F63: ='Category 2 Summary'!F727
A65: Implement Real-Time Hospital-Acquired Infections (HAIs) System | F65: ='Category 2 Summary'!F782
A67: TOTAL CATEGORY 2 INCENTIVE PAYMENT: | F67: =SUM(F39,F41,F43,F45,F47,F49,F51,F53,F55,F57,F59,F61,F63,F65) -> 0
A69: Category 3 Domains
A70: Patient/Care Giver Experience (required) | F70: ='Category 3 Summary'!F58
...

Sheet Year-End Narrative
A1: CA 1115 Waiver - Delivery System Reform Incentive Payments (DSRIP)
A2: ='Total Payment Amount'!B2 -> DPH SYSTEM: | D2: =IF('Total Payment Amount'!D2=0,"",'Total Payment Amount'!D2) -> Ventura County Medical Center
A3: ='Total Payment Amount'!B3 -> REPORTING YEAR: | D3: =IF('Total Payment Amount'!D3=0,"",'Total Payment Amount'!D3) -> DY 6
A4: ='Total Payment Amount'!B4 -> DATE OF SUBMISSION: | D4: =IF('Total Payment Amount'!D4=0,"",'Total Payment Amount'!D4) -> 40678
A5: Year-End Narrative
A7: This narrative summarizes the DSRIP activities performed in the reporting demonstration year.
A8: * | B8: Instructions for DPH systems: Please complete the narrative for year-end reports. The narrative must include
A9: a description of progress made, lessons learned, challenges faced, other pertinent findings and participation in
A10: shared learning.
A12: Summary of Demonstration Year Activities
B13: Category 1
A62: Summary of DPH System's Participation in Shared Learning
B63: Category 2
A118: Summary of DPH System's Participation in Shared Learning
B119: Category 4

Sheet Category 1 Summary
A1: ='Total Payment Amount'!A1 -> CA 1115 Waiver - Delivery System Reform Incentive Payments (DSRIP)
A2: ='Total Payment Amount'!B2 -> DPH SYSTEM: | D2: =IF('Total Payment Amount'!D2=0,"",'Total Payment Amount'!D2) -> Ventura County Medical Center
A3: ='Total Payment Amount'!B3 -> REPORTING YEAR: | D3: =IF('Total Payment Amount'!D3=0,"",'Total Payment Amount'!D3) -> DY 6
A4: ='Total Payment Amount'!B4 -> DATE OF SUBMISSION: | D4: =IF('Total Payment Amount'!D4=0,"",'Total Payment Amount'!D4) -> 40678
A5: Category 1 Summary Page
A7: This table is the summary of data reported for the DPH system. Please see the following pages for the specifics.
A8: * | B8: Instructions for DPH systems: Do not complete, this tab will automatically populate.
C9: The black boxes indicate Milestone achievements, either "yes/no", or the actual achievement # or %.
C10: The blue boxes show progress made toward the Milestone ("Achievement Value") of 1.0, 0.75. 0.5, 0.25 or 0.
C11: The red boxes indicate Total Sums.
A13: Category 1 Projects
A14: Expand Primary Care Capacity
B15: =#REF! -> #REF! | F15: =#REF! -> #REF!
C17: Achievement Value | F17: =#REF! -> #REF!
B19: =#REF! -> #REF! | F19: =#REF! -> #REF!
C21: Achievement Value | F21: =#REF! -> #REF!
B23: =#REF! -> #REF! | F23: =#REF! -> #REF!
C25: Achievement Value | F25: =#REF! -> #REF!
B27: =#REF! -> #REF! | F27: =#REF! -> #REF!
C29: Achievement Value | F29: =#REF! -> #REF!
B31: =#REF! -> #REF! | F31: =#REF! -> #REF!
C33: Achievement Value | F33: =#REF! -> #REF!
B35: =#REF! -> #REF! | F35: =#REF! -> #REF!
C37: Achievement Value | F37: =#REF! -> #REF!
B39: =#REF! -> #REF! | F39: =#REF! -> #REF!
C41: Achievement Value | F41: =#REF! -> #REF!
B43: =#REF! -> #REF! | F43: =#REF! -> #REF!
C45: Achievement Value | F45: =#REF! -> #REF!
B47: =#REF! -> #REF! | F47: =#REF! -> #REF!
C49: Achievement Value | F49: =#REF! -> #REF!
B51: =#REF! -> #REF! | F51: =#REF! -> #REF!
C53: Achievement Value | F53: =#REF! -> #REF!
B55: DY Total Computable Incentive Amount: | F55: =#REF! -> #REF!
B57: Total Sum of Achievement Values: | F57: =SUM(F53,F49,F45,F41,F37,F33,F29,F25,F21,F17) -> #REF!
B59: Total Number of Milestones: | F59: =COUNT(F53,F49,F45,F41,F37,F33,F29,F25,F21,F17) -> 0
B61: Achievement Value Percentage: | F61: =IF(F59=0," ",F57/F59)
B63: Eligible Incentive Funding Amount: | F63: =IF(F59=0," ",F61*F55)
B65: Incentive Funding Already Received in DY: | F65: =#REF! -> #REF!
B67: Incentive Payment Amount: | F67: =IF(F59=0," ",F63-F65)
A69: Increase Training of Primary Care Workforce
...

Sheet Category 2 Summary
A1: ='Total Payment Amount'!A1 -> CA 1115 Waiver - Delivery System Reform Incentive Payments (DSRIP)
A2: ='Total Payment Amount'!B2 -> DPH SYSTEM: | D2: =IF('Total Payment Amount'!D2=0,"",'Total Payment Amount'!D2) -> Ventura County Medical Center
A3: ='Total Payment Amount'!B3 -> REPORTING YEAR: | D3: =IF('Total Payment Amount'!D3=0,"",'Total Payment Amount'!D3) -> DY 6
A4: ='Total Payment Amount'!B4 -> DATE OF SUBMISSION: | D4: =IF('Total Payment Amount'!D4=0,"",'Total Payment Amount'!D4) -> 40678
A5: Category 2 Summary Page
A7: This table is the summary of data reported for the DPH system. Please see the following pages for the specifics.
A8: * | B8: Instructions for DPH systems: Do not complete, this tab will automatically populate.
C9: The black boxes indicate Milestone achievements, either "yes/no", or the actual achievement # or %.
C10: The blue boxes show progress made toward the Milestone ("Achievement Value") of 1.0, 0.75. 0.5, 0.25 or 0.
C11: The red boxes indicate Total Sums.
A13: Category 2 Projects
A14: Expand Medical Homes
B15: =#REF! -> #REF! | F15: =#REF! -> #REF!
C17: Achievement Value | F17: =#REF! -> #REF!
B19: =#REF! -> #REF! | F19: =#REF! -> #REF!
C21: Achievement Value | F21: =#REF! -> #REF!
B23: =#REF! -> #REF! | F23: =#REF! -> #REF!
C25: Achievement Value | F25: =#REF! -> #REF!
B27: =#REF! -> #REF! | F27: =#REF! -> #REF!
C29: Achievement Value | F29: =#REF! -> #REF!
B31: =#REF! -> #REF! | F31: =#REF! -> #REF!
C33: Achievement Value | F33: =#REF! -> #REF!
B35: =#REF! -> #REF! | F35: =#REF! -> #REF!
C37: Achievement Value | F37: =#REF! -> #REF!
B39: =#REF! -> #REF! | F39: =#REF! -> #REF!
C41: Achievement Value | F41: =#REF! -> #REF!
B43: =#REF! -> #REF! | F43: =#REF! -> #REF!
C45: Achievement Value | F45: =#REF! -> #REF!
B47: =#REF! -> #REF! | F47: =#REF! -> #REF!
C49: Achievement Value | F49: =#REF! -> #REF!
B51: =#REF! -> #REF! | F51: =#REF! -> #REF!
C53: Achievement Value | F53: =#REF! -> #REF!
B55: DY Total Computable Incentive Amount: | F55: =#REF! -> #REF!
B57: Total Sum of Achievement Values: | F57: =SUM(F53,F49,F45,F41,F37,F33,F29,F25,F21,F17) -> #REF!
B59: Total Number of Milestones: | F59: =COUNT(F53,F49,F45,F41,F37,F33,F29,F25,F21,F17) -> 0
B61: Achievement Value Percentage: | F61: =IF(F59=0," ",F57/F59)
B63: Eligible Incentive Funding Amount: | F63: =IF(F59=0," ",F61*F55)
B65: Incentive Funding Already Received in DY: | F65: =#REF! -> #REF!
B67: Incentive Payment Amount: | F67: =IF(F59=0," ",F63-F65)
A69: Expand Chronic Care Management Models
...

Sheet Category 3 Summary
A1: ='Total Payment Amount'!A1 -> CA 1115 Waiver - Delivery System Reform Incentive Payments (DSRIP)
A2: ='Total Payment Amount'!B2 -> DPH SYSTEM: | D2: =IF('Total Payment Amount'!D2=0,"",'Total Payment Amount'!D2) -> Ventura County Medical Center
A3: ='Total Payment Amount'!B3 -> REPORTING YEAR: | D3: =IF('Total Payment Amount'!D3=0,"",'Total Payment Amount'!D3) -> DY 6
A4: ='Total Payment Amount'!B4 -> DATE OF SUBMISSION: | D4: =IF('Total Payment Amount'!D4=0,"",'Total Payment Amount'!D4) -> 40678
A5: Category 3 Summary Page
A7: This table is the summary of data reported for the DPH system. Please see the following pages for the specifics.
A8: * | B8: Instructions for DPH systems: Do not complete, this tab will automatically populate.
C9: The black boxes indicate Milestone achievements, either "yes/no", or the actual achievement # or %.
C10: The blue boxes show progress made toward the Milestone ("Achievement Value") of 1.0, 0.75. 0.5, 0.25 or 0.
C11: The red boxes indicate Total Sums.
A13: Category 3 Domains
A14: =#REF! -> #REF!
B15: =#REF! -> #REF!
B16: =#REF! -> #REF! | F16: =#REF! -> #REF!
C18: Achievement Value | F18: =#REF! -> #REF!
B20: =#REF! -> #REF!
B21: =#REF! -> #REF! | F21: =#REF! -> #REF!
C22: Numerator: Number of patients in population expiring during current month hospitalization with sepsis, severe sepsis or septic shock and/or an infection and organ dysfunction. Denominator: Number of patients identified in the population that month with sepsis, severe sepsis or septic shock and/or an infection and organ dysfunction.
C24: Achievement Value | F24: =#REF! -> #REF!
B26: =#REF! -> #REF!
B27: =#REF! -> #REF! | F27: =#REF! -> #REF!
C29: Achievement Value | F29: =#REF! -> #REF!
B31: =#REF! -> #REF!
B32: =#REF! -> #REF! | F32: =#REF! -> #REF!
C34: Achievement Value | F34: =#REF! -> #REF!
B36: =#REF! -> #REF!
B37: =#REF! -> #REF! | F37: =#REF! -> #REF!
C39: Achievement Value | F39: =#REF! -> #REF!
B41: =#REF! -> #REF!
B42: =#REF! -> #REF! | F42: =#REF! -> #REF!
C44: Achievement Value | F44: =#REF! -> #REF!
B46: DY Total Computable Incentive Amount: | F46: =#REF! -> #REF!
B48: Total Sum of Achievement Values: | F48: =SUM(F18,F24,F29,F34,F39,F44) -> #REF!
B50: Total Number of Milestones: | F50: =COUNT(F18,F24,F29,F34,F39,F44) -> 0
B52: Achievement Value Percentage: | F52: =IF(F50=0," ",F48/F50)
B54: Eligible Incentive Funding Amount: | F54: =IF(F50=0," ",F52*F46)
B56: Incentive Funding Already Received in DY: | F56: =#REF! -> #REF!
B58: Incentive Payment Amount: | F58: =IF(F50=0," ",F54-F56)
A60: =#REF! -> #REF!
B61: =#REF! -> #REF!
...

Sheet Category 4 Summary
A1: ='Total Payment Amount'!A1 -> CA 1115 Waiver - Delivery System Reform Incentive Payments (DSRIP)
A2: ='Total Payment Amount'!B2 -> DPH SYSTEM: | D2: =IF('Total Payment Amount'!D2=0,"",'Total Payment Amount'!D2) -> Ventura County Medical Center
A3: ='Total Payment Amount'!B3 -> REPORTING YEAR: | D3: =IF('Total Payment Amount'!D3=0,"",'Total Payment Amount'!D3) -> DY 6
A4: ='Total Payment Amount'!B4 -> DATE OF SUBMISSION: | D4: =IF('Total Payment Amount'!D4=0,"",'Total Payment Amount'!D4) -> 40678
A5: Category 4 Summary Page
A7: This table is the summary of data reported for the DPH system. Please see the following pages for the specifics.
A8: * | B8: Instructions for DPH systems: Do not complete, this tab will automatically populate.
C9: The black boxes indicate Milestone achievements, either "yes/no", or the actual achievement # or %.
C10: The blue boxes show progress made toward the Milestone ("Achievement Value") of 1.0, 0.75. 0.5, 0.25 or 0.
C11: The red boxes indicate Total Sums.
A13: Category 4 Interventions
A14: Severe Sepsis Detection and Management (required)
B15: =Sepsis!B21 -> Compliance with Sepsis Resuscitation bundle (%) | F15: =Sepsis!F27 -> N/A
C17: Achievement Value | F17: =Sepsis!F31
B19: =Sepsis!B34 -> Sepis Mortality (%) | F19: =Sepsis!F40 -> N/A
C20: Numerator: Number of patients in population expiring during current month hospitalization with sepsis, severe sepsis or septic shock and/or an infection and organ dysfunction. Denominator: Number of patients identified in the population that month with sepsis, severe sepsis or septic shock and/or an infection and organ dysfunction.
C22: Achievement Value | F22: =Sepsis!F44
B24: =Sepsis!B47 -> Optional Milestone: ________________________________ | D24: Designate multidisciplinary team to improve Sever Sepsis Detection and Management | F24: =Sepsis!F54 -> Yes
C26: Achievement Value | F26: =Sepsis!F69 -> 1
B28: =Sepsis!B72 -> Optional Milestone: ________________________________ | F28: =Sepsis!F79 -> N/A
C30: Achievement Value | F30: =Sepsis!F94
B32: =Sepsis!B97 -> Optional Milestone: ________________________________ | F32: =Sepsis!F129 -> N/A
C34: Achievement Value | F34: =Sepsis!F144
B36: =Sepsis!B122 -> Optional Milestone: ________________________________ | F36: =Sepsis!F129 -> N/A
C38: Achievement Value | F38: =Sepsis!F144
B40: =Sepsis!B147 -> Optional Milestone: ________________________________ | F40: =Sepsis!F154 -> N/A
C42: Achievement Value | F42: =Sepsis!F169
B44: =Sepsis!B172 -> Optional Milestone: ________________________________ | F44: =Sepsis!F179 -> N/A
C46: Achievement Value | F46: =Sepsis!F194
B48: DY Total Computable Incentive Amount: | F48: =Sepsis!F17 -> 695750
B50: Total Sum of Achievement Values: | F50: =SUM(F17,F22,F26,F30,F34,F38,F42,F46) -> 1
B52: Total Number of Milestones: | F52: =COUNT(F17,F22,F26,F30,F34,F38,F42,F46) -> 1
B54: Achievement Value Percentage: | F54: =IF(F52=0," ",F50/F52) -> 1
B56: Eligible Incentive Funding Amount: | F56: =IF(F52=0," ",F54*F48) -> 695750
B58: Incentive Funding Already Received in DY: | F58: =Sepsis!F19 -> 695750
B60: Incentive Payment Amount: | F60: =IF(F52=0," ",F56-F58) -> 0
A62: Central Line Associated Blood Stream Infection Prevention (required)
B63: =CLABSI!B21 -> Compliance with Central Line Insertion Practices (CLIP) (%) | F63: =CLABSI!F27 -> N/A
C65: Achievement Value | F65: =CLABSI!F31
B67: =CLABSI!B34 -> Central Line Bloodstream Infection (Rate per 1,000 patient days) | F67: =CLABSI!F40 -> N/A
...

Sheet Training Primary Care Workforce
A1: ='Total Payment Amount'!A1 -> CA 1115 Waiver - Delivery System Reform Incentive Payments (DSRIP)
A2: ='Total Payment Amount'!B2 -> DPH SYSTEM: | D2: =IF('Total Payment Amount'!D2=0,"",'Total Payment Amount'!D2) -> Ventura County Medical Center
A3: ='Total Payment Amount'!B3 -> REPORTING YEAR: | D3: =IF('Total Payment Amount'!D3=0,"",'Total Payment Amount'!D3) -> DY 6
A4: ='Total Payment Amount'!B4 -> DATE OF SUBMISSION: | D4: =IF('Total Payment Amount'!D4=0,"",'Total Payment Amount'!D4) -> 40678
D5: REPORTING ON THIS PROJECT: | E5: * | F5: Yes
A6: Category 1: Increase Training of Primary Care Workforce
A8: Below is the data reported for the DPH system.
A9: * | B9: Instructions for DPH systems: Please select above whether you are reporting on this project. If 'yes',
A10: please type in all of your DY milestones for the project below and report data in the indicated boxes (*).
A11: * | C11: The yellow boxes indicate where the DPH system should input data
C12: The black boxes indicate Milestones and will automatically populate and flow to summary sheets
C13: The blue boxes show progress made toward the Milestone ("Achievement Value") and will automatically
C14: populate and flow to summary sheets
A16: Increase Training of Primary Care Workforce
B18: DY Total Computable Incentive Amount: | E18: * | F18: 3964625
B20: Incentive Funding Already Received in DY: | E20: * | F20: 3964625
B22: Process Milestone: ________________________________ | D22: Develop a plan for expansion of the Family Medicine Residency Program
D23: (insert milestone)
B25: Numerator (if N/A, use "yes/no" form below; if absolute number, enter here) | E25: * | F25: Yes
B27: Denominator (if absolute number, enter "1") | E27: *
C29: Achievement | F29: =IF(F27>0,F25/F27,IF(F32>0,F32,"N/A")) -> Yes
B31: If "yes/no" as to whether the milestone has been achieved, select "yes" or "no" from the dropdown
B32: menu, and (if "yes") provide an in-depth description of how the milestone was achieved: | E32: * | F32: Yes
B34: Plan developed for expansion of Residency program was completed. Submitted Residency complement expansion request to the National Resident Matching Program to increase the number of Residents from 14 to 16. Submission was completed in January 2011. In March 2011, match process completed with a full complement of 16 Residents to begin in June 2011.
B42: DY Target (from the DPH system plan) or enter "yes" if "yes/no" type of milestone | E42: * | F42: yes
C44: Achievement Value | F44: =IF(F42=0," ",IF(F32="Yes",1,IF(F32="No",0,IF(F29/F42>=1,1,IF(F29/F42>=0.75,0.75,IF(F29/F42>=0.5,0.5,IF(F29/F42>=0.25,0.25,0))))))) -> 1
B47: Process Milestone: ________________________________
D48: (insert milestone)
B50: Numerator (if N/A, use "yes/no" form below; if absolute number, enter here) | E50: *
B52: Denominator (if absolute number, enter "1") | E52: *
C54: Achievement | F54: =IF(F52>0,F50/F52,IF(F57>0,F57,"N/A")) -> N/A
B56: If "yes/no" as to whether the milestone has been achieved, select "yes" or "no" from the dropdown
B57: menu, and (if "yes") provide an in-depth description of how the milestone was achieved: | E57: *
B67: DY Target (from the DPH system plan) or enter "yes" if "yes/no" type of milestone | E67: *
C69: Achievement Value | F69: =IF(F67=0," ",IF(F57="Yes",1,IF(F57="No",0,IF(F54/F67>=1,1,IF(F54/F67>=0.75,0.75,IF(F54/F67>=0.5,0.5,IF(F54/F67>=0.25,0.25,0)))))))
B72: Process Milestone: ________________________________
D73: (insert milestone)
B75: Numerator (if N/A, use "yes/no" form below; if absolute number, enter here) | E75: *
B77: Denominator (if absolute number, enter "1") | E77: *
C79: Achievement | F79: =IF(F77>0,F75/F77,IF(F82>0,F82,"N/A")) -> N/A
...

Sheet Interpretation Services
A1: ='Total Payment Amount'!A1 -> CA 1115 Waiver - Delivery System Reform Incentive Payments (DSRIP)
A2: ='Total Payment Amount'!B2 -> DPH SYSTEM: | D2: =IF('Total Payment Amount'!D2=0,"",'Total Payment Amount'!D2) -> Ventura County Medical Center
A3: ='Total Payment Amount'!B3 -> REPORTING YEAR: | D3: =IF('Total Payment Amount'!D3=0,"",'Total Payment Amount'!D3) -> DY 6
A4: ='Total Payment Amount'!B4 -> DATE OF SUBMISSION: | D4: =IF('Total Payment Amount'!D4=0,"",'Total Payment Amount'!D4) -> 40678
D5: REPORTING ON THIS PROJECT: | E5: * | F5: Yes
A6: Category 1: Enhance Interpretation Services and Culturally Competent Care
A8: Below is the data reported for the DPH system.
A9: * | B9: Instructions for DPH systems: Please select above whether you are reporting on this project. If 'yes',
A10: please type in all of your DY milestones for the project below and report data in the indicated boxes (*).
A11: * | C11: The yellow boxes indicate where the DPH system should input data
C12: The black boxes indicate Milestones and will automatically populate and flow to summary sheets
C13: The blue boxes show progress made toward the Milestone ("Achievement Value") and will automatically
C14: populate and flow to summary sheets
A16: Enhance Interpretation Services and Culturally Competent Care
B18: DY Total Computable Incentive Amount: | E18: * | F18: 7929250
B20: Incentive Funding Already Received in DY: | E20: * | F20: 7929250
D21: Collaborate with HCIN to install technology (dual phones and video conferencing) for interpretation at VCMC
B22: Process Milestone: ________________________________
D23: (insert milestone)
B25: Numerator (if N/A, use "yes/no" form below; if absolute number, enter here) | E25: * | F25: Yes
B27: Denominator (if absolute number, enter "1") | E27: *
C29: Achievement | F29: =IF(F27>0,F25/F27,IF(F32>0,F32,"N/A")) -> Yes
B31: If "yes/no" as to whether the milestone has been achieved, select "yes" or "no" from the dropdown
B32: menu, and (if "yes") provide an in-depth description of how the milestone was achieved: | E32: * | F32: Yes
B34: Acquired and opertationalized 5 HCIN terminals in the hospital in varying locations. Installation and activation was completed in February 2011. Hospitalwide training was completed in April 2011.
B42: DY Target (from the DPH system plan) or enter "yes" if "yes/no" type of milestone | E42: * | F42: Yes
C44: Achievement Value | F44: =IF(F42=0," ",IF(F32="Yes",1,IF(F32="No",0,IF(F29/F42>=1,1,IF(F29/F42>=0.75,0.75,IF(F29/F42>=0.5,0.5,IF(F29/F42>=0.25,0.25,0))))))) -> 1
D46: Designate one trilingual (English, Spanish, Mixteco) translator and train/certify as a health care interpreter, to provide direct interpretation services to OB patients in VCMC
B47: Process Milestone: ________________________________
D48: (insert milestone)
B50: Numerator (if N/A, use "yes/no" form below; if absolute number, enter here) | E50: * | F50: Yes
B52: Denominator (if absolute number, enter "1") | E52: *
C54: Achievement | F54: =IF(F52>0,F50/F52,IF(F57>0,F57,"N/A")) -> Yes
B56: If "yes/no" as to whether the milestone has been achieved, select "yes" or "no" from the dropdown
B57: menu, and (if "yes") provide an in-depth description of how the milestone was achieved: | E57: * | F57: Yes
B59: One trilingual translator was hired and trained to provide translation services within the hospital in January 2011. Translator began providing translation services in OB for 40 hours/week in February 2011 and is doing outreach in other areas of the hospital as well providing translation.
B67: DY Target (from the DPH system plan) or enter "yes" if "yes/no" type of milestone | E67: * | F67: Yes
C69: Achievement Value | F69: =IF(F67=0," ",IF(F57="Yes",1,IF(F57="No",0,IF(F54/F67>=1,1,IF(F54/F67>=0.75,0.75,IF(F54/F67>=0.5,0.5,IF(F54/F67>=0.25,0.25,0))))))) -> 1
B72: Process Milestone: ________________________________
D73: (insert milestone)
...

Sheet Perf Improvement & Reporting
A1: ='Total Payment Amount'!A1 -> CA 1115 Waiver - Delivery System Reform Incentive Payments (DSRIP)
A2: ='Total Payment Amount'!B2 -> DPH SYSTEM: | D2: =IF('Total Payment Amount'!D2=0,"",'Total Payment Amount'!D2) -> Ventura County Medical Center
A3: ='Total Payment Amount'!B3 -> REPORTING YEAR: | D3: =IF('Total Payment Amount'!D3=0,"",'Total Payment Amount'!D3) -> DY 6
A4: ='Total Payment Amount'!B4 -> DATE OF SUBMISSION: | D4: =IF('Total Payment Amount'!D4=0,"",'Total Payment Amount'!D4) -> 40678
D5: REPORTING ON THIS PROJECT: | E5: * | F5: Yes
A6: Category 1: Enhance Performance Improvement and Reporting Capacity
A8: Below is the data reported for the DPH system.
A9: * | B9: Instructions for DPH systems: Please select above whether you are reporting on this project. If 'yes',
A10: please type in all of your DY milestones for the project below and report data in the indicated boxes (*).
A11: * | C11: The yellow boxes indicate where the DPH system should input data
C12: The black boxes indicate Milestones and will automatically populate and flow to summary sheets
C13: The blue boxes show progress made toward the Milestone ("Achievement Value") and will automatically
C14: populate and flow to summary sheets
A16: Enhance Performance Improvement and Reporting Capacity
B18: DY Total Computable Incentive Amount: | E18: * | F18: 3964625
B20: Incentive Funding Already Received in DY: | E20: * | F20: 3964625
D21: Restructure the Performance Improvement (PI) Department to manage data, improve trajectory and improvement activities (Lean) across the Helath Care Agency.
B22: Process Milestone: ________________________________
D23: (insert milestone)
B25: Numerator (if N/A, use "yes/no" form below; if absolute number, enter here) | E25: * | F25: Yes
B27: Denominator (if absolute number, enter "1") | E27: *
C29: Achievement | F29: =IF(F27>0,F25/F27,IF(F32>0,F32,"N/A")) -> Yes
B31: If "yes/no" as to whether the milestone has been achieved, select "yes" or "no" from the dropdown
B32: menu, and (if "yes") provide an in-depth description of how the milestone was achieved: | E32: * | F32: Yes
B34: Organizational restructure of Performance Improvement (PI) Department was implemented by having this department report directly to the Nurse Executive with a formal linkage to the Medical Staff Committees. By implementing this change, medical staff is involved in the PI process allowing for better endorsement of the PI projects. Policy and Procedure was updated to reflect the full integration of PI throughout the Health Care Agency. PI Manager was hired in November 2010 and completed Lean Training in March 2011. In March 2011, the first Kaizen using Lean principles which was to decrease patients that leave without being seen in the Emergency Department was completed.
B42: DY Target (from the DPH system plan) or enter "yes" if "yes/no" type of milestone | E42: * | F42: Yes
C44: Achievement Value | F44: =IF(F42=0," ",IF(F32="Yes",1,IF(F32="No",0,IF(F29/F42>=1,1,IF(F29/F42>=0.75,0.75,IF(F29/F42>=0.5,0.5,IF(F29/F42>=0.25,0.25,0))))))) -> 1
B47: Process Milestone: ________________________________
D48: (insert milestone)
B50: Numerator (if N/A, use "yes/no" form below; if absolute number, enter here) | E50: *
B52: Denominator (if absolute number, enter "1") | E52: *
C54: Achievement | F54: =IF(F52>0,F50/F52,IF(F57>0,F57,"N/A")) -> N/A
B56: If "yes/no" as to whether the milestone has been achieved, select "yes" or "no" from the dropdown
B57: menu, and (if "yes") provide an in-depth description of how the milestone was achieved: | E57: *
B67: DY Target (from the DPH system plan) or enter "yes" if "yes/no" type of milestone | E67: *
C69: Achievement Value | F69: =IF(F67=0," ",IF(F57="Yes",1,IF(F57="No",0,IF(F54/F67>=1,1,IF(F54/F67>=0.75,0.75,IF(F54/F67>=0.5,0.5,IF(F54/F67>=0.25,0.25,0)))))))
B72: Process Milestone: ________________________________
D73: (insert milestone)
B75: Numerator (if N/A, use "yes/no" form below; if absolute number, enter here) | E75: *
B77: Denominator (if absolute number, enter "1") | E77: *
...

Sheet Chronic Care Management
A1: ='Total Payment Amount'!A1 -> CA 1115 Waiver - Delivery System Reform Incentive Payments (DSRIP)
A2: ='Total Payment Amount'!B2 -> DPH SYSTEM: | D2: =IF('Total Payment Amount'!D2=0,"",'Total Payment Amount'!D2) -> Ventura County Medical Center
A3: ='Total Payment Amount'!B3 -> REPORTING YEAR: | D3: =IF('Total Payment Amount'!D3=0,"",'Total Payment Amount'!D3) -> DY 6
A4: ='Total Payment Amount'!B4 -> DATE OF SUBMISSION: | D4: =IF('Total Payment Amount'!D4=0,"",'Total Payment Amount'!D4) -> 40678
D5: REPORTING ON THIS PROJECT: | E5: * | F5: Yes
A6: Category 2: Expand Chronic Care Management Models
A8: Below is the data reported for the DPH system.
A9: * | B9: Instructions for DPH systems: Please select above whether you are reporting on this project. If 'yes',
A10: please type in all of your DY milestones for the project below and report data in the indicated boxes (*).
A11: * | C11: The yellow boxes indicate where the DPH system should input data
C12: The black boxes indicate Milestones and will automatically populate and flow to summary sheets
C13: The blue boxes show progress made toward the Milestone ("Achievement Value") and will automatically
C14: populate and flow to summary sheets
A16: Expand Chronic Care Management Models
B18: DY Total Computable Incentive Amount: | E18: * | F18: 3171700
B20: Incentive Funding Already Received in DY: | E20: * | F20: 3171700
D21: Develop a plan for a comprehensive care management program related to diabetes care
B22: Process Milestone: ________________________________
D23: (insert milestone)
B25: Numerator (if N/A, use "yes/no" form below; if absolute number, enter here) | E25: * | F25: Yes
B27: Denominator (if absolute number, enter "1") | E27: *
C29: Achievement | F29: =IF(F27>0,F25/F27,IF(F32>0,F32,"N/A")) -> Yes
B31: If "yes/no" as to whether the milestone has been achieved, select "yes" or "no" from the dropdown
B32: menu, and (if "yes") provide an in-depth description of how the milestone was achieved: | E32: * | F32: Yes
B34: Plan was developed by the Medical Director of Ambulatory Care Specialty Services and Diabetes Care Team to provide comprehensive care management related to diabetic care. Location obtained for care provision was in a space at South Las Islas Clinic. Staff were recruited and hired. This process was completed in January 2011. Physician Assistant in this clinic has completed Diabetic Educator certification in March of 2011. Wound Care training specific to diabetic patient was completed in April 2011 and currently being provided at the center by the facility's physician assistant.
B42: DY Target (from the DPH system plan) or enter "yes" if "yes/no" type of milestone | E42: * | F42: Yes
C44: Achievement Value | F44: =IF(F42=0," ",IF(F32="Yes",1,IF(F32="No",0,IF(F29/F42>=1,1,IF(F29/F42>=0.75,0.75,IF(F29/F42>=0.5,0.5,IF(F29/F42>=0.25,0.25,0))))))) -> 1
B47: Process Milestone: ________________________________
D48: (insert milestone)
B50: Numerator (if N/A, use "yes/no" form below; if absolute number, enter here) | E50: *
B52: Denominator (if absolute number, enter "1") | E52: *
C54: Achievement | F54: =IF(F52>0,F50/F52,IF(F57>0,F57,"N/A")) -> N/A
B56: If "yes/no" as to whether the milestone has been achieved, select "yes" or "no" from the dropdown
B57: menu, and (if "yes") provide an in-depth description of how the milestone was achieved: | E57: *
B67: DY Target (from the DPH system plan) or enter "yes" if "yes/no" type of milestone | E67: *
C69: Achievement Value | F69: =IF(F67=0," ",IF(F57="Yes",1,IF(F57="No",0,IF(F54/F67>=1,1,IF(F54/F67>=0.75,0.75,IF(F54/F67>=0.5,0.5,IF(F54/F67>=0.25,0.25,0)))))))
B72: Process Milestone: ________________________________
D73: (insert milestone)
B75: Numerator (if N/A, use "yes/no" form below; if absolute number, enter here) | E75: *
B77: Denominator (if absolute number, enter "1") | E77: *
...

Sheet Integrate Physical Behavioral
A1: ='Total Payment Amount'!A1 -> CA 1115 Waiver - Delivery System Reform Incentive Payments (DSRIP)
A2: ='Total Payment Amount'!B2 -> DPH SYSTEM: | D2: =IF('Total Payment Amount'!D2=0,"",'Total Payment Amount'!D2) -> Ventura County Medical Center
A3: ='Total Payment Amount'!B3 -> REPORTING YEAR: | D3: =IF('Total Payment Amount'!D3=0,"",'Total Payment Amount'!D3) -> DY 6
A4: ='Total Payment Amount'!B4 -> DATE OF SUBMISSION: | D4: =IF('Total Payment Amount'!D4=0,"",'Total Payment Amount'!D4) -> 40678
D5: REPORTING ON THIS PROJECT: | E5: * | F5: Yes
A6: Category 2: Integrate Physical and Behavioral Health Care
A8: Below is the data reported for the DPH system.
A9: * | B9: Instructions for DPH systems: Please select above whether you are reporting on this project. If 'yes',
A10: please type in all of your DY milestones for the project below and report data in the indicated boxes (*).
A11: * | C11: The yellow boxes indicate where the DPH system should input data
C12: The black boxes indicate Milestones and will automatically populate and flow to summary sheets
C13: The blue boxes show progress made toward the Milestone ("Achievement Value") and will automatically
C14: populate and flow to summary sheets
A16: Integrate Physical and Behavioral Health Care
B18: DY Total Computable Incentive Amount: | E18: * | F18: 6343400
B20: Incentive Funding Already Received in DY: | E20: * | F20: 6343400
D21: Co-locate a primary care clinic to include adult and pediatric behavioral health services
B22: Process Milestone: ________________________________
D23: (insert milestone)
B25: Numerator (if N/A, use "yes/no" form below; if absolute number, enter here) | E25: * | F25: Yes
B27: Denominator (if absolute number, enter "1") | E27: *
C29: Achievement | F29: =IF(F27>0,F25/F27,IF(F32>0,F32,"N/A")) -> Yes
B31: If "yes/no" as to whether the milestone has been achieved, select "yes" or "no" from the dropdown
B32: menu, and (if "yes") provide an in-depth description of how the milestone was achieved: | E32: * | F32: Yes
B34: Formal integration of two primary care clinics with co-locatedBehavioral Health services in two locations: Simi Valley and Fillmore occurred in November of 2010. Simi Valley is in east Ventura County and Fillmore is in the Santa Clara Valley which is a rural location in north eastern Ventura County. Two additional locations are in the planning phase. Architectural drawings were completed in April 2011 for the build out of a co-located clinic in Thousand Oaks. The integration of care allows for referral between primary care and behavioral health in either direction to approach the patient's holistic needs in a collaborative fashion.
B42: DY Target (from the DPH system plan) or enter "yes" if "yes/no" type of milestone | E42: * | F42: Yes
C44: Achievement Value | F44: =IF(F42=0," ",IF(F32="Yes",1,IF(F32="No",0,IF(F29/F42>=1,1,IF(F29/F42>=0.75,0.75,IF(F29/F42>=0.5,0.5,IF(F29/F42>=0.25,0.25,0))))))) -> 1
D46: Provide training for and adopt an evidence-based treatment practice utilizing the IMPACT Collaboartive Trratment Model (Prevention and Early Intervention [PEI] for depression, anxiety, or traumatic stress disorders.
B47: Process Milestone: ________________________________
D48: (insert milestone)
B50: Numerator (if N/A, use "yes/no" form below; if absolute number, enter here) | E50: * | F50: Yes
B52: Denominator (if absolute number, enter "1") | E52: *
C54: Achievement | F54: =IF(F52>0,F50/F52,IF(F57>0,F57,"N/A")) -> Yes
B56: If "yes/no" as to whether the milestone has been achieved, select "yes" or "no" from the dropdown
B57: menu, and (if "yes") provide an in-depth description of how the milestone was achieved: | E57: * | F57: Yes
B59: Training occurred for Medical Directors, primary care clinic champion along with the assigned PE&I Licensed Clinical Social Workers in the IMPACT Model. This training addressed how the providers interact and provide care to patients in need of focused support in the areas of depression, anxiety, or traumatic stress disorders. Licensed Clinical Social Workers were placed in eight (8) Ambulatory Care Clinics with integrated care initiated; practices continue to expand through May 2011.
B67: DY Target (from the DPH system plan) or enter "yes" if "yes/no" type of milestone | E67: * | F67: Yes
C69: Achievement Value | F69: =IF(F67=0," ",IF(F57="Yes",1,IF(F57="No",0,IF(F54/F67>=1,1,IF(F54/F67>=0.75,0.75,IF(F54/F67>=0.5,0.5,IF(F54/F67>=0.25,0.25,0))))))) -> 1
B72: Process Milestone: ________________________________
D73: (insert milestone)
...

Sheet Use Palliative Care Programs
A1: ='Total Payment Amount'!A1 -> CA 1115 Waiver - Delivery System Reform Incentive Payments (DSRIP)
A2: ='Total Payment Amount'!B2 -> DPH SYSTEM: | D2: =IF('Total Payment Amount'!D2=0,"",'Total Payment Amount'!D2) -> Ventura County Medical Center
A3: ='Total Payment Amount'!B3 -> REPORTING YEAR: | D3: =IF('Total Payment Amount'!D3=0,"",'Total Payment Amount'!D3) -> DY 6
A4: ='Total Payment Amount'!B4 -> DATE OF SUBMISSION: | D4: =IF('Total Payment Amount'!D4=0,"",'Total Payment Amount'!D4) -> 40678
D5: REPORTING ON THIS PROJECT: | E5: * | F5: Yes
A6: Category 2: Use Palliative Care Programs
A8: Below is the data reported for the DPH system.
A9: * | B9: Instructions for DPH systems: Please select above whether you are reporting on this project. If 'yes',
A10: please type in all of your DY milestones for the project below and report data in the indicated boxes (*).
A11: * | C11: The yellow boxes indicate where the DPH system should input data
C12: The black boxes indicate Milestones and will automatically populate and flow to summary sheets
C13: The blue boxes show progress made toward the Milestone ("Achievement Value") and will automatically
C14: populate and flow to summary sheets
A16: Use Palliative Care Programs
B18: DY Total Computable Incentive Amount: | E18: * | F18: 6343400
B20: Incentive Funding Already Received in DY: | E20: * | F20: 6343400
D21: Develop plan for Palliative Care Team
B22: Process Milestone: ________________________________
D23: (insert milestone)
B25: Numerator (if N/A, use "yes/no" form below; if absolute number, enter here) | E25: * | F25: Yes
B27: Denominator (if absolute number, enter "1") | E27: *
C29: Achievement | F29: =IF(F27>0,F25/F27,IF(F32>0,F32,"N/A")) -> Yes
B31: If "yes/no" as to whether the milestone has been achieved, select "yes" or "no" from the dropdown
B32: menu, and (if "yes") provide an in-depth description of how the milestone was achieved: | E32: * | F32: Yes
B34: The Palliative Care Team plan was developed to consist of the identified and certified Physicians (2), along with a Registered Nurse, Licensed Clinical Social Worker and a Psychologist. The team was established in January 2011. The two physicians received their letters from the Board that they passed in January 2011 and certified to have "Added Qualifications in Hospice and Palliative Medicine from 2010-2020.
B42: DY Target (from the DPH system plan) or enter "yes" if "yes/no" type of milestone | E42: * | F42: Yes
C44: Achievement Value | F44: =IF(F42=0," ",IF(F32="Yes",1,IF(F32="No",0,IF(F29/F42>=1,1,IF(F29/F42>=0.75,0.75,IF(F29/F42>=0.5,0.5,IF(F29/F42>=0.25,0.25,0))))))) -> 1
B47: Process Milestone: ________________________________
D48: (insert milestone)
B50: Numerator (if N/A, use "yes/no" form below; if absolute number, enter here) | E50: *
B52: Denominator (if absolute number, enter "1") | E52: *
C54: Achievement | F54: =IF(F52>0,F50/F52,IF(F57>0,F57,"N/A")) -> N/A
B56: If "yes/no" as to whether the milestone has been achieved, select "yes" or "no" from the dropdown
B57: menu, and (if "yes") provide an in-depth description of how the milestone was achieved: | E57: *
B67: DY Target (from the DPH system plan) or enter "yes" if "yes/no" type of milestone | E67: *
C69: Achievement Value | F69: =IF(F67=0," ",IF(F57="Yes",1,IF(F57="No",0,IF(F54/F67>=1,1,IF(F54/F67>=0.75,0.75,IF(F54/F67>=0.5,0.5,IF(F54/F67>=0.25,0.25,0)))))))
B72: Process Milestone: ________________________________
D73: (insert milestone)
B75: Numerator (if N/A, use "yes/no" form below; if absolute number, enter here) | E75: *
B77: Denominator (if absolute number, enter "1") | E77: *
...

Sheet Sepsis
A1: ='Total Payment Amount'!A1 -> CA 1115 Waiver - Delivery System Reform Incentive Payments (DSRIP)
A2: ='Total Payment Amount'!B2 -> DPH SYSTEM: | D2: =IF('Total Payment Amount'!D2=0,"",'Total Payment Amount'!D2) -> Ventura County Medical Center
A3: ='Total Payment Amount'!B3 -> REPORTING YEAR: | D3: =IF('Total Payment Amount'!D3=0,"",'Total Payment Amount'!D3) -> DY 6
A4: ='Total Payment Amount'!B4 -> DATE OF SUBMISSION: | D4: =IF('Total Payment Amount'!D4=0,"",'Total Payment Amount'!D4) -> 40678
A5: Category 4: Severe Sepsis Detection and Management (required)
A7: Below is the data reported for the DPH system.
A8: * | B8: Instructions for DPH systems: Please type in all of your DY milestones for the project below and report data
A9: in the indicated boxes (*).
A10: * | C10: The yellow boxes indicate where the DPH system should input data
C11: The black boxes indicate Milestones and will automatically populate and flow to summary sheets
C12: The blue boxes show progress made toward the Milestone ("Achievement Value") and will automatically
C13: populate and flow to summary sheets
A15: Severe Sepsis Detection and Management
B17: DY Total Computable Incentive Amount: | E17: * | F17: 695750
B19: Incentive Funding Already Received in DY: | E19: * | F19: 695750
B21: Compliance with Sepsis Resuscitation bundle (%)
B23: Numerator | E23: *
B25: Denominator | E25: *
C27: % Compliance | F27: =IF(F25>0,F23/F25,IF(F30>0,F30,"N/A")) -> N/A
B29: DY Target (from the DPH system plan) | E29: *
C31: Achievement Value | F31: =IF(F29=0, "", (F27/F29))
B34: Sepis Mortality (%)
B36: Numerator | E36: *
B38: Denominator | E38: *
C40: % Mortality | F40: =IF(F38>0,F36/F38,IF(F43>0,F43,"N/A")) -> N/A
B42: DY Target (from the DPH system plan) | E42: *
C44: Achievement Value | F44: =IF(F42=0,"",(F40/F42))
D46: Designate multidisciplinary team to improve Severe Sepsis Detection and Management
B47: Optional Milestone: ________________________________
D48: (insert milestone)
B50: Numerator (if N/A, use "yes/no" form below; if absolute number, enter here) | E50: * | F50: Yes
B52: Denominator (if absolute number, enter "1") | E52: *
C54: Achievement | F54: =IF(F52>0,F50/F52,IF(F57>0,F57,"N/A")) -> Yes
B56: If "yes/no" as to whether the milestone has been achieved, select "yes" or "no" from the dropdown
B57: menu, and (if "yes") provide an in-depth description of how the milestone was achieved: | E57: * | F57: Yes
B59: A Physician Champion was named to head the Sepsis Taskforce. He has developed a team that consists of Registered Nurses, Respiratory Care Therapists, Clinical Lab Manager, Dietary Manager and other physicians from ICU, Emergency Department and Med/Surg units. This team has reviewed patients data from the past 6 months with diagnosis of Sepsis or Septic Shock. The team continues to develop our Sepsis detection and management process, meeting monthly or more often as needed. Education to the ED staff related to timing of care occurred in April 201. Development of the team and plan for improvement related to Sepsis care is ongoing.
B67: DY Target (from the DPH system plan) or enter "yes" if "yes/no" type of milestone | E67: * | F67: Yes
C69: Achievement Value | F69: =IF(F67=0," ",IF(F57="Yes",1,IF(F57="No",0,IF(F54/F67>=1,1,IF(F54/F67>=0.75,0.75,IF(F54/F67>=0.5,0.5,IF(F54/F67>=0.25,0.25,0))))))) -> 1
B72: Optional Milestone: ________________________________
D73: (insert milestone)
...

Sheet CLABSI
A1: ='Total Payment Amount'!A1 -> CA 1115 Waiver - Delivery System Reform Incentive Payments (DSRIP)
A2: ='Total Payment Amount'!B2 -> DPH SYSTEM: | D2: =IF('Total Payment Amount'!D2=0,"",'Total Payment Amount'!D2) -> Ventura County Medical Center
A3: ='Total Payment Amount'!B3 -> REPORTING YEAR: | D3: =IF('Total Payment Amount'!D3=0,"",'Total Payment Amount'!D3) -> DY 6
A4: ='Total Payment Amount'!B4 -> DATE OF SUBMISSION: | D4: =IF('Total Payment Amount'!D4=0,"",'Total Payment Amount'!D4) -> 40678
A5: Category 4: Central Line Associated Blood Stream Infection (CLABSI) (required)
A7: Below is the data reported for the DPH system.
A8: * | B8: Instructions for DPH systems: Please type in all of your DY milestones for the project below and report data
A9: in the indicated boxes (*).
A10: * | C10: The yellow boxes indicate where the DPH system should input data
C11: The black boxes indicate Milestones and will automatically populate and flow to summary sheets
C12: The blue boxes show progress made toward the Milestone ("Achievement Value") and will automatically
C13: populate and flow to summary sheets
A15: Central Line Associated Blood Stream Infection
B17: DY Total Computable Incentive Amount: | E17: * | F17: 695750
B19: Incentive Funding Already Received in DY: | E19: * | F19: 695750
B21: Compliance with Central Line Insertion Practices (CLIP) (%)
B23: Numerator | E23: *
B25: Denominator | E25: *
C27: % Compliance | F27: =IF(F25>0,F23/F25,IF(F30>0,F30,"N/A")) -> N/A
B29: DY Target (from the DPH system plan) | E29: *
C31: Achievement Value | F31: =IF(F29=0," ",(F27/F29))
B34: Central Line Bloodstream Infection (Rate per 1,000 patient days)
B36: Numerator | E36: *
B38: Denominator | E38: *
C40: Infection Rate | F40: =IF(F38>0,F36/F38,IF(F43>0,F43,"N/A")) -> N/A
B42: DY Target (from the DPH system plan) | E42: *
C44: Achievement Value | F44: =IF(F42=0,"",(F40/F42))
D46: Designate a nultidisciplnary Central Line Associated Bloodstream Infection (CLABSI) Team.
B47: Optional Milestone: ________________________________
D48: (insert milestone)
B50: Numerator (if N/A, use "yes/no" form below; if absolute number, enter here) | E50: * | F50: Yes
B52: Denominator (if absolute number, enter "1") | E52: *
C54: Achievement | F54: =IF(F52>0,F50/F52,IF(F57>0,F57,"N/A")) -> Yes
B56: If "yes/no" as to whether the milestone has been achieved, select "yes" or "no" from the dropdown
B57: menu, and (if "yes") provide an in-depth description of how the milestone was achieved: | E57: * | F57: Yes
B59: A multi-disciplinary team was formed in November 2010 that consists of a Physician Champion, Registered Nurses, Infection Control Officer, Laboratory Manager, and other Physicians. The team developed a plan for data collection process and will provide educational training for staff and physicians during DY7.
B67: DY Target (from the DPH system plan) or enter "yes" if "yes/no" type of milestone | E67: * | F67: Yes
C69: Achievement Value | F69: =IF(F67=0," ",IF(F57="Yes",1,IF(F57="No",0,IF(F54/F67>=1,1,IF(F54/F67>=0.75,0.75,IF(F54/F67>=0.5,0.5,IF(F54/F67>=0.25,0.25,0))))))) -> 1
B72: Optional Milestone: ________________________________
D73: (insert milestone)
...

Sheet SSI
A1: ='Total Payment Amount'!A1 -> CA 1115 Waiver - Delivery System Reform Incentive Payments (DSRIP)
A2: ='Total Payment Amount'!B2 -> DPH SYSTEM: | D2: =IF('Total Payment Amount'!D2=0,"",'Total Payment Amount'!D2) -> Ventura County Medical Center
A3: ='Total Payment Amount'!B3 -> REPORTING YEAR: | D3: =IF('Total Payment Amount'!D3=0,"",'Total Payment Amount'!D3) -> DY 6
A4: ='Total Payment Amount'!B4 -> DATE OF SUBMISSION: | D4: =IF('Total Payment Amount'!D4=0,"",'Total Payment Amount'!D4) -> 40678
D5: REPORTING ON THIS PROJECT: | E5: * | F5: Yes
A6: Category 4: Surgical Site Infection Prevention
A8: Below is the data reported for the DPH system.
A9: * | B9: Instructions for DPH systems: Please select above whether you are reporting on this project. If 'yes',
A10: please type in all of your DY milestones for the project below and report data in the indicated boxes (*).
A11: * | C11: The yellow boxes indicate where the DPH system should input data
C12: The black boxes indicate Milestones and will automatically populate and flow to summary sheets
C13: The blue boxes show progress made toward the Milestone ("Achievement Value") and will automatically
C14: populate and flow to summary sheets
A16: Surgical Site Infection Prevention
B18: DY Total Computable Incentive Amount: | E18: * | F18: 695750
B20: Incentive Funding Already Received in DY: | E20: * | F20: 695750
B22: Rate of surgical site infection for Class 1 and 2 wounds (%)
B24: Numerator | E24: * | F24: Yes
B26: Denominator | E26: *
C28: % Infection Rate | F28: =IF(F26>0,F24/F26,IF(F31>0,F31,"N/A")) -> N/A
B30: DY Target (from the DPH system plan) | E30: *
C32: Achievement Value | F32: =IF(F30=0,"",(F28/F30))
D34: Develop a process to track and report SSI related to procedures reportable to the State of California
B35: Optional Milestone: ________________________________
D36: (insert milestone)
B38: Numerator (if N/A, use "yes/no" form below; if absolute number, enter here) | E38: * | F38: Yes
B40: Denominator (if absolute number, enter "1") | E40: *
C42: Achievement | F42: =IF(F40>0,F38/F40,IF(F45>0,F45,"N/A")) -> Yes
B44: If "yes/no" as to whether the milestone has been achieved, select "yes" or "no" from the dropdown
B45: menu, and (if "yes") provide an in-depth description of how the milestone was achieved: | E45: * | F45: Yes
B47: Infection Control Officer or designee has developed a process which allows for reportable information that are transmitted to the State of California periodically. This process includes data submission from medical records, data input from surgical services and education of staff and physicians to reduce the number of SSI. This process was refined and staff educated on process in January 2011.
B55: DY Target (from the DPH system plan) or enter "yes" if "yes/no" type of milestone | E55: * | F55: Yes
C57: Achievement Value | F57: =IF(F55=0," ",IF(F45="Yes",1,IF(F45="No",0,IF(F42/F55>=1,1,IF(F42/F55>=0.75,0.75,IF(F42/F55>=0.5,0.5,IF(F42/F55>=0.25,0.25,0))))))) -> 1
B60: Optional Milestone: ________________________________
D61: (insert milestone)
B63: Numerator (if N/A, use "yes/no" form below; if absolute number, enter here) | E63: *
B65: Denominator (if absolute number, enter "1") | E65: *
C67: Achievement | F67: =IF(F65>0,F63/F65,IF(F70>0,F70,"N/A")) -> N/A
B69: If "yes/no" as to whether the milestone has been achieved, select "yes" or "no" from the dropdown
B70: menu, and (if "yes") provide an in-depth description of how the milestone was achieved: | E70: *
...

Sheet HAPU
A1: ='Total Payment Amount'!A1 -> CA 1115 Waiver - Delivery System Reform Incentive Payments (DSRIP)
A2: ='Total Payment Amount'!B2 -> DPH SYSTEM: | D2: =IF('Total Payment Amount'!D2=0,"",'Total Payment Amount'!D2) -> Ventura County Medical Center
A3: ='Total Payment Amount'!B3 -> REPORTING YEAR: | D3: =IF('Total Payment Amount'!D3=0,"",'Total Payment Amount'!D3) -> DY 6
A4: ='Total Payment Amount'!B4 -> DATE OF SUBMISSION: | D4: =IF('Total Payment Amount'!D4=0,"",'Total Payment Amount'!D4) -> 40678
D5: REPORTING ON THIS PROJECT: | E5: * | F5: Yes
A6: Category 4: Hospital-Acquired Pressure Ulcer Prevention
A8: Below is the data reported for the DPH system.
A9: * | B9: Instructions for DPH systems: Please select above whether you are reporting on this project. If 'yes',
A10: please type in all of your DY milestones for the project below and report data in the indicated boxes (*).
A11: * | C11: The yellow boxes indicate where the DPH system should input data
C12: The black boxes indicate Milestones and will automatically populate and flow to summary sheets
C13: The blue boxes show progress made toward the Milestone ("Achievement Value") and will automatically
C14: populate and flow to summary sheets
A16: Hospital-Acquired Pressure Ulcer Prevention
B18: DY Total Computable Incentive Amount: | E18: * | F18: 695750
B20: Incentive Funding Already Received in DY: | E20: * | F20: 695750
B22: Prevalence of Stage II, III, IV or unstagable pressure ulcers (%)
B24: Numerator | E24: *
B26: Denominator | E26: *
C28: Prevalence (%) | F28: =IF(F26>0,F24/F26,IF(F31>0,F31,"N/A")) -> N/A
B30: DY Target (from the DPH system plan) | E30: *
C32: Achievement Value | F32: =IF(F30=0,"",(F28/F30))
D34: Join a collaborative related to decreasing the occurrence of hospital acquired pressure ulcers (HAPU)
B35: Optional Milestone: ________________________________
D36: (insert milestone)
B38: Numerator (if N/A, use "yes/no" form below; if absolute number, enter here) | E38: * | F38: Yes
B40: Denominator (if absolute number, enter "1") | E40: *
C42: Achievement | F42: =IF(F40>0,F38/F40,IF(F45>0,F45,"N/A")) -> Yes
B44: If "yes/no" as to whether the milestone has been achieved, select "yes" or "no" from the dropdown
B45: menu, and (if "yes") provide an in-depth description of how the milestone was achieved: | E45: * | F45: Yes
B47: VCMC was chosen by Kaiser Foundation to participate in a HAPU educational process. This allowed VCMC to establish a HAPU team, which occurred in December 2010. This team consists of Registered Nurses, Dieticians, Physical Therapists and Physicians. In April 2011, one VCMC RN completed a Wound Certification course and passed the test. She is now part of the HAPU team.
B55: DY Target (from the DPH system plan) or enter "yes" if "yes/no" type of milestone | E55: * | F55: Yes
C57: Achievement Value | F57: =IF(F55=0," ",IF(F45="Yes",1,IF(F45="No",0,IF(F42/F55>=1,1,IF(F42/F55>=0.75,0.75,IF(F42/F55>=0.5,0.5,IF(F42/F55>=0.25,0.25,0))))))) -> 1
B60: Optional Milestone: ________________________________
D61: (insert milestone)
B63: Numerator (if N/A, use "yes/no" form below; if absolute number, enter here) | E63: *
B65: Denominator (if absolute number, enter "1") | E65: *
C67: Achievement | F67: =IF(F65>0,F63/F65,IF(F70>0,F70,"N/A")) -> N/A
B69: If "yes/no" as to whether the milestone has been achieved, select "yes" or "no" from the dropdown
B70: menu, and (if "yes") provide an in-depth description of how the milestone was achieved: | E70: *
...

Sheet Sheet1
A1: Yes
A2: No

Sheet Sheet4
A1: Alameda County Medical Center
A2: Arrowhead Regional Medical Center
A3: Contra Costa Regional Medical Center and Health Centers
A4: Kern Medical Center
A5: Los Angeles County Department of Health Services
A6: Natividad Medical Center
A7: Riverside County Regional Medical Center
A8: Santa Clara Valley Medical Center
A9: San Francisco General Hospital & Trauma Center
A10: San Joaquin General Hospital
A11: San Mateo Medical Center
A12: The University of California, Davis Medical Center
... A17: Ventura County Medical Center

Sheet Sheet5
A1: DY 6
A2: DY 7
A3: DY 8
A4: DY 9
A5: DY 10

Sheet Sheet48
A1: Manually (sample)
A2: Registry
A3: Data warehouse
A4: Practice management system
A5: Electronic medical record (EMR)
