Workbook
Name \I: '7990RES-P'!$K$789:$K$789
Name \I: #REF!
Name \I2: '7990RES-P'!$K$791:$K$791
Name \I2: #REF!
Name \I3: '7990RES-P'!$K$793:$K$793
Name \I3: #REF!
Name \I4: '7990RES-P'!$K$794:$K$794
Name \I4: #REF!
Name \I5: '7990RES-P'!$K$795:$K$795
Name \I5: #REF!
Name \I6: '7990RES-P'!$K$796:$K$796
Name \I6: #REF!
Name \I7: '7990RES-P'!$K$797:$K$797
Name \I7: #REF!
Name \I8: '7990RES-P'!$K$798:$K$798
Name \I8: #REF!
Name \I9: '7990RES-P'!$K$799:$K$799
Name \I9: #REF!
Name _1_5: '7990RES-P'!$J$762:$J$763
Name _2_5: #REF!
Name BACKA: #REF!
Name BACKB: #REF!
Name BACKC: #REF!
Name BACKD: #REF!
Name BLOCK: #REF!
Name REPORT: '7990RES-P'!$A$1:$I$88
Name REPORT: #REF!

Sheet Data Entry Sheet
B1: Data Entry Sheet - FY 2012-13 Cost Report
B2: RES - Perinatal
C4: County Name
C5: Contractor/Provider Name
C6: Contract Number
C7: 4-digit DMC Number
C8: 6-digit Provider Number
B10: COST INFORMATION
B12: Private Pay | C12: Drug Medi-Cal | D12: NNA/Public Funded
E13: Personnel Services
E14: Salary and Wages
E15: Employee Benefits
E16: Direct Services
E17: Clothing and Personal Supplies
E18: Food
E19: Laundry Services and Supplies
E20: Pharmaceutical
E21: Other
E22: Equipment, Materials and Supplies
E23: Depreciation - Equipment
E24: Maintenance - Equipment
... E58: Direct Costs (only if both NNA and DMC funding is identified)
B60: FEES, INSURANCE, UNIT INFORMATION
B62: Private Pay | C62: Drug Medi-Cal | D62: NNA/Public Funded
E63: Participant Fees
E64: Insurance, Medicare and Other Third Party
E65: Individual Face to Face Visits
E66: Group Face to Face Visits
E67: Daycare Day (non Minor Consent)
E68: Residential Day
E69: Other - Minor Consent
D70: =+-C70 -> 0 | E70: Adjustments for DMC Denied/Unallowed Units - MUST BE POSITIVE
E71: Group Sessions
E72: Staff Hours
B74: Drug Medi-Cal Reconciliation of Claims (Units)
B75: Submitted | C75: Denied | D75: Adjusted/Erroneous
E76: Reporting Period - July through June
E77: 2nd Reporting Period - October through June
E78: 3rd Reporting Period - April through June
E79: Minor Consent - July through September - Title XIX
...

Sheet 7895RES-P
B2: DRUG MEDI-CAL FISCAL DETAIL
B3: REPORT OF EXPENDITURES AND REVENUES
B4: =MID('Data Entry Sheet'!B1,FIND("FY",'Data Entry Sheet'!B1),10) -> FY 2012-13
C6: SUMMARY
B8: COUNTY | C8: =('Data Entry Sheet'!B4) -> 0
B9: CONTRACTOR | C9: =('Data Entry Sheet'!B5) -> 0 | E9: MEDI-CAL PROV. NO. | G9: =('Data Entry Sheet'!B7) -> 0
B10: CONTRACT NUMBER | C10: =('Data Entry Sheet'!B6) -> 0 | E10: CADDS PROVIDER NO. | G10: =('Data Entry Sheet'!B8) -> 0
B13: TYPE OF PROGRAM - RES - Perinatal
D14: A | E14: B | F14: C | G14: D | H14: E
D15: TOTAL | E15: PRIVATE | H15: TOTAL MC
B16: CATEGORIES | D16: PROGRAM | E16: PAY | F16: MEDI-CAL | G16: FUNDED
B17: A. PERSONNEL SERVICES | D17: =E17+F17+G17 -> 0 | E17: =E48 -> 0 | F17: =F48 -> 0 | G17: =G48 -> 0 | H17: =F17+G17 -> 0
B18: B. DIRECT SERVICES | D18: =E18+F18+G18 -> 0 | E18: =E55 -> 0 | F18: =F55 -> 0 | G18: =G55 -> 0 | H18: =F18+G18 -> 0
B19: C. EQUIPMENT MATERIALS & SUPPLIES | D19: =E19+F19+G19 -> 0 | E19: =E65 -> 0 | F19: =F65 -> 0 | G19: =G65 -> 0 | H19: =F19+G19 -> 0
B20: D. OTHER OPERATING EXPENSES | D20: =E20+F20+G20 -> 0 | E20: =E82 -> 0 | F20: =F82 -> 0 | G20: =G82 -> 0 | H20: =F20+G20 -> 0
B21: E. PROFESSIONAL & SPECIAL SERVICES | D21: =E21+F21+G21 -> 0 | E21: =E83 -> 0 | F21: =F83 -> 0 | G21: =G83 -> 0 | H21: =F21+G21 -> 0
B22: F. TRANSPORTATION | D22: =E22+F22+G22 -> 0 | E22: =E90 -> 0 | F22: =F90 -> 0 | G22: =G90 -> 0 | H22: =F22+G22 -> 0
B23: G. INDIRECT COSTS | D23: =E23+F23+G23 -> 0 | E23: =E92 -> 0 | F23: =F92 -> 0 | G23: =G92 -> 0 | H23: =F23+G23 -> 0
B24: G1. COUNTY ADMINISTRATION | D24: =E24+F24+G24 -> 0 | F24: =F94 -> 0 | H24: =F24+G24 -> 0
B25: TOTAL GROSS COSTS | D25: =SUM(D17:D24) -> 0 | E25: =SUM(E17:E24) -> 0 | F25: =SUM(F17:F24) -> 0 | G25: =SUM(G17:G24) -> 0 | H25: =SUM(H17:H24) -> 0
B26: REVENUES
B27: H. PARTICIPANT FEES (SHARE OF COSTS) | D27: =E27+F27+G27 -> 0 | E27: =('Data Entry Sheet'!B63) -> 0 | F27: =('Data Entry Sheet'!C63) -> 0 | G27: =('Data Entry Sheet'!D63) -> 0 | H27: =F27+G27 -> 0
B28: I. INSURANCE, MEDICARE, & OTHER THIRD PARTY | D28: =E28+F28+G28 -> 0 | E28: =('Data Entry Sheet'!B64) -> 0 | F28: =('Data Entry Sheet'!C64) -> 0 | G28: =('Data Entry Sheet'!D64) -> 0 | H28: =F28+G28 -> 0
B29: NET COSTS (GROSS COSTS LESS LINES H,I) | D29: =SUM(D25-D27-D28) -> 0 | E29: =SUM(E25-E27-E28) -> 0 | F29: =SUM(F25-F27-F28) -> 0 | G29: =SUM(G25-G27-G28) -> 0 | H29: =SUM(H25-H27-H28) -> 0
B30: UNITS OF SERVICE
B31: L. INDIVIDUAL FACE TO FACE VISITS | D31: =E31+F31+G31 -> 0 | E31: =('Data Entry Sheet'!B65) -> 0 | F31: =('Data Entry Sheet'!C65) -> 0 | G31: =('Data Entry Sheet'!D65) -> 0 | H31: =F31+G31 -> 0
B32: M. GROUP FACE TO FACE VISITS | D32: =E32+F32+G32 -> 0 | E32: =('Data Entry Sheet'!B66) -> 0 | F32: =('Data Entry Sheet'!C66) -> 0 | G32: =('Data Entry Sheet'!D66) -> 0 | H32: =F32+G32 -> 0
B33: N. DAYCARE DAY | D33: =E33+F33+G33 -> 0 | E33: =('Data Entry Sheet'!B67) -> 0 | F33: =('Data Entry Sheet'!C67) -> 0 | G33: =('Data Entry Sheet'!D67) -> 0 | H33: =F33+G33 -> 0
B34: O. RESIDENTIAL DAY | D34: =E34+F34+G34 -> 0 | E34: =('Data Entry Sheet'!B68) -> 0 | F34: ='Data Entry Sheet'!C68-'7990RES-P'!E40-'7990RES-P'!E41-'7990RES-P'!F40-'7990RES-P'!F41 -> 0 | G34: =('Data Entry Sheet'!D68) -> 0 | H34: =F34+G34 -> 0
B35: P. OTHER (Specify) - MINOR CONSENT | D35: =E35+F35+G35 -> 0 | E35: =('Data Entry Sheet'!B69) -> 0 | F35: ='Data Entry Sheet'!C69-'7990RES-P'!E43-'7990RES-P'!E44-'7990RES-P'!E46-'7990RES-P'!E47-'7990RES-P'!F43-'7990RES-P'!F44-'7990RES-P'!F46-'7990RES-P'!F47 -> 0 | G35: =('Data Entry Sheet'!D69) -> 0 | H35: =F35+G35 -> 0
B36: Q. TOTAL | D36: =SUM(D31:D35) -> 0 | E36: =SUM(E31:E35) -> 0 | F36: =SUM(F31:F35) -> 0 | G36: =SUM(G31:G35) -> 0 | H36: =F36+G36 -> 0
B37: Q1. ADJUSTMENT FOR DMC DENIED/UNALLOWABLE UNITS | D37: =E37+F37+G37 -> 0 | E37: =('Data Entry Sheet'!B70) -> 0 | F37: =('Data Entry Sheet'!C70) -> 0 | G37: =+(-F37) -> 0 | H37: =F37+G37 -> 0
B38: Q2. ADJUSTED TOTAL | D38: =+D37+D36 -> 0 | E38: =+E36+E37 -> 0 | F38: =+F36+F37 -> 0 | G38: =+G36+G37 -> 0 | H38: =F38+G38 -> 0
B39: R. GROUP SESSIONS | D39: =E39+F39+G39 -> 0 | E39: =('Data Entry Sheet'!B71) -> 0 | F39: =('Data Entry Sheet'!C71) -> 0 | G39: =('Data Entry Sheet'!D71) -> 0 | H39: =F39+G39 -> 0
B40: S. STAFF HOURS (DIRECT SVCS - COUNSELING, MEDICAL, ETC.) | D40: =E40+F40+G40 -> 0 | E40: =('Data Entry Sheet'!B72) -> 0 | G40: =('Data Entry Sheet'!D72) -> 0 | H40: =F40+G40 -> 0
B41: T. COST PER UNIT OF SERVICE (UNITS) (GROSS COSTS/LINE Q) | D41: =IF(OR(D25=0,D38=0),0,SUM(D25/D38)) -> 0 | E41: =IF(OR(E25=0,E38=0),0,SUM(E25/E38)) -> 0 | F41: =IF(OR(F25=0,F38=0),0,SUM(F25/F38)) -> 0 | G41: =IF(OR(G25=0,G38=0),0,SUM(G25/G38)) -> 0 | H41: =IF(OR(H25=0,H38=0),0,SUM(H25/H38)) -> 0
B42: U. COST PER STAFF HOUR (GROSS COSTS/LINE S) | D42: =IF(OR(D25=0,D40=0),0,SUM(D25/D40)) -> 0 | E42: =IF(OR(E25=0,E40=0),0,SUM(E25/E40)) -> 0 | F42: =IF(OR(F25=0,F40=0),0,SUM(F25/F40)) -> 0 | H42: =IF(OR(H25=0,H40=0),0,SUM(H25/H40)) -> 0
D43: TOTAL | E43: PRIVATE | H43: TOTAL MC
B44: CATEGORIES | D44: PROGRAM | E44: PAY | F44: MEDI-CAL | G44: FUNDED
B45: PERSONNEL SERVICES
...

Sheet 7990RES-P
A2: DRUG MEDI-CAL FISCAL DETAIL
A3: DRUG MEDI-CAL PROGRAM COST SUMMARY
A4: ='7895RES-P'!B4 -> FY 2012-13
A6: 7990 - RES - Perinatal
A8: COUNTY | B8: =('7895RES-P'!C8) -> 0 | D8: MEDI-CAL PROV. NUMBER | F8: =('7895RES-P'!G9) -> 0
A9: PROVIDER | B9: =('7895RES-P'!C9) -> 0 | D9: CADDS PROVIDER NUMBER | F9: =('7895RES-P'!G10) -> 0
A10: Co. NUMBER | B10: =('7895RES-P'!C10) -> 0
C13: ADJUSTMENT OF TOTAL COST
D14: 1 | E14: 2 | F14: 3 | G14: 4 | H14: 5
D15: TOTAL | E15: LESS DIRECT | F15: LESS DIRECT
D16: DMC | E16: NNA | F16: DMC | G16: ADJUSTED
B17: CATEGORY | D17: PROVIDER COSTS | E17: COSTS | F17: COSTS | G17: PROGRAM COST
B18: A. PERSONNEL SERVICES | D18: =('7895RES-P'!F17) -> 0
B19: B. DIRECT SERVICES | D19: =('7895RES-P'!F18) -> 0
B20: C. EQUIPMENT, MATERIAL, & SUPPLIES | D20: =('7895RES-P'!F19) -> 0
B21: D. OTHER OPERATION EXPENSES | D21: =('7895RES-P'!F20) -> 0
B22: E. PROFESSIONAL & SPECIAL SERVICES | D22: =('7895RES-P'!F21) -> 0
B23: F. TRANSPORTATION | D23: =('7895RES-P'!F22) -> 0 | H23: DMC
B24: G. INDIRECT COSTS | D24: =('7895RES-P'!F23) -> 0 | H24: COUNTY
B25: G1. DMC COUNTY ADMINISTRATION | D25: ='7895RES-P'!F94 -> 0 | H25: ADMIN
B26: H. TOTAL COSTS | D26: =SUM(D18:D25) -> 0 | E26: =('7895RES-P'!G97) -> 0 | F26: =('7895RES-P'!F97) -> 0 | G26: =SUM(D26-E26-F26) -> 0 | H26: =('7895RES-P'!F24) -> 0
C28: MEDI-CAL PROVIDER COST CALCULATION
F31: TOTAL
A32: 01 | B32: TOTAL SERVICE COSTS | F32: =SUM(G26-H26) -> 0 | I32: =IF(ISBLANK(A32),"",A32) -> 01
A33: 02 | B33: TOTAL SERVICE UNITS | F33: =+H53 -> 0 | I33: =IF(ISBLANK(A33),"",A33) -> 02
A34: 03 | B34: COST PER UNIT OF SERVICE | F34: =IF(OR(F32=0,F33=0),0,SUM(F32/F33)) -> 0 | I34: =IF(ISBLANK(A34),"",A34) -> 03
A35: 04 | B35: STATEWIDE MAXIMUM ALLOWABLE RATE | F35: 96.28 | I35: =IF(ISBLANK(A35),"",A35) -> 04
F37: ADJUSTED/ | G37: TOTAL
D38: TOTAL UNITS | E38: DENIED | F38: ERRONEOUS | G38: DMC UNITS
A39: DRUG MEDI-CAL (DMC) RECONCILIATION OF CLAIMS (UNITS) | D39: SUBMITTED | E39: UNITS | F39: UNITS
A40: 04a | B40: Reporting Period - July through June | D40: ='Data Entry Sheet'!B76 -> 0 | E40: ='Data Entry Sheet'!C76 -> 0 | F40: ='Data Entry Sheet'!D76 -> 0 | G40: =SUM(D40-E40-F40) -> 0 | I40: =IF(ISBLANK(A40),"",A40) -> 04a
A41: 04b | B41: 2nd Reporting Period - October through June | D41: ='Data Entry Sheet'!B77 -> 0 | E41: ='Data Entry Sheet'!C77 -> 0 | F41: ='Data Entry Sheet'!D77 -> 0 | I41: =IF(ISBLANK(A41),"",A41) -> 04b
A42: 04c | B42: 3nd Reporting Period - April thru June | D42: ='Data Entry Sheet'!B78 -> 0 | E42: ='Data Entry Sheet'!C78 -> 0 | F42: ='Data Entry Sheet'!D78 -> 0 | G42: =SUM(D42-E42-F42) -> 0 | I42: =IF(ISBLANK(A42),"",A42) -> 04c
A43: 04c1 | B43: Minor Consent - July through September - Title XIX Clients | D43: ='Data Entry Sheet'!B79 -> 0 | E43: ='Data Entry Sheet'!C79 -> 0 | F43: ='Data Entry Sheet'!D79 -> 0 | G43: =SUM(D43-E43-F43) -> 0 | I43: =IF(ISBLANK(A43),"",A43) -> 04c1
A44: 04c2 | B44: Minor Consent - October through June - Title XIX Clients | D44: ='Data Entry Sheet'!B80 -> 0 | E44: ='Data Entry Sheet'!C80 -> 0 | F44: ='Data Entry Sheet'!D80 -> 0 | G44: =SUM(D44-E44-F44) -> 0 | I44: =IF(ISBLANK(A44),"",A44) -> 04c2
A45: 04c3 | B45: Minor Consent - April thru June - 7N AID Code Clients | D45: ='Data Entry Sheet'!B81 -> 0 | E45: ='Data Entry Sheet'!C81 -> 0 | F45: ='Data Entry Sheet'!D81 -> 0 | G45: =SUM(D45-E45-F45) -> 0 | I45: =IF(ISBLANK(A45),"",A45) -> 04c3
A46: 04c4 | B46: Minor Consent - July through June - Non-Title XIX 100% local revenue | D46: N/A | F46: ='Data Entry Sheet'!D82 -> 0 | I46: =IF(ISBLANK(A46),"",A46) -> 04c4
A47: 04c5 | B47: Non-Minor Consent - 100% SGF July through June | D47: ='Data Entry Sheet'!B83 -> 0 | E47: ='Data Entry Sheet'!C83 -> 0 | F47: ='Data Entry Sheet'!D83 -> 0 | G47: =SUM(D47-E47-F47) -> 0 | I47: =IF(ISBLANK(A47),"",A47) -> 04c5
C48: TOTAL | D48: =D40 -> 0 | E48: =E40 -> 0 | F48: =SUM(F40:F47) -> 0 | G48: =G40 -> 0
D50: BEGINNING | E50: DMC | F50: FINAL | G50: FINAL | H50: TOTAL NNA
...
